BEGIN:VCALENDAR
VERSION:2.0
PRODID:-//AA Area 87 - ECPv6.15.17//NONSGML v1.0//EN
CALSCALE:GREGORIAN
METHOD:PUBLISH
X-WR-CALNAME:AA Area 87
X-ORIGINAL-URL:https://www.aa87.org/en/
X-WR-CALDESC:Events for AA Area 87
REFRESH-INTERVAL;VALUE=DURATION:PT1H
X-Robots-Tag:noindex
X-PUBLISHED-TTL:PT1H
BEGIN:VTIMEZONE
TZID:America/Toronto
BEGIN:DAYLIGHT
TZOFFSETFROM:-0500
TZOFFSETTO:-0400
TZNAME:EDT
DTSTART:20250309T070000
END:DAYLIGHT
BEGIN:STANDARD
TZOFFSETFROM:-0400
TZOFFSETTO:-0500
TZNAME:EST
DTSTART:20251102T060000
END:STANDARD
BEGIN:DAYLIGHT
TZOFFSETFROM:-0500
TZOFFSETTO:-0400
TZNAME:EDT
DTSTART:20260308T070000
END:DAYLIGHT
BEGIN:STANDARD
TZOFFSETFROM:-0400
TZOFFSETTO:-0500
TZNAME:EST
DTSTART:20261101T060000
END:STANDARD
BEGIN:DAYLIGHT
TZOFFSETFROM:-0500
TZOFFSETTO:-0400
TZNAME:EDT
DTSTART:20270314T070000
END:DAYLIGHT
BEGIN:STANDARD
TZOFFSETFROM:-0400
TZOFFSETTO:-0500
TZNAME:EST
DTSTART:20271107T060000
END:STANDARD
BEGIN:DAYLIGHT
TZOFFSETFROM:-0500
TZOFFSETTO:-0400
TZNAME:EDT
DTSTART:20280312T070000
END:DAYLIGHT
BEGIN:STANDARD
TZOFFSETFROM:-0400
TZOFFSETTO:-0500
TZNAME:EST
DTSTART:20281105T060000
END:STANDARD
BEGIN:DAYLIGHT
TZOFFSETFROM:-0500
TZOFFSETTO:-0400
TZNAME:EDT
DTSTART:20290311T070000
END:DAYLIGHT
BEGIN:STANDARD
TZOFFSETFROM:-0400
TZOFFSETTO:-0500
TZNAME:EST
DTSTART:20291104T060000
END:STANDARD
END:VTIMEZONE
BEGIN:VEVENT
DTSTART;TZID=America/Toronto:20260521T190000
DTEND;TZID=America/Toronto:20260521T210000
DTSTAMP:20260421T114631
CREATED:20251229T214552Z
LAST-MODIFIED:20251229T215331Z
UID:10033824-1779390000-1779397200@www.aa87.org
SUMMARY:District 87-06 GSR Meeting
DESCRIPTION:Monthly meeting in person.
URL:https://www.aa87.org/en/evenement/reunion-des-rsg-du-district-87-06/2026-05-21/
LOCATION:Parish of the Resurrection\, St-Andrew and St-Mark’s Church\, 865 Lakeshore drive\, Dorval\, 865 Lakeshore drive\, Dorval\, Québec\, H9S 2C7\, Canada
CATEGORIES:District 06,District AA87
ORGANIZER;CN="District 6%2C West Island":MAILTO:district06@aa87.org
END:VEVENT
BEGIN:VEVENT
DTSTART;TZID=America/Toronto:20260618T190000
DTEND;TZID=America/Toronto:20260618T210000
DTSTAMP:20260421T114631
CREATED:20251229T214552Z
LAST-MODIFIED:20251229T215331Z
UID:10033825-1781809200-1781816400@www.aa87.org
SUMMARY:District 87-06 GSR Meeting
DESCRIPTION:Monthly meeting in person.
URL:https://www.aa87.org/en/evenement/reunion-des-rsg-du-district-87-06/2026-06-18/
LOCATION:Parish of the Resurrection\, St-Andrew and St-Mark’s Church\, 865 Lakeshore drive\, Dorval\, 865 Lakeshore drive\, Dorval\, Québec\, H9S 2C7\, Canada
CATEGORIES:District 06,District AA87
ORGANIZER;CN="District 6%2C West Island":MAILTO:district06@aa87.org
END:VEVENT
BEGIN:VEVENT
DTSTART;TZID=America/Toronto:20260829T100000
DTEND;TZID=America/Toronto:20260829T170000
DTSTAMP:20260421T114631
CREATED:20260228T233558Z
LAST-MODIFIED:20260326T182538Z
UID:10039391-1787997600-1788022800@www.aa87.org
SUMMARY:Correctional Facilities Day
DESCRIPTION:View the event announcement
URL:https://www.aa87.org/en/evenement/journee-des-centres-de-detention-2026/
LOCATION:Cedar Park United Church 204 Lakeview Ave.\, Pointe-Claire\, H9S 4C5\, Québec\, Canada
CATEGORIES:Activité,Correctional Facilities,Detention centers,District 06,District 10,District AA87
ORGANIZER;CN="District 6%2C West Island":MAILTO:district06@aa87.org
END:VEVENT
BEGIN:VEVENT
DTSTART;TZID=America/Toronto:20260917T190000
DTEND;TZID=America/Toronto:20260917T210000
DTSTAMP:20260421T114631
CREATED:20251229T214552Z
LAST-MODIFIED:20251229T215331Z
UID:10033826-1789671600-1789678800@www.aa87.org
SUMMARY:District 87-06 GSR Meeting
DESCRIPTION:Monthly meeting in person.
URL:https://www.aa87.org/en/evenement/reunion-des-rsg-du-district-87-06/2026-09-17/
LOCATION:Parish of the Resurrection\, St-Andrew and St-Mark’s Church\, 865 Lakeshore drive\, Dorval\, 865 Lakeshore drive\, Dorval\, Québec\, H9S 2C7\, Canada
CATEGORIES:District 06,District AA87
ORGANIZER;CN="District 6%2C West Island":MAILTO:district06@aa87.org
END:VEVENT
BEGIN:VEVENT
DTSTART;TZID=America/Toronto:20261015T190000
DTEND;TZID=America/Toronto:20261015T210000
DTSTAMP:20260421T114631
CREATED:20251229T214552Z
LAST-MODIFIED:20251229T215331Z
UID:10033827-1792090800-1792098000@www.aa87.org
SUMMARY:District 87-06 GSR Meeting
DESCRIPTION:Monthly meeting in person.
URL:https://www.aa87.org/en/evenement/reunion-des-rsg-du-district-87-06/2026-10-15/
LOCATION:Parish of the Resurrection\, St-Andrew and St-Mark’s Church\, 865 Lakeshore drive\, Dorval\, 865 Lakeshore drive\, Dorval\, Québec\, H9S 2C7\, Canada
CATEGORIES:District 06,District AA87
ORGANIZER;CN="District 6%2C West Island":MAILTO:district06@aa87.org
END:VEVENT
BEGIN:VEVENT
DTSTART;TZID=America/Toronto:20261119T190000
DTEND;TZID=America/Toronto:20261119T210000
DTSTAMP:20260421T114631
CREATED:20251229T214552Z
LAST-MODIFIED:20251229T215331Z
UID:10033828-1795114800-1795122000@www.aa87.org
SUMMARY:District 87-06 GSR Meeting
DESCRIPTION:Monthly meeting in person.
URL:https://www.aa87.org/en/evenement/reunion-des-rsg-du-district-87-06/2026-11-19/
LOCATION:Parish of the Resurrection\, St-Andrew and St-Mark’s Church\, 865 Lakeshore drive\, Dorval\, 865 Lakeshore drive\, Dorval\, Québec\, H9S 2C7\, Canada
CATEGORIES:District 06,District AA87
ORGANIZER;CN="District 6%2C West Island":MAILTO:district06@aa87.org
END:VEVENT
BEGIN:VEVENT
DTSTART;TZID=America/Toronto:20261217T190000
DTEND;TZID=America/Toronto:20261217T210000
DTSTAMP:20260421T114631
CREATED:20251229T214552Z
LAST-MODIFIED:20251229T215331Z
UID:10033829-1797534000-1797541200@www.aa87.org
SUMMARY:District 87-06 GSR Meeting
DESCRIPTION:Monthly meeting in person.
URL:https://www.aa87.org/en/evenement/reunion-des-rsg-du-district-87-06/2026-12-17/
LOCATION:Parish of the Resurrection\, St-Andrew and St-Mark’s Church\, 865 Lakeshore drive\, Dorval\, 865 Lakeshore drive\, Dorval\, Québec\, H9S 2C7\, Canada
CATEGORIES:District 06,District AA87
ORGANIZER;CN="District 6%2C West Island":MAILTO:district06@aa87.org
END:VEVENT
BEGIN:VEVENT
DTSTART;TZID=America/Toronto:20270121T190000
DTEND;TZID=America/Toronto:20270121T210000
DTSTAMP:20260421T114631
CREATED:20251229T214552Z
LAST-MODIFIED:20251229T215331Z
UID:10033830-1800558000-1800565200@www.aa87.org
SUMMARY:District 87-06 GSR Meeting
DESCRIPTION:Monthly meeting in person.
URL:https://www.aa87.org/en/evenement/reunion-des-rsg-du-district-87-06/2027-01-21/
LOCATION:Parish of the Resurrection\, St-Andrew and St-Mark’s Church\, 865 Lakeshore drive\, Dorval\, 865 Lakeshore drive\, Dorval\, Québec\, H9S 2C7\, Canada
CATEGORIES:District 06,District AA87
ORGANIZER;CN="District 6%2C West Island":MAILTO:district06@aa87.org
END:VEVENT
BEGIN:VEVENT
DTSTART;TZID=America/Toronto:20270218T190000
DTEND;TZID=America/Toronto:20270218T210000
DTSTAMP:20260421T114631
CREATED:20251229T214552Z
LAST-MODIFIED:20251229T215331Z
UID:10033831-1802977200-1802984400@www.aa87.org
SUMMARY:District 87-06 GSR Meeting
DESCRIPTION:Monthly meeting in person.
URL:https://www.aa87.org/en/evenement/reunion-des-rsg-du-district-87-06/2027-02-18/
LOCATION:Parish of the Resurrection\, St-Andrew and St-Mark’s Church\, 865 Lakeshore drive\, Dorval\, 865 Lakeshore drive\, Dorval\, Québec\, H9S 2C7\, Canada
CATEGORIES:District 06,District AA87
ORGANIZER;CN="District 6%2C West Island":MAILTO:district06@aa87.org
END:VEVENT
BEGIN:VEVENT
DTSTART;TZID=America/Toronto:20270318T190000
DTEND;TZID=America/Toronto:20270318T210000
DTSTAMP:20260421T114631
CREATED:20251229T214552Z
LAST-MODIFIED:20251229T215331Z
UID:10033832-1805396400-1805403600@www.aa87.org
SUMMARY:District 87-06 GSR Meeting
DESCRIPTION:Monthly meeting in person.
URL:https://www.aa87.org/en/evenement/reunion-des-rsg-du-district-87-06/2027-03-18/
LOCATION:Parish of the Resurrection\, St-Andrew and St-Mark’s Church\, 865 Lakeshore drive\, Dorval\, 865 Lakeshore drive\, Dorval\, Québec\, H9S 2C7\, Canada
CATEGORIES:District 06,District AA87
ORGANIZER;CN="District 6%2C West Island":MAILTO:district06@aa87.org
END:VEVENT
BEGIN:VEVENT
DTSTART;TZID=America/Toronto:20270415T190000
DTEND;TZID=America/Toronto:20270415T210000
DTSTAMP:20260421T114631
CREATED:20251229T214552Z
LAST-MODIFIED:20251229T215331Z
UID:10033833-1807815600-1807822800@www.aa87.org
SUMMARY:District 87-06 GSR Meeting
DESCRIPTION:Monthly meeting in person.
URL:https://www.aa87.org/en/evenement/reunion-des-rsg-du-district-87-06/2027-04-15/
LOCATION:Parish of the Resurrection\, St-Andrew and St-Mark’s Church\, 865 Lakeshore drive\, Dorval\, 865 Lakeshore drive\, Dorval\, Québec\, H9S 2C7\, Canada
CATEGORIES:District 06,District AA87
ORGANIZER;CN="District 6%2C West Island":MAILTO:district06@aa87.org
END:VEVENT
BEGIN:VEVENT
DTSTART;TZID=America/Toronto:20270520T190000
DTEND;TZID=America/Toronto:20270520T210000
DTSTAMP:20260421T114631
CREATED:20251229T214552Z
LAST-MODIFIED:20251229T215331Z
UID:10033834-1810839600-1810846800@www.aa87.org
SUMMARY:District 87-06 GSR Meeting
DESCRIPTION:Monthly meeting in person.
URL:https://www.aa87.org/en/evenement/reunion-des-rsg-du-district-87-06/2027-05-20/
LOCATION:Parish of the Resurrection\, St-Andrew and St-Mark’s Church\, 865 Lakeshore drive\, Dorval\, 865 Lakeshore drive\, Dorval\, Québec\, H9S 2C7\, Canada
CATEGORIES:District 06,District AA87
ORGANIZER;CN="District 6%2C West Island":MAILTO:district06@aa87.org
END:VEVENT
BEGIN:VEVENT
DTSTART;TZID=America/Toronto:20270617T190000
DTEND;TZID=America/Toronto:20270617T210000
DTSTAMP:20260421T114631
CREATED:20251229T214552Z
LAST-MODIFIED:20251229T215331Z
UID:10033835-1813258800-1813266000@www.aa87.org
SUMMARY:District 87-06 GSR Meeting
DESCRIPTION:Monthly meeting in person.
URL:https://www.aa87.org/en/evenement/reunion-des-rsg-du-district-87-06/2027-06-17/
LOCATION:Parish of the Resurrection\, St-Andrew and St-Mark’s Church\, 865 Lakeshore drive\, Dorval\, 865 Lakeshore drive\, Dorval\, Québec\, H9S 2C7\, Canada
CATEGORIES:District 06,District AA87
ORGANIZER;CN="District 6%2C West Island":MAILTO:district06@aa87.org
END:VEVENT
BEGIN:VEVENT
DTSTART;TZID=America/Toronto:20270715T190000
DTEND;TZID=America/Toronto:20270715T210000
DTSTAMP:20260421T114631
CREATED:20251229T214552Z
LAST-MODIFIED:20251229T215331Z
UID:10033836-1815678000-1815685200@www.aa87.org
SUMMARY:District 87-06 GSR Meeting
DESCRIPTION:Monthly meeting in person.
URL:https://www.aa87.org/en/evenement/reunion-des-rsg-du-district-87-06/2027-07-15/
LOCATION:Parish of the Resurrection\, St-Andrew and St-Mark’s Church\, 865 Lakeshore drive\, Dorval\, 865 Lakeshore drive\, Dorval\, Québec\, H9S 2C7\, Canada
CATEGORIES:District 06,District AA87
ORGANIZER;CN="District 6%2C West Island":MAILTO:district06@aa87.org
END:VEVENT
BEGIN:VEVENT
DTSTART;TZID=America/Toronto:20270819T190000
DTEND;TZID=America/Toronto:20270819T210000
DTSTAMP:20260421T114631
CREATED:20251229T214552Z
LAST-MODIFIED:20251229T215331Z
UID:10033837-1818702000-1818709200@www.aa87.org
SUMMARY:District 87-06 GSR Meeting
DESCRIPTION:Monthly meeting in person.
URL:https://www.aa87.org/en/evenement/reunion-des-rsg-du-district-87-06/2027-08-19/
LOCATION:Parish of the Resurrection\, St-Andrew and St-Mark’s Church\, 865 Lakeshore drive\, Dorval\, 865 Lakeshore drive\, Dorval\, Québec\, H9S 2C7\, Canada
CATEGORIES:District 06,District AA87
ORGANIZER;CN="District 6%2C West Island":MAILTO:district06@aa87.org
END:VEVENT
BEGIN:VEVENT
DTSTART;TZID=America/Toronto:20270916T190000
DTEND;TZID=America/Toronto:20270916T210000
DTSTAMP:20260421T114631
CREATED:20251229T214552Z
LAST-MODIFIED:20251229T215331Z
UID:10033838-1821121200-1821128400@www.aa87.org
SUMMARY:District 87-06 GSR Meeting
DESCRIPTION:Monthly meeting in person.
URL:https://www.aa87.org/en/evenement/reunion-des-rsg-du-district-87-06/2027-09-16/
LOCATION:Parish of the Resurrection\, St-Andrew and St-Mark’s Church\, 865 Lakeshore drive\, Dorval\, 865 Lakeshore drive\, Dorval\, Québec\, H9S 2C7\, Canada
CATEGORIES:District 06,District AA87
ORGANIZER;CN="District 6%2C West Island":MAILTO:district06@aa87.org
END:VEVENT
BEGIN:VEVENT
DTSTART;TZID=America/Toronto:20271021T190000
DTEND;TZID=America/Toronto:20271021T210000
DTSTAMP:20260421T114631
CREATED:20251229T214552Z
LAST-MODIFIED:20251229T215331Z
UID:10033839-1824145200-1824152400@www.aa87.org
SUMMARY:District 87-06 GSR Meeting
DESCRIPTION:Monthly meeting in person.
URL:https://www.aa87.org/en/evenement/reunion-des-rsg-du-district-87-06/2027-10-21/
LOCATION:Parish of the Resurrection\, St-Andrew and St-Mark’s Church\, 865 Lakeshore drive\, Dorval\, 865 Lakeshore drive\, Dorval\, Québec\, H9S 2C7\, Canada
CATEGORIES:District 06,District AA87
ORGANIZER;CN="District 6%2C West Island":MAILTO:district06@aa87.org
END:VEVENT
BEGIN:VEVENT
DTSTART;TZID=America/Toronto:20271118T190000
DTEND;TZID=America/Toronto:20271118T210000
DTSTAMP:20260421T114631
CREATED:20251229T214552Z
LAST-MODIFIED:20251229T215331Z
UID:10033840-1826564400-1826571600@www.aa87.org
SUMMARY:District 87-06 GSR Meeting
DESCRIPTION:Monthly meeting in person.
URL:https://www.aa87.org/en/evenement/reunion-des-rsg-du-district-87-06/2027-11-18/
LOCATION:Parish of the Resurrection\, St-Andrew and St-Mark’s Church\, 865 Lakeshore drive\, Dorval\, 865 Lakeshore drive\, Dorval\, Québec\, H9S 2C7\, Canada
CATEGORIES:District 06,District AA87
ORGANIZER;CN="District 6%2C West Island":MAILTO:district06@aa87.org
END:VEVENT
BEGIN:VEVENT
DTSTART;TZID=America/Toronto:20271216T190000
DTEND;TZID=America/Toronto:20271216T210000
DTSTAMP:20260421T114631
CREATED:20251229T214552Z
LAST-MODIFIED:20251229T215331Z
UID:10033841-1828983600-1828990800@www.aa87.org
SUMMARY:District 87-06 GSR Meeting
DESCRIPTION:Monthly meeting in person.
URL:https://www.aa87.org/en/evenement/reunion-des-rsg-du-district-87-06/2027-12-16/
LOCATION:Parish of the Resurrection\, St-Andrew and St-Mark’s Church\, 865 Lakeshore drive\, Dorval\, 865 Lakeshore drive\, Dorval\, Québec\, H9S 2C7\, Canada
CATEGORIES:District 06,District AA87
ORGANIZER;CN="District 6%2C West Island":MAILTO:district06@aa87.org
END:VEVENT
BEGIN:VEVENT
DTSTART;TZID=America/Toronto:20280120T190000
DTEND;TZID=America/Toronto:20280120T210000
DTSTAMP:20260421T114631
CREATED:20251229T214552Z
LAST-MODIFIED:20251229T215331Z
UID:10033842-1832007600-1832014800@www.aa87.org
SUMMARY:District 87-06 GSR Meeting
DESCRIPTION:Monthly meeting in person.
URL:https://www.aa87.org/en/evenement/reunion-des-rsg-du-district-87-06/2028-01-20/
LOCATION:Parish of the Resurrection\, St-Andrew and St-Mark’s Church\, 865 Lakeshore drive\, Dorval\, 865 Lakeshore drive\, Dorval\, Québec\, H9S 2C7\, Canada
CATEGORIES:District 06,District AA87
ORGANIZER;CN="District 6%2C West Island":MAILTO:district06@aa87.org
END:VEVENT
BEGIN:VEVENT
DTSTART;TZID=America/Toronto:20280217T190000
DTEND;TZID=America/Toronto:20280217T210000
DTSTAMP:20260421T114631
CREATED:20251229T214552Z
LAST-MODIFIED:20251229T215331Z
UID:10033843-1834426800-1834434000@www.aa87.org
SUMMARY:District 87-06 GSR Meeting
DESCRIPTION:Monthly meeting in person.
URL:https://www.aa87.org/en/evenement/reunion-des-rsg-du-district-87-06/2028-02-17/
LOCATION:Parish of the Resurrection\, St-Andrew and St-Mark’s Church\, 865 Lakeshore drive\, Dorval\, 865 Lakeshore drive\, Dorval\, Québec\, H9S 2C7\, Canada
CATEGORIES:District 06,District AA87
ORGANIZER;CN="District 6%2C West Island":MAILTO:district06@aa87.org
END:VEVENT
BEGIN:VEVENT
DTSTART;TZID=America/Toronto:20280316T190000
DTEND;TZID=America/Toronto:20280316T210000
DTSTAMP:20260421T114631
CREATED:20251229T214552Z
LAST-MODIFIED:20251229T215331Z
UID:10033844-1836846000-1836853200@www.aa87.org
SUMMARY:District 87-06 GSR Meeting
DESCRIPTION:Monthly meeting in person.
URL:https://www.aa87.org/en/evenement/reunion-des-rsg-du-district-87-06/2028-03-16/
LOCATION:Parish of the Resurrection\, St-Andrew and St-Mark’s Church\, 865 Lakeshore drive\, Dorval\, 865 Lakeshore drive\, Dorval\, Québec\, H9S 2C7\, Canada
CATEGORIES:District 06,District AA87
ORGANIZER;CN="District 6%2C West Island":MAILTO:district06@aa87.org
END:VEVENT
BEGIN:VEVENT
DTSTART;TZID=America/Toronto:20280420T190000
DTEND;TZID=America/Toronto:20280420T210000
DTSTAMP:20260421T114631
CREATED:20251229T214552Z
LAST-MODIFIED:20251229T215331Z
UID:10033845-1839870000-1839877200@www.aa87.org
SUMMARY:District 87-06 GSR Meeting
DESCRIPTION:Monthly meeting in person.
URL:https://www.aa87.org/en/evenement/reunion-des-rsg-du-district-87-06/2028-04-20/
LOCATION:Parish of the Resurrection\, St-Andrew and St-Mark’s Church\, 865 Lakeshore drive\, Dorval\, 865 Lakeshore drive\, Dorval\, Québec\, H9S 2C7\, Canada
CATEGORIES:District 06,District AA87
ORGANIZER;CN="District 6%2C West Island":MAILTO:district06@aa87.org
END:VEVENT
BEGIN:VEVENT
DTSTART;TZID=America/Toronto:20280518T190000
DTEND;TZID=America/Toronto:20280518T210000
DTSTAMP:20260421T114631
CREATED:20251229T214552Z
LAST-MODIFIED:20251229T215331Z
UID:10033846-1842289200-1842296400@www.aa87.org
SUMMARY:District 87-06 GSR Meeting
DESCRIPTION:Monthly meeting in person.
URL:https://www.aa87.org/en/evenement/reunion-des-rsg-du-district-87-06/2028-05-18/
LOCATION:Parish of the Resurrection\, St-Andrew and St-Mark’s Church\, 865 Lakeshore drive\, Dorval\, 865 Lakeshore drive\, Dorval\, Québec\, H9S 2C7\, Canada
CATEGORIES:District 06,District AA87
ORGANIZER;CN="District 6%2C West Island":MAILTO:district06@aa87.org
END:VEVENT
BEGIN:VEVENT
DTSTART;TZID=America/Toronto:20280615T190000
DTEND;TZID=America/Toronto:20280615T210000
DTSTAMP:20260421T114631
CREATED:20251229T214552Z
LAST-MODIFIED:20251229T215331Z
UID:10033847-1844708400-1844715600@www.aa87.org
SUMMARY:District 87-06 GSR Meeting
DESCRIPTION:Monthly meeting in person.
URL:https://www.aa87.org/en/evenement/reunion-des-rsg-du-district-87-06/2028-06-15/
LOCATION:Parish of the Resurrection\, St-Andrew and St-Mark’s Church\, 865 Lakeshore drive\, Dorval\, 865 Lakeshore drive\, Dorval\, Québec\, H9S 2C7\, Canada
CATEGORIES:District 06,District AA87
ORGANIZER;CN="District 6%2C West Island":MAILTO:district06@aa87.org
END:VEVENT
BEGIN:VEVENT
DTSTART;TZID=America/Toronto:20280720T190000
DTEND;TZID=America/Toronto:20280720T210000
DTSTAMP:20260421T114631
CREATED:20251229T214552Z
LAST-MODIFIED:20251229T215331Z
UID:10033848-1847732400-1847739600@www.aa87.org
SUMMARY:District 87-06 GSR Meeting
DESCRIPTION:Monthly meeting in person.
URL:https://www.aa87.org/en/evenement/reunion-des-rsg-du-district-87-06/2028-07-20/
LOCATION:Parish of the Resurrection\, St-Andrew and St-Mark’s Church\, 865 Lakeshore drive\, Dorval\, 865 Lakeshore drive\, Dorval\, Québec\, H9S 2C7\, Canada
CATEGORIES:District 06,District AA87
ORGANIZER;CN="District 6%2C West Island":MAILTO:district06@aa87.org
END:VEVENT
BEGIN:VEVENT
DTSTART;TZID=America/Toronto:20280817T190000
DTEND;TZID=America/Toronto:20280817T210000
DTSTAMP:20260421T114631
CREATED:20251229T214552Z
LAST-MODIFIED:20251229T215331Z
UID:10033849-1850151600-1850158800@www.aa87.org
SUMMARY:District 87-06 GSR Meeting
DESCRIPTION:Monthly meeting in person.
URL:https://www.aa87.org/en/evenement/reunion-des-rsg-du-district-87-06/2028-08-17/
LOCATION:Parish of the Resurrection\, St-Andrew and St-Mark’s Church\, 865 Lakeshore drive\, Dorval\, 865 Lakeshore drive\, Dorval\, Québec\, H9S 2C7\, Canada
CATEGORIES:District 06,District AA87
ORGANIZER;CN="District 6%2C West Island":MAILTO:district06@aa87.org
END:VEVENT
BEGIN:VEVENT
DTSTART;TZID=America/Toronto:20280921T190000
DTEND;TZID=America/Toronto:20280921T210000
DTSTAMP:20260421T114631
CREATED:20251229T214552Z
LAST-MODIFIED:20251229T215331Z
UID:10033850-1853175600-1853182800@www.aa87.org
SUMMARY:District 87-06 GSR Meeting
DESCRIPTION:Monthly meeting in person.
URL:https://www.aa87.org/en/evenement/reunion-des-rsg-du-district-87-06/2028-09-21/
LOCATION:Parish of the Resurrection\, St-Andrew and St-Mark’s Church\, 865 Lakeshore drive\, Dorval\, 865 Lakeshore drive\, Dorval\, Québec\, H9S 2C7\, Canada
CATEGORIES:District 06,District AA87
ORGANIZER;CN="District 6%2C West Island":MAILTO:district06@aa87.org
END:VEVENT
BEGIN:VEVENT
DTSTART;TZID=America/Toronto:20281019T190000
DTEND;TZID=America/Toronto:20281019T210000
DTSTAMP:20260421T114631
CREATED:20251229T214552Z
LAST-MODIFIED:20251229T215331Z
UID:10033851-1855594800-1855602000@www.aa87.org
SUMMARY:District 87-06 GSR Meeting
DESCRIPTION:Monthly meeting in person.
URL:https://www.aa87.org/en/evenement/reunion-des-rsg-du-district-87-06/2028-10-19/
LOCATION:Parish of the Resurrection\, St-Andrew and St-Mark’s Church\, 865 Lakeshore drive\, Dorval\, 865 Lakeshore drive\, Dorval\, Québec\, H9S 2C7\, Canada
CATEGORIES:District 06,District AA87
ORGANIZER;CN="District 6%2C West Island":MAILTO:district06@aa87.org
END:VEVENT
BEGIN:VEVENT
DTSTART;TZID=America/Toronto:20281116T190000
DTEND;TZID=America/Toronto:20281116T210000
DTSTAMP:20260421T114631
CREATED:20251229T214552Z
LAST-MODIFIED:20251229T215331Z
UID:10033852-1858014000-1858021200@www.aa87.org
SUMMARY:District 87-06 GSR Meeting
DESCRIPTION:Monthly meeting in person.
URL:https://www.aa87.org/en/evenement/reunion-des-rsg-du-district-87-06/2028-11-16/
LOCATION:Parish of the Resurrection\, St-Andrew and St-Mark’s Church\, 865 Lakeshore drive\, Dorval\, 865 Lakeshore drive\, Dorval\, Québec\, H9S 2C7\, Canada
CATEGORIES:District 06,District AA87
ORGANIZER;CN="District 6%2C West Island":MAILTO:district06@aa87.org
END:VEVENT
END:VCALENDAR