BEGIN:VCALENDAR
VERSION:2.0
PRODID:-//AA Area 87 - ECPv6.15.17//NONSGML v1.0//EN
CALSCALE:GREGORIAN
METHOD:PUBLISH
X-WR-CALNAME:AA Area 87
X-ORIGINAL-URL:https://www.aa87.org/en/
X-WR-CALDESC:Events for AA Area 87
REFRESH-INTERVAL;VALUE=DURATION:PT1H
X-Robots-Tag:noindex
X-PUBLISHED-TTL:PT1H
BEGIN:VTIMEZONE
TZID:America/Toronto
BEGIN:DAYLIGHT
TZOFFSETFROM:-0500
TZOFFSETTO:-0400
TZNAME:EDT
DTSTART:20250309T070000
END:DAYLIGHT
BEGIN:STANDARD
TZOFFSETFROM:-0400
TZOFFSETTO:-0500
TZNAME:EST
DTSTART:20251102T060000
END:STANDARD
BEGIN:DAYLIGHT
TZOFFSETFROM:-0500
TZOFFSETTO:-0400
TZNAME:EDT
DTSTART:20260308T070000
END:DAYLIGHT
BEGIN:STANDARD
TZOFFSETFROM:-0400
TZOFFSETTO:-0500
TZNAME:EST
DTSTART:20261101T060000
END:STANDARD
BEGIN:DAYLIGHT
TZOFFSETFROM:-0500
TZOFFSETTO:-0400
TZNAME:EDT
DTSTART:20270314T070000
END:DAYLIGHT
BEGIN:STANDARD
TZOFFSETFROM:-0400
TZOFFSETTO:-0500
TZNAME:EST
DTSTART:20271107T060000
END:STANDARD
BEGIN:DAYLIGHT
TZOFFSETFROM:-0500
TZOFFSETTO:-0400
TZNAME:EDT
DTSTART:20280312T070000
END:DAYLIGHT
BEGIN:STANDARD
TZOFFSETFROM:-0400
TZOFFSETTO:-0500
TZNAME:EST
DTSTART:20281105T060000
END:STANDARD
END:VTIMEZONE
BEGIN:VEVENT
DTSTART;TZID=America/Toronto:20260506T193000
DTEND;TZID=America/Toronto:20260506T213000
DTSTAMP:20260421T114252
CREATED:20231229T144655Z
LAST-MODIFIED:20241026T110632Z
UID:10012401-1778095800-1778103000@www.aa87.org
SUMMARY:District 16
DESCRIPTION:
URL:https://www.aa87.org/en/evenement/district-16-2-2/2026-05-06/
LOCATION:Centre communautaire\, 53\, rue Rabastalière\, St-Bruno QC\, J3V 1Y7\, 53\, rue Rabastalière\, St-Bruno\, Québec\, J3V 1Y7\, Canada
CATEGORIES:District 16
ORGANIZER;CN="District 16%2C Bel%C5%93il%2C St-Hilaire":MAILTO:district16@aa87.org
END:VEVENT
BEGIN:VEVENT
DTSTART;TZID=America/Toronto:20260506T193000
DTEND;TZID=America/Toronto:20260506T213000
DTSTAMP:20260421T114252
CREATED:20260220T183208Z
LAST-MODIFIED:20260220T184328Z
UID:10038664-1778095800-1778103000@www.aa87.org
SUMMARY:District 87-16 GSR Meeting
DESCRIPTION:Monthly in-person meeting.
URL:https://www.aa87.org/en/evenement/district-16-2-2-3-2-2-2-2/2026-05-06/
LOCATION:Centre communautaire\, 53\, rue Rabastalière\, St-Bruno QC\, J3V 1Y7\, 53\, rue Rabastalière\, St-Bruno\, Québec\, J3V 1Y7\, Canada
CATEGORIES:District 16
ORGANIZER;CN="District 16%2C Bel%C5%93il%2C St-Hilaire":MAILTO:district16@aa87.org
END:VEVENT
BEGIN:VEVENT
DTSTART;TZID=America/Toronto:20260603T193000
DTEND;TZID=America/Toronto:20260603T213000
DTSTAMP:20260421T114252
CREATED:20231229T144655Z
LAST-MODIFIED:20241026T110632Z
UID:10012402-1780515000-1780522200@www.aa87.org
SUMMARY:District 16
DESCRIPTION:
URL:https://www.aa87.org/en/evenement/district-16-2-2/2026-06-03/
LOCATION:Centre communautaire\, 53\, rue Rabastalière\, St-Bruno QC\, J3V 1Y7\, 53\, rue Rabastalière\, St-Bruno\, Québec\, J3V 1Y7\, Canada
CATEGORIES:District 16
ORGANIZER;CN="District 16%2C Bel%C5%93il%2C St-Hilaire":MAILTO:district16@aa87.org
END:VEVENT
BEGIN:VEVENT
DTSTART;TZID=America/Toronto:20260603T193000
DTEND;TZID=America/Toronto:20260603T213000
DTSTAMP:20260421T114252
CREATED:20260220T183208Z
LAST-MODIFIED:20260220T184328Z
UID:10038665-1780515000-1780522200@www.aa87.org
SUMMARY:District 87-16 GSR Meeting
DESCRIPTION:Monthly in-person meeting.
URL:https://www.aa87.org/en/evenement/district-16-2-2-3-2-2-2-2/2026-06-03/
LOCATION:Centre communautaire\, 53\, rue Rabastalière\, St-Bruno QC\, J3V 1Y7\, 53\, rue Rabastalière\, St-Bruno\, Québec\, J3V 1Y7\, Canada
CATEGORIES:District 16
ORGANIZER;CN="District 16%2C Bel%C5%93il%2C St-Hilaire":MAILTO:district16@aa87.org
END:VEVENT
BEGIN:VEVENT
DTSTART;TZID=America/Toronto:20260701T193000
DTEND;TZID=America/Toronto:20260701T213000
DTSTAMP:20260421T114252
CREATED:20231229T144655Z
LAST-MODIFIED:20241026T110632Z
UID:10012403-1782934200-1782941400@www.aa87.org
SUMMARY:District 16
DESCRIPTION:
URL:https://www.aa87.org/en/evenement/district-16-2-2/2026-07-01/
LOCATION:Centre communautaire\, 53\, rue Rabastalière\, St-Bruno QC\, J3V 1Y7\, 53\, rue Rabastalière\, St-Bruno\, Québec\, J3V 1Y7\, Canada
CATEGORIES:District 16
ORGANIZER;CN="District 16%2C Bel%C5%93il%2C St-Hilaire":MAILTO:district16@aa87.org
END:VEVENT
BEGIN:VEVENT
DTSTART;TZID=America/Toronto:20260805T193000
DTEND;TZID=America/Toronto:20260805T213000
DTSTAMP:20260421T114252
CREATED:20231229T144655Z
LAST-MODIFIED:20241026T110632Z
UID:10012404-1785958200-1785965400@www.aa87.org
SUMMARY:District 16
DESCRIPTION:
URL:https://www.aa87.org/en/evenement/district-16-2-2/2026-08-05/
LOCATION:Centre communautaire\, 53\, rue Rabastalière\, St-Bruno QC\, J3V 1Y7\, 53\, rue Rabastalière\, St-Bruno\, Québec\, J3V 1Y7\, Canada
CATEGORIES:District 16
ORGANIZER;CN="District 16%2C Bel%C5%93il%2C St-Hilaire":MAILTO:district16@aa87.org
END:VEVENT
BEGIN:VEVENT
DTSTART;TZID=America/Toronto:20260902T193000
DTEND;TZID=America/Toronto:20260902T213000
DTSTAMP:20260421T114252
CREATED:20231229T144655Z
LAST-MODIFIED:20241026T110632Z
UID:10012405-1788377400-1788384600@www.aa87.org
SUMMARY:District 16
DESCRIPTION:
URL:https://www.aa87.org/en/evenement/district-16-2-2/2026-09-02/
LOCATION:Centre communautaire\, 53\, rue Rabastalière\, St-Bruno QC\, J3V 1Y7\, 53\, rue Rabastalière\, St-Bruno\, Québec\, J3V 1Y7\, Canada
CATEGORIES:District 16
ORGANIZER;CN="District 16%2C Bel%C5%93il%2C St-Hilaire":MAILTO:district16@aa87.org
END:VEVENT
BEGIN:VEVENT
DTSTART;TZID=America/Toronto:20260902T193000
DTEND;TZID=America/Toronto:20260902T213000
DTSTAMP:20260421T114252
CREATED:20260220T183208Z
LAST-MODIFIED:20260220T184328Z
UID:10038666-1788377400-1788384600@www.aa87.org
SUMMARY:District 87-16 GSR Meeting
DESCRIPTION:Monthly in-person meeting.
URL:https://www.aa87.org/en/evenement/district-16-2-2-3-2-2-2-2/2026-09-02/
LOCATION:Centre communautaire\, 53\, rue Rabastalière\, St-Bruno QC\, J3V 1Y7\, 53\, rue Rabastalière\, St-Bruno\, Québec\, J3V 1Y7\, Canada
CATEGORIES:District 16
ORGANIZER;CN="District 16%2C Bel%C5%93il%2C St-Hilaire":MAILTO:district16@aa87.org
END:VEVENT
BEGIN:VEVENT
DTSTART;TZID=America/Toronto:20261007T193000
DTEND;TZID=America/Toronto:20261007T213000
DTSTAMP:20260421T114252
CREATED:20231229T144655Z
LAST-MODIFIED:20241026T110632Z
UID:10012406-1791401400-1791408600@www.aa87.org
SUMMARY:District 16
DESCRIPTION:
URL:https://www.aa87.org/en/evenement/district-16-2-2/2026-10-07/
LOCATION:Centre communautaire\, 53\, rue Rabastalière\, St-Bruno QC\, J3V 1Y7\, 53\, rue Rabastalière\, St-Bruno\, Québec\, J3V 1Y7\, Canada
CATEGORIES:District 16
ORGANIZER;CN="District 16%2C Bel%C5%93il%2C St-Hilaire":MAILTO:district16@aa87.org
END:VEVENT
BEGIN:VEVENT
DTSTART;TZID=America/Toronto:20261007T193000
DTEND;TZID=America/Toronto:20261007T213000
DTSTAMP:20260421T114252
CREATED:20260220T183208Z
LAST-MODIFIED:20260220T184328Z
UID:10038667-1791401400-1791408600@www.aa87.org
SUMMARY:District 87-16 GSR Meeting
DESCRIPTION:Monthly in-person meeting.
URL:https://www.aa87.org/en/evenement/district-16-2-2-3-2-2-2-2/2026-10-07/
LOCATION:Centre communautaire\, 53\, rue Rabastalière\, St-Bruno QC\, J3V 1Y7\, 53\, rue Rabastalière\, St-Bruno\, Québec\, J3V 1Y7\, Canada
CATEGORIES:District 16
ORGANIZER;CN="District 16%2C Bel%C5%93il%2C St-Hilaire":MAILTO:district16@aa87.org
END:VEVENT
BEGIN:VEVENT
DTSTART;TZID=America/Toronto:20261104T193000
DTEND;TZID=America/Toronto:20261104T213000
DTSTAMP:20260421T114252
CREATED:20231229T144655Z
LAST-MODIFIED:20241026T110632Z
UID:10012407-1793820600-1793827800@www.aa87.org
SUMMARY:District 16
DESCRIPTION:
URL:https://www.aa87.org/en/evenement/district-16-2-2/2026-11-04/
LOCATION:Centre communautaire\, 53\, rue Rabastalière\, St-Bruno QC\, J3V 1Y7\, 53\, rue Rabastalière\, St-Bruno\, Québec\, J3V 1Y7\, Canada
CATEGORIES:District 16
ORGANIZER;CN="District 16%2C Bel%C5%93il%2C St-Hilaire":MAILTO:district16@aa87.org
END:VEVENT
BEGIN:VEVENT
DTSTART;TZID=America/Toronto:20261104T193000
DTEND;TZID=America/Toronto:20261104T213000
DTSTAMP:20260421T114252
CREATED:20260220T183208Z
LAST-MODIFIED:20260220T184328Z
UID:10038668-1793820600-1793827800@www.aa87.org
SUMMARY:District 87-16 GSR Meeting
DESCRIPTION:Monthly in-person meeting.
URL:https://www.aa87.org/en/evenement/district-16-2-2-3-2-2-2-2/2026-11-04/
LOCATION:Centre communautaire\, 53\, rue Rabastalière\, St-Bruno QC\, J3V 1Y7\, 53\, rue Rabastalière\, St-Bruno\, Québec\, J3V 1Y7\, Canada
CATEGORIES:District 16
ORGANIZER;CN="District 16%2C Bel%C5%93il%2C St-Hilaire":MAILTO:district16@aa87.org
END:VEVENT
BEGIN:VEVENT
DTSTART;TZID=America/Toronto:20261202T193000
DTEND;TZID=America/Toronto:20261202T213000
DTSTAMP:20260421T114252
CREATED:20231229T144655Z
LAST-MODIFIED:20241026T110632Z
UID:10012408-1796239800-1796247000@www.aa87.org
SUMMARY:District 16
DESCRIPTION:
URL:https://www.aa87.org/en/evenement/district-16-2-2/2026-12-02/
LOCATION:Centre communautaire\, 53\, rue Rabastalière\, St-Bruno QC\, J3V 1Y7\, 53\, rue Rabastalière\, St-Bruno\, Québec\, J3V 1Y7\, Canada
CATEGORIES:District 16
ORGANIZER;CN="District 16%2C Bel%C5%93il%2C St-Hilaire":MAILTO:district16@aa87.org
END:VEVENT
BEGIN:VEVENT
DTSTART;TZID=America/Toronto:20261202T193000
DTEND;TZID=America/Toronto:20261202T213000
DTSTAMP:20260421T114252
CREATED:20260220T183208Z
LAST-MODIFIED:20260220T184328Z
UID:10038669-1796239800-1796247000@www.aa87.org
SUMMARY:District 87-16 GSR Meeting
DESCRIPTION:Monthly in-person meeting.
URL:https://www.aa87.org/en/evenement/district-16-2-2-3-2-2-2-2/2026-12-02/
LOCATION:Centre communautaire\, 53\, rue Rabastalière\, St-Bruno QC\, J3V 1Y7\, 53\, rue Rabastalière\, St-Bruno\, Québec\, J3V 1Y7\, Canada
CATEGORIES:District 16
ORGANIZER;CN="District 16%2C Bel%C5%93il%2C St-Hilaire":MAILTO:district16@aa87.org
END:VEVENT
BEGIN:VEVENT
DTSTART;TZID=America/Toronto:20270106T193000
DTEND;TZID=America/Toronto:20270106T213000
DTSTAMP:20260421T114252
CREATED:20231229T144655Z
LAST-MODIFIED:20241026T110632Z
UID:10012409-1799263800-1799271000@www.aa87.org
SUMMARY:District 16
DESCRIPTION:
URL:https://www.aa87.org/en/evenement/district-16-2-2/2027-01-06/
LOCATION:Centre communautaire\, 53\, rue Rabastalière\, St-Bruno QC\, J3V 1Y7\, 53\, rue Rabastalière\, St-Bruno\, Québec\, J3V 1Y7\, Canada
CATEGORIES:District 16
ORGANIZER;CN="District 16%2C Bel%C5%93il%2C St-Hilaire":MAILTO:district16@aa87.org
END:VEVENT
BEGIN:VEVENT
DTSTART;TZID=America/Toronto:20270106T193000
DTEND;TZID=America/Toronto:20270106T213000
DTSTAMP:20260421T114252
CREATED:20260220T183208Z
LAST-MODIFIED:20260220T184328Z
UID:10038670-1799263800-1799271000@www.aa87.org
SUMMARY:District 87-16 GSR Meeting
DESCRIPTION:Monthly in-person meeting.
URL:https://www.aa87.org/en/evenement/district-16-2-2-3-2-2-2-2/2027-01-06/
LOCATION:Centre communautaire\, 53\, rue Rabastalière\, St-Bruno QC\, J3V 1Y7\, 53\, rue Rabastalière\, St-Bruno\, Québec\, J3V 1Y7\, Canada
CATEGORIES:District 16
ORGANIZER;CN="District 16%2C Bel%C5%93il%2C St-Hilaire":MAILTO:district16@aa87.org
END:VEVENT
BEGIN:VEVENT
DTSTART;TZID=America/Toronto:20270203T193000
DTEND;TZID=America/Toronto:20270203T213000
DTSTAMP:20260421T114252
CREATED:20231229T144655Z
LAST-MODIFIED:20241026T110632Z
UID:10012410-1801683000-1801690200@www.aa87.org
SUMMARY:District 16
DESCRIPTION:
URL:https://www.aa87.org/en/evenement/district-16-2-2/2027-02-03/
LOCATION:Centre communautaire\, 53\, rue Rabastalière\, St-Bruno QC\, J3V 1Y7\, 53\, rue Rabastalière\, St-Bruno\, Québec\, J3V 1Y7\, Canada
CATEGORIES:District 16
ORGANIZER;CN="District 16%2C Bel%C5%93il%2C St-Hilaire":MAILTO:district16@aa87.org
END:VEVENT
BEGIN:VEVENT
DTSTART;TZID=America/Toronto:20270203T193000
DTEND;TZID=America/Toronto:20270203T213000
DTSTAMP:20260421T114252
CREATED:20260220T183208Z
LAST-MODIFIED:20260220T184328Z
UID:10038671-1801683000-1801690200@www.aa87.org
SUMMARY:District 87-16 GSR Meeting
DESCRIPTION:Monthly in-person meeting.
URL:https://www.aa87.org/en/evenement/district-16-2-2-3-2-2-2-2/2027-02-03/
LOCATION:Centre communautaire\, 53\, rue Rabastalière\, St-Bruno QC\, J3V 1Y7\, 53\, rue Rabastalière\, St-Bruno\, Québec\, J3V 1Y7\, Canada
CATEGORIES:District 16
ORGANIZER;CN="District 16%2C Bel%C5%93il%2C St-Hilaire":MAILTO:district16@aa87.org
END:VEVENT
BEGIN:VEVENT
DTSTART;TZID=America/Toronto:20270303T193000
DTEND;TZID=America/Toronto:20270303T213000
DTSTAMP:20260421T114252
CREATED:20231229T144655Z
LAST-MODIFIED:20241026T110632Z
UID:10012411-1804102200-1804109400@www.aa87.org
SUMMARY:District 16
DESCRIPTION:
URL:https://www.aa87.org/en/evenement/district-16-2-2/2027-03-03/
LOCATION:Centre communautaire\, 53\, rue Rabastalière\, St-Bruno QC\, J3V 1Y7\, 53\, rue Rabastalière\, St-Bruno\, Québec\, J3V 1Y7\, Canada
CATEGORIES:District 16
ORGANIZER;CN="District 16%2C Bel%C5%93il%2C St-Hilaire":MAILTO:district16@aa87.org
END:VEVENT
BEGIN:VEVENT
DTSTART;TZID=America/Toronto:20270303T193000
DTEND;TZID=America/Toronto:20270303T213000
DTSTAMP:20260421T114252
CREATED:20260220T183208Z
LAST-MODIFIED:20260220T184328Z
UID:10038672-1804102200-1804109400@www.aa87.org
SUMMARY:District 87-16 GSR Meeting
DESCRIPTION:Monthly in-person meeting.
URL:https://www.aa87.org/en/evenement/district-16-2-2-3-2-2-2-2/2027-03-03/
LOCATION:Centre communautaire\, 53\, rue Rabastalière\, St-Bruno QC\, J3V 1Y7\, 53\, rue Rabastalière\, St-Bruno\, Québec\, J3V 1Y7\, Canada
CATEGORIES:District 16
ORGANIZER;CN="District 16%2C Bel%C5%93il%2C St-Hilaire":MAILTO:district16@aa87.org
END:VEVENT
BEGIN:VEVENT
DTSTART;TZID=America/Toronto:20270407T193000
DTEND;TZID=America/Toronto:20270407T213000
DTSTAMP:20260421T114252
CREATED:20231229T144655Z
LAST-MODIFIED:20241026T110632Z
UID:10012412-1807126200-1807133400@www.aa87.org
SUMMARY:District 16
DESCRIPTION:
URL:https://www.aa87.org/en/evenement/district-16-2-2/2027-04-07/
LOCATION:Centre communautaire\, 53\, rue Rabastalière\, St-Bruno QC\, J3V 1Y7\, 53\, rue Rabastalière\, St-Bruno\, Québec\, J3V 1Y7\, Canada
CATEGORIES:District 16
ORGANIZER;CN="District 16%2C Bel%C5%93il%2C St-Hilaire":MAILTO:district16@aa87.org
END:VEVENT
BEGIN:VEVENT
DTSTART;TZID=America/Toronto:20270407T193000
DTEND;TZID=America/Toronto:20270407T213000
DTSTAMP:20260421T114252
CREATED:20260220T183208Z
LAST-MODIFIED:20260220T184328Z
UID:10038673-1807126200-1807133400@www.aa87.org
SUMMARY:District 87-16 GSR Meeting
DESCRIPTION:Monthly in-person meeting.
URL:https://www.aa87.org/en/evenement/district-16-2-2-3-2-2-2-2/2027-04-07/
LOCATION:Centre communautaire\, 53\, rue Rabastalière\, St-Bruno QC\, J3V 1Y7\, 53\, rue Rabastalière\, St-Bruno\, Québec\, J3V 1Y7\, Canada
CATEGORIES:District 16
ORGANIZER;CN="District 16%2C Bel%C5%93il%2C St-Hilaire":MAILTO:district16@aa87.org
END:VEVENT
BEGIN:VEVENT
DTSTART;TZID=America/Toronto:20270505T193000
DTEND;TZID=America/Toronto:20270505T213000
DTSTAMP:20260421T114252
CREATED:20231229T144655Z
LAST-MODIFIED:20241026T110632Z
UID:10012413-1809545400-1809552600@www.aa87.org
SUMMARY:District 16
DESCRIPTION:
URL:https://www.aa87.org/en/evenement/district-16-2-2/2027-05-05/
LOCATION:Centre communautaire\, 53\, rue Rabastalière\, St-Bruno QC\, J3V 1Y7\, 53\, rue Rabastalière\, St-Bruno\, Québec\, J3V 1Y7\, Canada
CATEGORIES:District 16
ORGANIZER;CN="District 16%2C Bel%C5%93il%2C St-Hilaire":MAILTO:district16@aa87.org
END:VEVENT
BEGIN:VEVENT
DTSTART;TZID=America/Toronto:20270505T193000
DTEND;TZID=America/Toronto:20270505T213000
DTSTAMP:20260421T114252
CREATED:20260220T183208Z
LAST-MODIFIED:20260220T184328Z
UID:10038674-1809545400-1809552600@www.aa87.org
SUMMARY:District 87-16 GSR Meeting
DESCRIPTION:Monthly in-person meeting.
URL:https://www.aa87.org/en/evenement/district-16-2-2-3-2-2-2-2/2027-05-05/
LOCATION:Centre communautaire\, 53\, rue Rabastalière\, St-Bruno QC\, J3V 1Y7\, 53\, rue Rabastalière\, St-Bruno\, Québec\, J3V 1Y7\, Canada
CATEGORIES:District 16
ORGANIZER;CN="District 16%2C Bel%C5%93il%2C St-Hilaire":MAILTO:district16@aa87.org
END:VEVENT
BEGIN:VEVENT
DTSTART;TZID=America/Toronto:20270602T193000
DTEND;TZID=America/Toronto:20270602T213000
DTSTAMP:20260421T114252
CREATED:20231229T144655Z
LAST-MODIFIED:20241026T110632Z
UID:10012414-1811964600-1811971800@www.aa87.org
SUMMARY:District 16
DESCRIPTION:
URL:https://www.aa87.org/en/evenement/district-16-2-2/2027-06-02/
LOCATION:Centre communautaire\, 53\, rue Rabastalière\, St-Bruno QC\, J3V 1Y7\, 53\, rue Rabastalière\, St-Bruno\, Québec\, J3V 1Y7\, Canada
CATEGORIES:District 16
ORGANIZER;CN="District 16%2C Bel%C5%93il%2C St-Hilaire":MAILTO:district16@aa87.org
END:VEVENT
BEGIN:VEVENT
DTSTART;TZID=America/Toronto:20270602T193000
DTEND;TZID=America/Toronto:20270602T213000
DTSTAMP:20260421T114252
CREATED:20260220T183208Z
LAST-MODIFIED:20260220T184328Z
UID:10038675-1811964600-1811971800@www.aa87.org
SUMMARY:District 87-16 GSR Meeting
DESCRIPTION:Monthly in-person meeting.
URL:https://www.aa87.org/en/evenement/district-16-2-2-3-2-2-2-2/2027-06-02/
LOCATION:Centre communautaire\, 53\, rue Rabastalière\, St-Bruno QC\, J3V 1Y7\, 53\, rue Rabastalière\, St-Bruno\, Québec\, J3V 1Y7\, Canada
CATEGORIES:District 16
ORGANIZER;CN="District 16%2C Bel%C5%93il%2C St-Hilaire":MAILTO:district16@aa87.org
END:VEVENT
BEGIN:VEVENT
DTSTART;TZID=America/Toronto:20270707T193000
DTEND;TZID=America/Toronto:20270707T213000
DTSTAMP:20260421T114252
CREATED:20231229T144655Z
LAST-MODIFIED:20241026T110632Z
UID:10012415-1814988600-1814995800@www.aa87.org
SUMMARY:District 16
DESCRIPTION:
URL:https://www.aa87.org/en/evenement/district-16-2-2/2027-07-07/
LOCATION:Centre communautaire\, 53\, rue Rabastalière\, St-Bruno QC\, J3V 1Y7\, 53\, rue Rabastalière\, St-Bruno\, Québec\, J3V 1Y7\, Canada
CATEGORIES:District 16
ORGANIZER;CN="District 16%2C Bel%C5%93il%2C St-Hilaire":MAILTO:district16@aa87.org
END:VEVENT
BEGIN:VEVENT
DTSTART;TZID=America/Toronto:20270707T193000
DTEND;TZID=America/Toronto:20270707T213000
DTSTAMP:20260421T114252
CREATED:20260220T183208Z
LAST-MODIFIED:20260220T184328Z
UID:10038676-1814988600-1814995800@www.aa87.org
SUMMARY:District 87-16 GSR Meeting
DESCRIPTION:Monthly in-person meeting.
URL:https://www.aa87.org/en/evenement/district-16-2-2-3-2-2-2-2/2027-07-07/
LOCATION:Centre communautaire\, 53\, rue Rabastalière\, St-Bruno QC\, J3V 1Y7\, 53\, rue Rabastalière\, St-Bruno\, Québec\, J3V 1Y7\, Canada
CATEGORIES:District 16
ORGANIZER;CN="District 16%2C Bel%C5%93il%2C St-Hilaire":MAILTO:district16@aa87.org
END:VEVENT
BEGIN:VEVENT
DTSTART;TZID=America/Toronto:20270804T193000
DTEND;TZID=America/Toronto:20270804T213000
DTSTAMP:20260421T114252
CREATED:20231229T144655Z
LAST-MODIFIED:20241026T110632Z
UID:10012416-1817407800-1817415000@www.aa87.org
SUMMARY:District 16
DESCRIPTION:
URL:https://www.aa87.org/en/evenement/district-16-2-2/2027-08-04/
LOCATION:Centre communautaire\, 53\, rue Rabastalière\, St-Bruno QC\, J3V 1Y7\, 53\, rue Rabastalière\, St-Bruno\, Québec\, J3V 1Y7\, Canada
CATEGORIES:District 16
ORGANIZER;CN="District 16%2C Bel%C5%93il%2C St-Hilaire":MAILTO:district16@aa87.org
END:VEVENT
BEGIN:VEVENT
DTSTART;TZID=America/Toronto:20270804T193000
DTEND;TZID=America/Toronto:20270804T213000
DTSTAMP:20260421T114252
CREATED:20260220T183208Z
LAST-MODIFIED:20260220T184328Z
UID:10038677-1817407800-1817415000@www.aa87.org
SUMMARY:District 87-16 GSR Meeting
DESCRIPTION:Monthly in-person meeting.
URL:https://www.aa87.org/en/evenement/district-16-2-2-3-2-2-2-2/2027-08-04/
LOCATION:Centre communautaire\, 53\, rue Rabastalière\, St-Bruno QC\, J3V 1Y7\, 53\, rue Rabastalière\, St-Bruno\, Québec\, J3V 1Y7\, Canada
CATEGORIES:District 16
ORGANIZER;CN="District 16%2C Bel%C5%93il%2C St-Hilaire":MAILTO:district16@aa87.org
END:VEVENT
END:VCALENDAR