BEGIN:VCALENDAR
VERSION:2.0
PRODID:-//AA Area 87 - ECPv6.15.17//NONSGML v1.0//EN
CALSCALE:GREGORIAN
METHOD:PUBLISH
X-WR-CALNAME:AA Area 87
X-ORIGINAL-URL:https://www.aa87.org/en/
X-WR-CALDESC:Events for AA Area 87
REFRESH-INTERVAL;VALUE=DURATION:PT1H
X-Robots-Tag:noindex
X-PUBLISHED-TTL:PT1H
BEGIN:VTIMEZONE
TZID:America/Toronto
BEGIN:DAYLIGHT
TZOFFSETFROM:-0500
TZOFFSETTO:-0400
TZNAME:EDT
DTSTART:20290311T070000
END:DAYLIGHT
BEGIN:STANDARD
TZOFFSETFROM:-0400
TZOFFSETTO:-0500
TZNAME:EST
DTSTART:20291104T060000
END:STANDARD
BEGIN:DAYLIGHT
TZOFFSETFROM:-0500
TZOFFSETTO:-0400
TZNAME:EDT
DTSTART:20300310T070000
END:DAYLIGHT
BEGIN:STANDARD
TZOFFSETFROM:-0400
TZOFFSETTO:-0500
TZNAME:EST
DTSTART:20301103T060000
END:STANDARD
BEGIN:DAYLIGHT
TZOFFSETFROM:-0500
TZOFFSETTO:-0400
TZNAME:EDT
DTSTART:20310309T070000
END:DAYLIGHT
BEGIN:STANDARD
TZOFFSETFROM:-0400
TZOFFSETTO:-0500
TZNAME:EST
DTSTART:20311102T060000
END:STANDARD
END:VTIMEZONE
BEGIN:VEVENT
DTSTART;VALUE=DATE:20301119
DTEND;VALUE=DATE:20301120
DTSTAMP:20260419T082313
CREATED:20241109T201738Z
LAST-MODIFIED:20251126T223345Z
UID:10025957-1921276800-1921363199@www.aa87.org
SUMMARY:Daily reflection November 19
DESCRIPTION:“I was slipping fast”\nNovember 19\n\nWe A.A.’s are active folk\, enjoying the satisfactions of dealing with the realities of life\, . . . So it isn’t surprising that we often tend to slight serious meditation and prayer as something not really necessary. \nTwelve steps and twelve traditions\, p. 96 \nI had been slipping away from the program for some time\, but it took a death threat from a terminal disease to bring me back\, and particularly to the practice of the Eleventh Step of our blessed Fellowship. Although I had fifteen years of sobriety and was still very active in the program\, I knew that the quality of my sobriety had slipped badly. Eighteen months later\, a checkup revealed a malignant tumor and a prognosis of certain death within six months. Despair settled in when I enrolled in a rehab program\, after which I suffered two small strokes which revealed two large brain tumors. As I kept hitting new bottoms I had to ask myself why this was happening to me. God allowed me to recognize my dishonesty and to become teachable again. Miracles began to happen. But primarily I relearned the whole meaning of the Eleventh Step. My physical condition has improved dramatically\, but my illness is minor compared to what I almost lost completely. \n\n\nFrom the book Daily Reflections.\nCopyright © 1990 by Alcoholics Anonymous World Services\, Inc. All rights reserved. \nAll Daily reflections
URL:https://www.aa87.org/en/evenement/daily-reflection-november-19/2030-11-19/
LOCATION:aa87.org
CATEGORIES:Réflexion Quotidiennes
END:VEVENT
END:VCALENDAR