BEGIN:VCALENDAR
VERSION:2.0
PRODID:-//AA Area 87 - ECPv6.15.17//NONSGML v1.0//EN
CALSCALE:GREGORIAN
METHOD:PUBLISH
X-WR-CALNAME:AA Area 87
X-ORIGINAL-URL:https://www.aa87.org/en/
X-WR-CALDESC:Events for AA Area 87
REFRESH-INTERVAL;VALUE=DURATION:PT1H
X-Robots-Tag:noindex
X-PUBLISHED-TTL:PT1H
BEGIN:VTIMEZONE
TZID:America/Toronto
BEGIN:DAYLIGHT
TZOFFSETFROM:-0500
TZOFFSETTO:-0400
TZNAME:EDT
DTSTART:20250309T070000
END:DAYLIGHT
BEGIN:STANDARD
TZOFFSETFROM:-0400
TZOFFSETTO:-0500
TZNAME:EST
DTSTART:20251102T060000
END:STANDARD
BEGIN:DAYLIGHT
TZOFFSETFROM:-0500
TZOFFSETTO:-0400
TZNAME:EDT
DTSTART:20260308T070000
END:DAYLIGHT
BEGIN:STANDARD
TZOFFSETFROM:-0400
TZOFFSETTO:-0500
TZNAME:EST
DTSTART:20261101T060000
END:STANDARD
BEGIN:DAYLIGHT
TZOFFSETFROM:-0500
TZOFFSETTO:-0400
TZNAME:EDT
DTSTART:20270314T070000
END:DAYLIGHT
BEGIN:STANDARD
TZOFFSETFROM:-0400
TZOFFSETTO:-0500
TZNAME:EST
DTSTART:20271107T060000
END:STANDARD
END:VTIMEZONE
BEGIN:VEVENT
DTSTART;TZID=America/Toronto:20260619T190000
DTEND;TZID=America/Toronto:20260619T233000
DTSTAMP:20260419T100421
CREATED:20251229T141851Z
LAST-MODIFIED:20260116T000713Z
UID:10037217-1781895600-1781911800@www.aa87.org
SUMMARY:Réunion du site web provincial
DESCRIPTION:Vendredi le 19 juin 17h00\, Réunion des webmestres /\nSamedi le 20 juin 9h30\, Réunion du Comité provincial\nHybride\nParticiper à la réunion Zoom\n\nID de réunion : 976 0990 1538\nCode secret : 1234
URL:https://www.aa87.org/en/evenement/reunion-du-site-web-provincial-3/2026-06-19/
LOCATION:Les Suites de Laviolette\, Trois-Rivières\, 7201 rue Notre-Dame O\, Trpois-Rivières\, Québec\, G9B 1W2\, Canada
END:VEVENT
END:VCALENDAR