BEGIN:VCALENDAR
VERSION:2.0
PRODID:-//AA Area 87 - ECPv6.15.17//NONSGML v1.0//EN
CALSCALE:GREGORIAN
METHOD:PUBLISH
X-WR-CALNAME:AA Area 87
X-ORIGINAL-URL:https://www.aa87.org/en/
X-WR-CALDESC:Events for AA Area 87
REFRESH-INTERVAL;VALUE=DURATION:PT1H
X-Robots-Tag:noindex
X-PUBLISHED-TTL:PT1H
BEGIN:VTIMEZONE
TZID:America/Toronto
BEGIN:DAYLIGHT
TZOFFSETFROM:-0500
TZOFFSETTO:-0400
TZNAME:EDT
DTSTART:20240310T070000
END:DAYLIGHT
BEGIN:STANDARD
TZOFFSETFROM:-0400
TZOFFSETTO:-0500
TZNAME:EST
DTSTART:20241103T060000
END:STANDARD
BEGIN:DAYLIGHT
TZOFFSETFROM:-0500
TZOFFSETTO:-0400
TZNAME:EDT
DTSTART:20250309T070000
END:DAYLIGHT
BEGIN:STANDARD
TZOFFSETFROM:-0400
TZOFFSETTO:-0500
TZNAME:EST
DTSTART:20251102T060000
END:STANDARD
BEGIN:DAYLIGHT
TZOFFSETFROM:-0500
TZOFFSETTO:-0400
TZNAME:EDT
DTSTART:20260308T070000
END:DAYLIGHT
BEGIN:STANDARD
TZOFFSETFROM:-0400
TZOFFSETTO:-0500
TZNAME:EST
DTSTART:20261101T060000
END:STANDARD
END:VTIMEZONE
BEGIN:VEVENT
DTSTART;VALUE=DATE:20250215
DTEND;VALUE=DATE:20250216
DTSTAMP:20260419T165249
CREATED:20250202T004551Z
LAST-MODIFIED:20250202T004722Z
UID:10019173-1739577600-1739663999@www.aa87.org
SUMMARY:Daily Reflexion february 15
DESCRIPTION:Taking action\nFebruary 15\n\nAre these extravagant promises? We think not. They are being fulfilled among us — sometimes quickly\, sometimes slowly. They will always materialize if we work for them. \nAlcoholics anonymous\, p\, 84 \nOne of the most important things A.A. has given me\, in addition to freedom from booze\, is the ability to take “right action.” It says the promises will always materialize if I work for them. Fantasizing about them\, debating them\, preaching about them and faking them just won’t work. I’ll remain a miserable\, rationalizing dry drunk. By taking action and working the Twelve Steps in all my affairs\, I’ll have a life beyond my wildest dreams. \n\n\nCopyright © 1990 by Alcoholics Anonymous World Services\, Inc. All rights reserved. \nAll Daily reflections \n\n\n 
URL:https://www.aa87.org/en/evenement/rq0215/2025-02-15/
LOCATION:aa87.org
CATEGORIES:Réflexion Quotidiennes
END:VEVENT
END:VCALENDAR