BEGIN:VCALENDAR
VERSION:2.0
PRODID:-//AA Area 87 - ECPv6.15.17//NONSGML v1.0//EN
CALSCALE:GREGORIAN
METHOD:PUBLISH
X-WR-CALNAME:AA Area 87
X-ORIGINAL-URL:https://www.aa87.org/en/
X-WR-CALDESC:Events for AA Area 87
REFRESH-INTERVAL;VALUE=DURATION:PT1H
X-Robots-Tag:noindex
X-PUBLISHED-TTL:PT1H
BEGIN:VTIMEZONE
TZID:America/Toronto
BEGIN:DAYLIGHT
TZOFFSETFROM:-0500
TZOFFSETTO:-0400
TZNAME:EDT
DTSTART:20240310T070000
END:DAYLIGHT
BEGIN:STANDARD
TZOFFSETFROM:-0400
TZOFFSETTO:-0500
TZNAME:EST
DTSTART:20241103T060000
END:STANDARD
BEGIN:DAYLIGHT
TZOFFSETFROM:-0500
TZOFFSETTO:-0400
TZNAME:EDT
DTSTART:20250309T070000
END:DAYLIGHT
BEGIN:STANDARD
TZOFFSETFROM:-0400
TZOFFSETTO:-0500
TZNAME:EST
DTSTART:20251102T060000
END:STANDARD
BEGIN:DAYLIGHT
TZOFFSETFROM:-0500
TZOFFSETTO:-0400
TZNAME:EDT
DTSTART:20260308T070000
END:DAYLIGHT
BEGIN:STANDARD
TZOFFSETFROM:-0400
TZOFFSETTO:-0500
TZNAME:EST
DTSTART:20261101T060000
END:STANDARD
END:VTIMEZONE
BEGIN:VEVENT
DTSTART;VALUE=DATE:20250218
DTEND;VALUE=DATE:20250219
DTSTAMP:20260419T093338
CREATED:20250208T032446Z
LAST-MODIFIED:20250208T032942Z
UID:10019505-1739836800-1739923199@www.aa87.org
SUMMARY:Daily Reflexion february 18
DESCRIPTION:Our paths are our own\nFebruary 18\n\n. . . there was nothing left for us but to pick up the simple kit of spiritual tools laid at our feet. \nAlcoholics anonymous\, p. 25 \nMy first attempt at the Steps was one of obligation and necessity\, which resulted in a deep feeling of discouragement in the face of all those adverbs: courageously; completely; humbly; directly; and only. I considered Bill W. fortunate to have gone through such a major\, even sensational\, spiritual experience. I had to discover\, as time went on\, that my path was my own. After a few twenty-four hours in the A.A. Fellowship\, thanks especially to the sharing of members in the meetings\, I understood that everyone gradually finds his or her own pace in moving through the Steps. Through progressive means\, I try to live according to these suggested principles. As a result of these Steps\, I can say today that my attitude towards life\, people\, and towards anything having to do with God\, has been transformed and improved. \n\n\nCopyright © 1990 by Alcoholics Anonymous World Services\, Inc. All rights reserved. \nAll Daily reflections \n\n\n 
URL:https://www.aa87.org/en/evenement/rq0218/2025-02-18/
LOCATION:aa87.org
CATEGORIES:Réflexion Quotidiennes
END:VEVENT
END:VCALENDAR