BEGIN:VCALENDAR
VERSION:2.0
PRODID:-//AA Area 87 - ECPv6.15.17//NONSGML v1.0//EN
CALSCALE:GREGORIAN
METHOD:PUBLISH
X-WR-CALNAME:AA Area 87
X-ORIGINAL-URL:https://www.aa87.org/en/
X-WR-CALDESC:Events for AA Area 87
REFRESH-INTERVAL;VALUE=DURATION:PT1H
X-Robots-Tag:noindex
X-PUBLISHED-TTL:PT1H
BEGIN:VTIMEZONE
TZID:America/Toronto
BEGIN:DAYLIGHT
TZOFFSETFROM:-0500
TZOFFSETTO:-0400
TZNAME:EDT
DTSTART:20240310T070000
END:DAYLIGHT
BEGIN:STANDARD
TZOFFSETFROM:-0400
TZOFFSETTO:-0500
TZNAME:EST
DTSTART:20241103T060000
END:STANDARD
BEGIN:DAYLIGHT
TZOFFSETFROM:-0500
TZOFFSETTO:-0400
TZNAME:EDT
DTSTART:20250309T070000
END:DAYLIGHT
BEGIN:STANDARD
TZOFFSETFROM:-0400
TZOFFSETTO:-0500
TZNAME:EST
DTSTART:20251102T060000
END:STANDARD
BEGIN:DAYLIGHT
TZOFFSETFROM:-0500
TZOFFSETTO:-0400
TZNAME:EDT
DTSTART:20260308T070000
END:DAYLIGHT
BEGIN:STANDARD
TZOFFSETFROM:-0400
TZOFFSETTO:-0500
TZNAME:EST
DTSTART:20261101T060000
END:STANDARD
END:VTIMEZONE
BEGIN:VEVENT
DTSTART;VALUE=DATE:20250223
DTEND;VALUE=DATE:20250224
DTSTAMP:20260419T161900
CREATED:20250213T223216Z
LAST-MODIFIED:20250213T231232Z
UID:10019655-1740268800-1740355199@www.aa87.org
SUMMARY:Daily Reflexion february 23
DESCRIPTION:Mysterious paradoxes\nFebruary 23\n\nSuch is the paradox of A.A. regeneration: strength arising out of complete defeat and weakness\, the loss of one’s old life as a condition for finding a new one. \nAlcoholics Anonymous comes of age\, p. 46 \nWhat glorious mysteries paradoxes are! They do not compute\, yet when recognized and accepted\, they reaffirm something in the universe beyond human logic. When I face a fear\, I am given courage; when I support a brother or sister\, my capacity to love myself is increased; when I accept pain as part of the growing experience of life\, I realize a greater happiness; when I look at my dark side\, I am brought into new light; when I accept my vulnerabilities and surrender to a Higher Power\, I am graced with unforeseen strength. I stumbled through the doors of A.A. in disgrace\, expecting nothing from life\, and I have been given hope and dignity. Miraculously\, the only way to keep the gifts of the program is to pass them on. \n\n\nCopyright © 1990 by Alcoholics Anonymous World Services\, Inc. All rights reserved. \nAll Daily reflections \n\n\n 
URL:https://www.aa87.org/en/evenement/rq0223/2025-02-23/
LOCATION:aa87.org
CATEGORIES:Réflexion Quotidiennes
END:VEVENT
END:VCALENDAR