BEGIN:VCALENDAR
VERSION:2.0
PRODID:-//AA Area 87 - ECPv6.15.17//NONSGML v1.0//EN
CALSCALE:GREGORIAN
METHOD:PUBLISH
X-WR-CALNAME:AA Area 87
X-ORIGINAL-URL:https://www.aa87.org/en/
X-WR-CALDESC:Events for AA Area 87
REFRESH-INTERVAL;VALUE=DURATION:PT1H
X-Robots-Tag:noindex
X-PUBLISHED-TTL:PT1H
BEGIN:VTIMEZONE
TZID:America/Toronto
BEGIN:DAYLIGHT
TZOFFSETFROM:-0500
TZOFFSETTO:-0400
TZNAME:EDT
DTSTART:20250309T070000
END:DAYLIGHT
BEGIN:STANDARD
TZOFFSETFROM:-0400
TZOFFSETTO:-0500
TZNAME:EST
DTSTART:20251102T060000
END:STANDARD
BEGIN:DAYLIGHT
TZOFFSETFROM:-0500
TZOFFSETTO:-0400
TZNAME:EDT
DTSTART:20260308T070000
END:DAYLIGHT
BEGIN:STANDARD
TZOFFSETFROM:-0400
TZOFFSETTO:-0500
TZNAME:EST
DTSTART:20261101T060000
END:STANDARD
BEGIN:DAYLIGHT
TZOFFSETFROM:-0500
TZOFFSETTO:-0400
TZNAME:EDT
DTSTART:20270314T070000
END:DAYLIGHT
BEGIN:STANDARD
TZOFFSETFROM:-0400
TZOFFSETTO:-0500
TZNAME:EST
DTSTART:20271107T060000
END:STANDARD
END:VTIMEZONE
BEGIN:VEVENT
DTSTART;VALUE=DATE:20260306
DTEND;VALUE=DATE:20260307
DTSTAMP:20260419T093340
CREATED:20250803T223813Z
LAST-MODIFIED:20250803T224315Z
UID:10024521-1772755200-1772841599@www.aa87.org
SUMMARY:Daily Reflection March 6
DESCRIPTION:The idea of faith\nMarch 06\n\nDo not let any prejudice you may have against spiritual terms deter you from honestly asking yourself what they mean to you. \nALCOHOLICS ANONYMOUS\, p. 47 \nThe idea of faith is a very large chunk to swallow when fear\, doubt and anger abound in and around me. Sometimes just the idea of doing something different\, something I am not accustomed to doing\, can eventually become an act of faith if I do it regularly\, and do it without debating whether it’s the right thing to do. When a bad day comes along and everything is going wrong\, a meeting or a talk with another drunk often distracts me just enough to persuade me that everything is not quite as impossible\, as overwhelming as I had thought. In the same way\, going to a meeting or talking to a fellow alcoholic are acts of faith; I believe I’m arresting my disease. These are ways I slowly move toward faith in a Higher Power. \n\n\nFrom the book Daily Reflections.\nCopyright © 1990 by Alcoholics Anonymous World Services\, Inc. All rights reserved. \nAll Daily reflections
URL:https://www.aa87.org/en/evenement/rq0306/2026-03-06/
CATEGORIES:Réflexion Quotidiennes
END:VEVENT
END:VCALENDAR