BEGIN:VCALENDAR
VERSION:2.0
PRODID:-//AA Area 87 - ECPv6.15.17//NONSGML v1.0//EN
CALSCALE:GREGORIAN
METHOD:PUBLISH
X-WR-CALNAME:AA Area 87
X-ORIGINAL-URL:https://www.aa87.org/en/
X-WR-CALDESC:Events for AA Area 87
REFRESH-INTERVAL;VALUE=DURATION:PT1H
X-Robots-Tag:noindex
X-PUBLISHED-TTL:PT1H
BEGIN:VTIMEZONE
TZID:America/Toronto
BEGIN:DAYLIGHT
TZOFFSETFROM:-0500
TZOFFSETTO:-0400
TZNAME:EDT
DTSTART:20280312T070000
END:DAYLIGHT
BEGIN:STANDARD
TZOFFSETFROM:-0400
TZOFFSETTO:-0500
TZNAME:EST
DTSTART:20281105T060000
END:STANDARD
BEGIN:DAYLIGHT
TZOFFSETFROM:-0500
TZOFFSETTO:-0400
TZNAME:EDT
DTSTART:20290311T070000
END:DAYLIGHT
BEGIN:STANDARD
TZOFFSETFROM:-0400
TZOFFSETTO:-0500
TZNAME:EST
DTSTART:20291104T060000
END:STANDARD
BEGIN:DAYLIGHT
TZOFFSETFROM:-0500
TZOFFSETTO:-0400
TZNAME:EDT
DTSTART:20300310T070000
END:DAYLIGHT
BEGIN:STANDARD
TZOFFSETFROM:-0400
TZOFFSETTO:-0500
TZNAME:EST
DTSTART:20301103T060000
END:STANDARD
END:VTIMEZONE
BEGIN:VEVENT
DTSTART;VALUE=DATE:20290416
DTEND;VALUE=DATE:20290417
DTSTAMP:20260419T102218
CREATED:20250829T002023Z
LAST-MODIFIED:20250829T003131Z
UID:10025132-1870992000-1871078399@www.aa87.org
SUMMARY:Daily Reflection April 16
DESCRIPTION:Anger: a “dubious luxury”\nApril 16\n\nIf we were to live\, we had to be free of anger. The grouch and the brainstorm were not for us. They may be the dubious luxury of normal men\, but for alcoholics these things are poison. \nAlcoholics anonymous\, p. 66 \n“Dubious luxury.” How often have I remembered those words. It’s not just anger that’s best left to nonalcoholics; I built a list including justifiable resentment\, self-pity\, judgmentalism\, self-righteousness\, false pride and false humility. I’m always surprised to read the actual quote. So well have the principles of the program been drummed into me that I keep thinking all of these defects are listed too. Thank God I can’t afford them—or I surely would indulge in them. \n\nFrom the book Daily Reflections.\nCopyright © 1990 by Alcoholics Anonymous World Services\, Inc. All rights reserved. \nAll Daily reflections
URL:https://www.aa87.org/en/evenement/rq0416/2029-04-16/
CATEGORIES:Réflexion Quotidiennes
END:VEVENT
END:VCALENDAR