BEGIN:VCALENDAR
VERSION:2.0
PRODID:-//AA Area 87 - ECPv6.15.17//NONSGML v1.0//EN
CALSCALE:GREGORIAN
METHOD:PUBLISH
X-WR-CALNAME:AA Area 87
X-ORIGINAL-URL:https://www.aa87.org/en/
X-WR-CALDESC:Events for AA Area 87
REFRESH-INTERVAL;VALUE=DURATION:PT1H
X-Robots-Tag:noindex
X-PUBLISHED-TTL:PT1H
BEGIN:VTIMEZONE
TZID:America/Toronto
BEGIN:DAYLIGHT
TZOFFSETFROM:-0500
TZOFFSETTO:-0400
TZNAME:EDT
DTSTART:20290311T070000
END:DAYLIGHT
BEGIN:STANDARD
TZOFFSETFROM:-0400
TZOFFSETTO:-0500
TZNAME:EST
DTSTART:20291104T060000
END:STANDARD
BEGIN:DAYLIGHT
TZOFFSETFROM:-0500
TZOFFSETTO:-0400
TZNAME:EDT
DTSTART:20300310T070000
END:DAYLIGHT
BEGIN:STANDARD
TZOFFSETFROM:-0400
TZOFFSETTO:-0500
TZNAME:EST
DTSTART:20301103T060000
END:STANDARD
BEGIN:DAYLIGHT
TZOFFSETFROM:-0500
TZOFFSETTO:-0400
TZNAME:EDT
DTSTART:20310309T070000
END:DAYLIGHT
BEGIN:STANDARD
TZOFFSETFROM:-0400
TZOFFSETTO:-0500
TZNAME:EST
DTSTART:20311102T060000
END:STANDARD
END:VTIMEZONE
BEGIN:VEVENT
DTSTART;VALUE=DATE:20300425
DTEND;VALUE=DATE:20300426
DTSTAMP:20260419T111459
CREATED:20250915T222534Z
LAST-MODIFIED:20250915T223108Z
UID:10025493-1903305600-1903391999@www.aa87.org
SUMMARY:Daily Reflection April 25
DESCRIPTION:Entering a new dimension\nApril 25\n\nIn the late stages of our drinking\, the will to resist has fled. Yet when we admit complete defeat and when we become entirely ready to try A.A. principles\, our obsession leaves us and we enter a new dimension—freedom under God as we understand Him. \nAs Bill sees it\, p. 283 \nI am fortunate to be among the ones who have had this awesome transformation in my life. When I entered the doors of A.A.\, alone and desperate\, I had been beaten into willingness to believe anything I heard. One of the things I heard was\, “This could be your last hangover\, or you can keep going round and round.” The man who said this obviously was a whole lot better off than I. I liked the idea of admitting defeat and I have been free ever since! My heart heard what my mind never could: “Being powerless over alcohol is no big deal.” I’m free and I’m grateful! \n\n\nFrom the book Daily Reflections.\nCopyright © 1990 by Alcoholics Anonymous World Services\, Inc. All rights reserved. \nAll Daily reflections
URL:https://www.aa87.org/en/evenement/rq0425/2030-04-25/
CATEGORIES:Réflexion Quotidiennes
END:VEVENT
END:VCALENDAR