BEGIN:VCALENDAR
VERSION:2.0
PRODID:-//AA Area 87 - ECPv6.15.17//NONSGML v1.0//EN
CALSCALE:GREGORIAN
METHOD:PUBLISH
X-WR-CALNAME:AA Area 87
X-ORIGINAL-URL:https://www.aa87.org/en/
X-WR-CALDESC:Events for AA Area 87
REFRESH-INTERVAL;VALUE=DURATION:PT1H
X-Robots-Tag:noindex
X-PUBLISHED-TTL:PT1H
BEGIN:VTIMEZONE
TZID:America/Toronto
BEGIN:DAYLIGHT
TZOFFSETFROM:-0500
TZOFFSETTO:-0400
TZNAME:EDT
DTSTART:20290311T070000
END:DAYLIGHT
BEGIN:STANDARD
TZOFFSETFROM:-0400
TZOFFSETTO:-0500
TZNAME:EST
DTSTART:20291104T060000
END:STANDARD
BEGIN:DAYLIGHT
TZOFFSETFROM:-0500
TZOFFSETTO:-0400
TZNAME:EDT
DTSTART:20300310T070000
END:DAYLIGHT
BEGIN:STANDARD
TZOFFSETFROM:-0400
TZOFFSETTO:-0500
TZNAME:EST
DTSTART:20301103T060000
END:STANDARD
BEGIN:DAYLIGHT
TZOFFSETFROM:-0500
TZOFFSETTO:-0400
TZNAME:EDT
DTSTART:20310309T070000
END:DAYLIGHT
BEGIN:STANDARD
TZOFFSETFROM:-0400
TZOFFSETTO:-0500
TZNAME:EST
DTSTART:20311102T060000
END:STANDARD
END:VTIMEZONE
BEGIN:VEVENT
DTSTART;VALUE=DATE:20300428
DTEND;VALUE=DATE:20300429
DTSTAMP:20260419T110704
CREATED:20250915T223647Z
LAST-MODIFIED:20250915T224436Z
UID:10025508-1903564800-1903651199@www.aa87.org
SUMMARY:Daily Reflection April 26
DESCRIPTION:Happiness is not the point\nApril 26\n\nI don’t think happiness or unhappiness is the point. How do we meet the problems we face? How do we best learn from them and transmit what we have learned to others\, if they would receive the knowledge? \nAs Bill sees it\, p. 306 \nIn my search “to be happy\,” I changed jobs\, married and divorced\, took geographical cures\, and ran myself into debt—financially\, emotionally and spiritually. In A.A.\, I’m learning to grow up. Instead of demanding that people\, places and things make me happy\, I can ask God for self-acceptance. When a problem overwhelms me\, A.A.’s Twelve Steps will help me grow through the pain. The knowledge I gain can be a gift to others who suffer with the same problem. As Bill said\, “When pain comes\, we are expected to learn from it willingly\, and help others to learn. When happiness comes\, we accept it as a gift\, and thank God for it.” (As Bill Sees It\, p. 306) \nFrom the book Daily Reflections.\nCopyright © 1990 by Alcoholics Anonymous World Services\, Inc. All rights reserved. \nAll Daily reflections
URL:https://www.aa87.org/en/evenement/rq0426/2030-04-28/
CATEGORIES:Réflexion Quotidiennes
END:VEVENT
END:VCALENDAR