BEGIN:VCALENDAR
VERSION:2.0
PRODID:-//AA Area 87 - ECPv6.15.17//NONSGML v1.0//EN
CALSCALE:GREGORIAN
METHOD:PUBLISH
X-WR-CALNAME:AA Area 87
X-ORIGINAL-URL:https://www.aa87.org/en/
X-WR-CALDESC:Events for AA Area 87
REFRESH-INTERVAL;VALUE=DURATION:PT1H
X-Robots-Tag:noindex
X-PUBLISHED-TTL:PT1H
BEGIN:VTIMEZONE
TZID:America/Toronto
BEGIN:DAYLIGHT
TZOFFSETFROM:-0500
TZOFFSETTO:-0400
TZNAME:EDT
DTSTART:20290311T070000
END:DAYLIGHT
BEGIN:STANDARD
TZOFFSETFROM:-0400
TZOFFSETTO:-0500
TZNAME:EST
DTSTART:20291104T060000
END:STANDARD
BEGIN:DAYLIGHT
TZOFFSETFROM:-0500
TZOFFSETTO:-0400
TZNAME:EDT
DTSTART:20300310T070000
END:DAYLIGHT
BEGIN:STANDARD
TZOFFSETFROM:-0400
TZOFFSETTO:-0500
TZNAME:EST
DTSTART:20301103T060000
END:STANDARD
BEGIN:DAYLIGHT
TZOFFSETFROM:-0500
TZOFFSETTO:-0400
TZNAME:EDT
DTSTART:20310309T070000
END:DAYLIGHT
BEGIN:STANDARD
TZOFFSETFROM:-0400
TZOFFSETTO:-0500
TZNAME:EST
DTSTART:20311102T060000
END:STANDARD
END:VTIMEZONE
BEGIN:VEVENT
DTSTART;VALUE=DATE:20300601
DTEND;VALUE=DATE:20300602
DTSTAMP:20260419T080616
CREATED:20250622T135218Z
LAST-MODIFIED:20250622T140246Z
UID:10022367-1906502400-1906588799@www.aa87.org
SUMMARY:Daily Reflection June 1
DESCRIPTION:A changed outlook\nJune 01\n\nOur whole attitude and outlook upon life will change. \nAlcoholics anonymous\, p. 84 \nWhen I was drinking\, my attitude was totally selfish\, totally self-centered; my pleasure and my comfort came first. Now that I am sober\, self-seeking has started to slip away. My whole attitude toward life and other people is changing. For me\, the first “A” in our name stands for attitude.  My attitude is changed by the second “A” in our name\, which stands for action.  By working the Steps\, attending meetings\, and carrying the message\, I can be restored to sanity. Action is the magic word! With a positive\, helpful attitude and regular A.A. action\, I can stay sober and help others to achieve sobriety. My attitude now is that I am willing to go to any length to stay sober! \nFrom the book Daily Reflections.\nCopyright © 1990 by Alcoholics Anonymous World Services\, Inc. All rights reserved. \nAll Daily reflections \n\n 
URL:https://www.aa87.org/en/evenement/rq0601/2030-06-01/
CATEGORIES:Réflexion Quotidiennes
END:VEVENT
END:VCALENDAR