BEGIN:VCALENDAR
VERSION:2.0
PRODID:-//AA Area 87 - ECPv6.15.17//NONSGML v1.0//EN
CALSCALE:GREGORIAN
METHOD:PUBLISH
X-WR-CALNAME:AA Area 87
X-ORIGINAL-URL:https://www.aa87.org/en/
X-WR-CALDESC:Events for AA Area 87
REFRESH-INTERVAL;VALUE=DURATION:PT1H
X-Robots-Tag:noindex
X-PUBLISHED-TTL:PT1H
BEGIN:VTIMEZONE
TZID:America/Toronto
BEGIN:DAYLIGHT
TZOFFSETFROM:-0500
TZOFFSETTO:-0400
TZNAME:EDT
DTSTART:20260308T070000
END:DAYLIGHT
BEGIN:STANDARD
TZOFFSETFROM:-0400
TZOFFSETTO:-0500
TZNAME:EST
DTSTART:20261101T060000
END:STANDARD
BEGIN:DAYLIGHT
TZOFFSETFROM:-0500
TZOFFSETTO:-0400
TZNAME:EDT
DTSTART:20270314T070000
END:DAYLIGHT
BEGIN:STANDARD
TZOFFSETFROM:-0400
TZOFFSETTO:-0500
TZNAME:EST
DTSTART:20271107T060000
END:STANDARD
BEGIN:DAYLIGHT
TZOFFSETFROM:-0500
TZOFFSETTO:-0400
TZNAME:EDT
DTSTART:20280312T070000
END:DAYLIGHT
BEGIN:STANDARD
TZOFFSETFROM:-0400
TZOFFSETTO:-0500
TZNAME:EST
DTSTART:20281105T060000
END:STANDARD
END:VTIMEZONE
BEGIN:VEVENT
DTSTART;VALUE=DATE:20270608
DTEND;VALUE=DATE:20270609
DTSTAMP:20260419T112640
CREATED:20250622T140702Z
LAST-MODIFIED:20250622T141325Z
UID:10022382-1812412800-1812499199@www.aa87.org
SUMMARY:Daily Reflection June 08
DESCRIPTION:Opening up to change\nJune 08\n\nSelf-searching is the means by which we bring new vision\, action\, and grace to bear upon the dark and negative side of our natures. With it comes the development of that kind of humility that makes it possible for us to receive God’s help. . . . we find that bit by bit we can discard the old life — the one that did not work — for a new life that can and does work under any conditions whatever. \nAs Bill sees it\, pp. 10\, 8 \nI have been given a daily reprieve contingent upon my spiritual condition\, provided I seek progress\, not perfection. To become ready for change\, I practice willingness\, opening myself to possibilities of change. If I realize there are defects that hinder my usefulness in A.A. and toward others\, I become ready by meditating and receiving direction. “Some of us have tried to hold on to our old ideas and the result was nil until we let go absolutely” (  Alcoholics Anonymous\,  p. 58). To let go and let God\, I need only surrender my old ways to Him; I no longer fight nor do I try to control\, but simply believe that\, with God’s help\, I am changed and affirming this belief makes me ready. I empty myself to be full of awareness\, light\, and love\, and I am ready to face each day with hope. \n\nFrom the book Daily Reflections.\nCopyright © 1990 by Alcoholics Anonymous World Services\, Inc. All rights reserved. \nAll Daily reflections \n\n  \n\n 
URL:https://www.aa87.org/en/evenement/rq0608/2027-06-08/
CATEGORIES:Réflexion Quotidiennes
END:VEVENT
END:VCALENDAR