BEGIN:VCALENDAR
VERSION:2.0
PRODID:-//AA Area 87 - ECPv6.15.17//NONSGML v1.0//EN
CALSCALE:GREGORIAN
METHOD:PUBLISH
X-WR-CALNAME:AA Area 87
X-ORIGINAL-URL:https://www.aa87.org/en/
X-WR-CALDESC:Events for AA Area 87
REFRESH-INTERVAL;VALUE=DURATION:PT1H
X-Robots-Tag:noindex
X-PUBLISHED-TTL:PT1H
BEGIN:VTIMEZONE
TZID:America/Toronto
BEGIN:DAYLIGHT
TZOFFSETFROM:-0500
TZOFFSETTO:-0400
TZNAME:EDT
DTSTART:20270314T070000
END:DAYLIGHT
BEGIN:STANDARD
TZOFFSETFROM:-0400
TZOFFSETTO:-0500
TZNAME:EST
DTSTART:20271107T060000
END:STANDARD
BEGIN:DAYLIGHT
TZOFFSETFROM:-0500
TZOFFSETTO:-0400
TZNAME:EDT
DTSTART:20280312T070000
END:DAYLIGHT
BEGIN:STANDARD
TZOFFSETFROM:-0400
TZOFFSETTO:-0500
TZNAME:EST
DTSTART:20281105T060000
END:STANDARD
BEGIN:DAYLIGHT
TZOFFSETFROM:-0500
TZOFFSETTO:-0400
TZNAME:EDT
DTSTART:20290311T070000
END:DAYLIGHT
BEGIN:STANDARD
TZOFFSETFROM:-0400
TZOFFSETTO:-0500
TZNAME:EST
DTSTART:20291104T060000
END:STANDARD
END:VTIMEZONE
BEGIN:VEVENT
DTSTART;VALUE=DATE:20280705
DTEND;VALUE=DATE:20280706
DTSTAMP:20260419T082807
CREATED:20250705T014157Z
LAST-MODIFIED:20250705T014959Z
UID:10022609-1846368000-1846454399@www.aa87.org
SUMMARY:Daily Reflection July 5
DESCRIPTION:A new direction\nJuly 05\n\nOur human resources\, as marshalled by the will\, were not sufficient; they failed utterly. . . . Every day is a day when we must carry the vision of God’s will into all our activities. \nAlcoholics anonymous\, pp. 45\, 85 \nI hear talk of the “weak-willed” alcoholic\, but I am one of the strongest-willed people on earth! I now know that my incredible strength of will is not enough to save my life. My problem is not one of “weakness\,” but rather of direction. When I\, without falsely diminishing myself\, accept my honest limitations and turn to God’s guidance\, my worst faults become my greatest assets. My strong will\, rightly directed\, keeps me working until the promises of the program become my daily reality. \nFrom the book Daily Reflections.\nCopyright © 1990 by Alcoholics Anonymous World Services\, Inc. All rights reserved. \nAll Daily reflections \n\n\n 
URL:https://www.aa87.org/en/evenement/rq0705/2028-07-05/
CATEGORIES:Réflexion Quotidiennes
END:VEVENT
END:VCALENDAR