BEGIN:VCALENDAR
VERSION:2.0
PRODID:-//AA Area 87 - ECPv6.15.17//NONSGML v1.0//EN
CALSCALE:GREGORIAN
METHOD:PUBLISH
X-WR-CALNAME:AA Area 87
X-ORIGINAL-URL:https://www.aa87.org/en/
X-WR-CALDESC:Events for AA Area 87
REFRESH-INTERVAL;VALUE=DURATION:PT1H
X-Robots-Tag:noindex
X-PUBLISHED-TTL:PT1H
BEGIN:VTIMEZONE
TZID:America/Toronto
BEGIN:DAYLIGHT
TZOFFSETFROM:-0500
TZOFFSETTO:-0400
TZNAME:EDT
DTSTART:20280312T070000
END:DAYLIGHT
BEGIN:STANDARD
TZOFFSETFROM:-0400
TZOFFSETTO:-0500
TZNAME:EST
DTSTART:20281105T060000
END:STANDARD
BEGIN:DAYLIGHT
TZOFFSETFROM:-0500
TZOFFSETTO:-0400
TZNAME:EDT
DTSTART:20290311T070000
END:DAYLIGHT
BEGIN:STANDARD
TZOFFSETFROM:-0400
TZOFFSETTO:-0500
TZNAME:EST
DTSTART:20291104T060000
END:STANDARD
BEGIN:DAYLIGHT
TZOFFSETFROM:-0500
TZOFFSETTO:-0400
TZNAME:EDT
DTSTART:20300310T070000
END:DAYLIGHT
BEGIN:STANDARD
TZOFFSETFROM:-0400
TZOFFSETTO:-0500
TZNAME:EST
DTSTART:20301103T060000
END:STANDARD
END:VTIMEZONE
BEGIN:VEVENT
DTSTART;VALUE=DATE:20290720
DTEND;VALUE=DATE:20290721
DTSTAMP:20260419T111521
CREATED:20241103T133454Z
LAST-MODIFIED:20241103T134153Z
UID:10009070-1879200000-1879286399@www.aa87.org
SUMMARY:Daily reflection July 20
DESCRIPTION:Shortcomings removed\nJuly 20\n\nBut now the words “Of myself I am nothing\, the Father doeth the works” began to carry bright promise and meaning. \nTwelve steps and twelve traditions\, p. 75 \nWhen I put the Seventh Step into action I must remember that there are no blanks to fill in. It doesn’t say\, “Humbly asked Him to (fill in the blank) remove our shortcomings.” For years\, I filled in the imaginary blank with “Help me!” “Give me the courage to\,” and “Give me the strength\,” etc. The Step says simply that God will remove my shortcomings. The only footwork I must do is “humbly ask\,” which for me means asking with the knowledge that of myself I am nothing\, the Father within “doeth the works.” \nFrom the book Daily Reflections.\nCopyright © 1990 by Alcoholics Anonymous World Services\, Inc. All rights reserved. \nAll Daily reflections \n\n\n 
URL:https://www.aa87.org/en/evenement/rq0720/2029-07-20/
LOCATION:aa87.org
CATEGORIES:Réflexion Quotidiennes
END:VEVENT
END:VCALENDAR