BEGIN:VCALENDAR
VERSION:2.0
PRODID:-//AA Area 87 - ECPv6.15.17//NONSGML v1.0//EN
CALSCALE:GREGORIAN
METHOD:PUBLISH
X-WR-CALNAME:AA Area 87
X-ORIGINAL-URL:https://www.aa87.org/en/
X-WR-CALDESC:Events for AA Area 87
REFRESH-INTERVAL;VALUE=DURATION:PT1H
X-Robots-Tag:noindex
X-PUBLISHED-TTL:PT1H
BEGIN:VTIMEZONE
TZID:America/Toronto
BEGIN:DAYLIGHT
TZOFFSETFROM:-0500
TZOFFSETTO:-0400
TZNAME:EDT
DTSTART:20280312T070000
END:DAYLIGHT
BEGIN:STANDARD
TZOFFSETFROM:-0400
TZOFFSETTO:-0500
TZNAME:EST
DTSTART:20281105T060000
END:STANDARD
BEGIN:DAYLIGHT
TZOFFSETFROM:-0500
TZOFFSETTO:-0400
TZNAME:EDT
DTSTART:20290311T070000
END:DAYLIGHT
BEGIN:STANDARD
TZOFFSETFROM:-0400
TZOFFSETTO:-0500
TZNAME:EST
DTSTART:20291104T060000
END:STANDARD
BEGIN:DAYLIGHT
TZOFFSETFROM:-0500
TZOFFSETTO:-0400
TZNAME:EDT
DTSTART:20300310T070000
END:DAYLIGHT
BEGIN:STANDARD
TZOFFSETFROM:-0400
TZOFFSETTO:-0500
TZNAME:EST
DTSTART:20301103T060000
END:STANDARD
END:VTIMEZONE
BEGIN:VEVENT
DTSTART;VALUE=DATE:20290722
DTEND;VALUE=DATE:20290723
DTSTAMP:20260419T150450
CREATED:20250713T123357Z
LAST-MODIFIED:20250713T124015Z
UID:10022858-1879372800-1879459199@www.aa87.org
SUMMARY:Daily Reflection July 22
DESCRIPTION:“The good and the bad”\nJuly 22\n\n“My Creator\, I am now willing that you should have all of me\, good and bad.” \nAlcoholics anonymous\, p. 76 \nThe joy of life is in the giving. Being freed of my shortcomings\, that I may more freely be of service\, allows humility to grow in me. My shortcomings can be humbly placed in God’s loving care and be removed. The essence of Step Seven is humility\, and what better way to seek humility than by giving all of myself – good and bad – to God\, so that He may remove the bad and return to me the good. \n\nFrom the book Daily Reflections.\nCopyright © 1990 by Alcoholics Anonymous World Services\, Inc. All rights reserved. \nAll Daily reflections \n 
URL:https://www.aa87.org/en/evenement/rq0722/2029-07-22/
CATEGORIES:Réflexion Quotidiennes
END:VEVENT
END:VCALENDAR