BEGIN:VCALENDAR
VERSION:2.0
PRODID:-//AA Area 87 - ECPv6.15.17//NONSGML v1.0//EN
CALSCALE:GREGORIAN
METHOD:PUBLISH
X-WR-CALNAME:AA Area 87
X-ORIGINAL-URL:https://www.aa87.org/en/
X-WR-CALDESC:Events for AA Area 87
REFRESH-INTERVAL;VALUE=DURATION:PT1H
X-Robots-Tag:noindex
X-PUBLISHED-TTL:PT1H
BEGIN:VTIMEZONE
TZID:America/Toronto
BEGIN:DAYLIGHT
TZOFFSETFROM:-0500
TZOFFSETTO:-0400
TZNAME:EDT
DTSTART:20240310T070000
END:DAYLIGHT
BEGIN:STANDARD
TZOFFSETFROM:-0400
TZOFFSETTO:-0500
TZNAME:EST
DTSTART:20241103T060000
END:STANDARD
BEGIN:DAYLIGHT
TZOFFSETFROM:-0500
TZOFFSETTO:-0400
TZNAME:EDT
DTSTART:20250309T070000
END:DAYLIGHT
BEGIN:STANDARD
TZOFFSETFROM:-0400
TZOFFSETTO:-0500
TZNAME:EST
DTSTART:20251102T060000
END:STANDARD
BEGIN:DAYLIGHT
TZOFFSETFROM:-0500
TZOFFSETTO:-0400
TZNAME:EDT
DTSTART:20260308T070000
END:DAYLIGHT
BEGIN:STANDARD
TZOFFSETFROM:-0400
TZOFFSETTO:-0500
TZNAME:EST
DTSTART:20261101T060000
END:STANDARD
END:VTIMEZONE
BEGIN:VEVENT
DTSTART;VALUE=DATE:20251001
DTEND;VALUE=DATE:20251002
DTSTAMP:20260419T095646
CREATED:20240923T001221Z
LAST-MODIFIED:20240923T002407Z
UID:10008320-1759276800-1759363199@www.aa87.org
SUMMARY:Daily reflection October 01
DESCRIPTION:Lest we become complacent\nOctober 01 \nIt is easy to let up on the spiritual program of action and rest on our laurels. We are headed for trouble if we do\, for alcohol is a subtle foe. \nAlcoholics AnonymousS\, p. 85 \nWhen I am in pain it is easy to stay close to the friends I have found in the program. Relief from that pain is provided in the solutions contained in A.A.’s Twelve Steps. But when I am feeling good and things are going well\, I can become complacent. To put it simply\, I become lazy and turn into the problem instead of the solution. I need to get into action\, to take stock: where am I and where am I going? A daily inventory will tell me what I must change to regain spiritual balance. Admitting what I find within myself\, to God and to another human being\, keeps me honest and humble. \nFrom the book Daily Reflections.\nCopyright © 1990 by Alcoholics Anonymous World Services\, Inc. All rights reserved. \nAll Daily reflections
URL:https://www.aa87.org/en/evenement/rq1001/2025-10-01/
LOCATION:aa87.org
CATEGORIES:Réflexion Quotidiennes
END:VEVENT
END:VCALENDAR