BEGIN:VCALENDAR
VERSION:2.0
PRODID:-//AA Area 87 - ECPv6.15.17//NONSGML v1.0//EN
CALSCALE:GREGORIAN
METHOD:PUBLISH
X-WR-CALNAME:AA Area 87
X-ORIGINAL-URL:https://www.aa87.org/en/
X-WR-CALDESC:Events for AA Area 87
REFRESH-INTERVAL;VALUE=DURATION:PT1H
X-Robots-Tag:noindex
X-PUBLISHED-TTL:PT1H
BEGIN:VTIMEZONE
TZID:America/Toronto
BEGIN:DAYLIGHT
TZOFFSETFROM:-0500
TZOFFSETTO:-0400
TZNAME:EDT
DTSTART:20260308T070000
END:DAYLIGHT
BEGIN:STANDARD
TZOFFSETFROM:-0400
TZOFFSETTO:-0500
TZNAME:EST
DTSTART:20261101T060000
END:STANDARD
BEGIN:DAYLIGHT
TZOFFSETFROM:-0500
TZOFFSETTO:-0400
TZNAME:EDT
DTSTART:20270314T070000
END:DAYLIGHT
BEGIN:STANDARD
TZOFFSETFROM:-0400
TZOFFSETTO:-0500
TZNAME:EST
DTSTART:20271107T060000
END:STANDARD
BEGIN:DAYLIGHT
TZOFFSETFROM:-0500
TZOFFSETTO:-0400
TZNAME:EDT
DTSTART:20280312T070000
END:DAYLIGHT
BEGIN:STANDARD
TZOFFSETFROM:-0400
TZOFFSETTO:-0500
TZNAME:EST
DTSTART:20281105T060000
END:STANDARD
END:VTIMEZONE
BEGIN:VEVENT
DTSTART;VALUE=DATE:20271014
DTEND;VALUE=DATE:20271015
DTSTAMP:20260419T093328
CREATED:20250731T135639Z
LAST-MODIFIED:20250731T140454Z
UID:10024472-1823472000-1823558399@www.aa87.org
SUMMARY:Daily Reflection October 14
DESCRIPTION:A program for living\nOctober 14\n\nWhen we retire at night\, we constructively review our day. . . . On awakening let us think about the twenty-four hours ahead. . . . Before we begin\, we ask God to direct our thinking\, especially asking that it be divorced from self-pity\, dishonest or self-seeking motives. \nAlcoholics anonymous\, p. 86 \nI lacked serenity. With more to do than seemed possible\, I fell further behind\, no matter how hard I tried. Worries about things not done yesterday and fear of tomorrow’s deadlines denied me the calm I needed to be effective each day. Before taking Steps Ten and Eleven\, I began to read passages like the one cited above. I tried to focus on God’s will\, not my problems\, and to trust that He would manage my day. It worked! Slowly\, but it worked! \nFrom the book Daily Reflections.\nCopyright © 1990 by Alcoholics Anonymous World Services\, Inc. All rights reserved. \nAll Daily reflections
URL:https://www.aa87.org/en/evenement/rq1014/2027-10-14/
CATEGORIES:Réflexion Quotidiennes
END:VEVENT
END:VCALENDAR