BEGIN:VCALENDAR
VERSION:2.0
PRODID:-//AA Area 87 - ECPv6.15.17//NONSGML v1.0//EN
CALSCALE:GREGORIAN
METHOD:PUBLISH
X-WR-CALNAME:AA Area 87
X-ORIGINAL-URL:https://www.aa87.org/en/
X-WR-CALDESC:Events for AA Area 87
REFRESH-INTERVAL;VALUE=DURATION:PT1H
X-Robots-Tag:noindex
X-PUBLISHED-TTL:PT1H
BEGIN:VTIMEZONE
TZID:America/Toronto
BEGIN:DAYLIGHT
TZOFFSETFROM:-0500
TZOFFSETTO:-0400
TZNAME:EDT
DTSTART:20230312T070000
END:DAYLIGHT
BEGIN:STANDARD
TZOFFSETFROM:-0400
TZOFFSETTO:-0500
TZNAME:EST
DTSTART:20231105T060000
END:STANDARD
BEGIN:DAYLIGHT
TZOFFSETFROM:-0500
TZOFFSETTO:-0400
TZNAME:EDT
DTSTART:20240310T070000
END:DAYLIGHT
BEGIN:STANDARD
TZOFFSETFROM:-0400
TZOFFSETTO:-0500
TZNAME:EST
DTSTART:20241103T060000
END:STANDARD
BEGIN:DAYLIGHT
TZOFFSETFROM:-0500
TZOFFSETTO:-0400
TZNAME:EDT
DTSTART:20250309T070000
END:DAYLIGHT
BEGIN:STANDARD
TZOFFSETFROM:-0400
TZOFFSETTO:-0500
TZNAME:EST
DTSTART:20251102T060000
END:STANDARD
END:VTIMEZONE
BEGIN:VEVENT
DTSTART;TZID=America/Toronto:20240608T083000
DTEND;TZID=America/Toronto:20240608T143000
DTSTAMP:20260419T112952
CREATED:20240102T124402Z
LAST-MODIFIED:20240510T141654Z
UID:114188-1717835400-1717857000@www.aa87.org
SUMMARY:Area assembly + brunch / report from the delegate to District 87-02
DESCRIPTION:
URL:https://www.aa87.org/en/event/assemblee-regionale-brunch-rapport-du-delegue-au-district-87-02/
LOCATION:Église Notre-Dame-de-la-Consolata\, 1700 rue Jean-Talon Est\, Montréal\, QC\, H2E 1T2\, Canada
CATEGORIES:Archives,Area Assembly,Assemblée du Délégué,Régional
END:VEVENT
END:VCALENDAR