BEGIN:VCALENDAR
VERSION:2.0
PRODID:-//AA Area 87 - ECPv6.15.17//NONSGML v1.0//EN
CALSCALE:GREGORIAN
METHOD:PUBLISH
X-WR-CALNAME:AA Area 87
X-ORIGINAL-URL:https://www.aa87.org/en/
X-WR-CALDESC:Events for AA Area 87
REFRESH-INTERVAL;VALUE=DURATION:PT1H
X-Robots-Tag:noindex
X-PUBLISHED-TTL:PT1H
BEGIN:VTIMEZONE
TZID:America/Toronto
BEGIN:DAYLIGHT
TZOFFSETFROM:-0500
TZOFFSETTO:-0400
TZNAME:EDT
DTSTART:20250309T070000
END:DAYLIGHT
BEGIN:STANDARD
TZOFFSETFROM:-0400
TZOFFSETTO:-0500
TZNAME:EST
DTSTART:20251102T060000
END:STANDARD
BEGIN:DAYLIGHT
TZOFFSETFROM:-0500
TZOFFSETTO:-0400
TZNAME:EDT
DTSTART:20260308T070000
END:DAYLIGHT
BEGIN:STANDARD
TZOFFSETFROM:-0400
TZOFFSETTO:-0500
TZNAME:EST
DTSTART:20261101T060000
END:STANDARD
BEGIN:DAYLIGHT
TZOFFSETFROM:-0500
TZOFFSETTO:-0400
TZNAME:EDT
DTSTART:20270314T070000
END:DAYLIGHT
BEGIN:STANDARD
TZOFFSETFROM:-0400
TZOFFSETTO:-0500
TZNAME:EST
DTSTART:20271107T060000
END:STANDARD
END:VTIMEZONE
BEGIN:VEVENT
DTSTART;TZID=America/Toronto:20260321T090000
DTEND;TZID=America/Toronto:20260321T160000
DTSTAMP:20260419T114507
CREATED:20260130T213742Z
LAST-MODIFIED:20260320T201215Z
UID:143905-1774083600-1774108800@www.aa87.org
SUMMARY:Seminar on the Structure of A.A.
DESCRIPTION:The Group Services Committee\nInvites you to its next seminar on the structure of AA\nHybrid \nRegion 87 Service Office\n3920 Rachel Street East\nMontreal\, Quebec H1X 1Z3\nMapIt \nJoin the meeting\n\n  \nMeeting ID: 910 8777 9314 \nPasscode: 1234 \nAgenda: History of AA; group structure and operation;\nArea 87; overview of our principles of unity and service (Traditions and Concepts). \n“Learn more about the spiritual principles that govern us and the structures that serve us.” \nTo participate\, register by calling the RSO (voicemail)\, extension 3. \nSee the announcement \n 
URL:https://www.aa87.org/en/event/seminaire-sur-la-structure-des-aa-anglais/
LOCATION:BSR / ASO\, 3920\, rue Rachel Est\, Montréal QC\, H1X 1Z3\, 3920\, Rachel Est\, Montréal\, Québec\, H1X 1Z3\, Canada
CATEGORIES:Activité,Committees,Group Services
END:VEVENT
END:VCALENDAR