BEGIN:VCALENDAR
VERSION:2.0
PRODID:-//AA Area 87 - ECPv6.15.17//NONSGML v1.0//EN
CALSCALE:GREGORIAN
METHOD:PUBLISH
X-WR-CALNAME:AA Area 87
X-ORIGINAL-URL:https://www.aa87.org/en/
X-WR-CALDESC:Events for AA Area 87
REFRESH-INTERVAL;VALUE=DURATION:PT1H
X-Robots-Tag:noindex
X-PUBLISHED-TTL:PT1H
BEGIN:VTIMEZONE
TZID:America/Toronto
BEGIN:DAYLIGHT
TZOFFSETFROM:-0500
TZOFFSETTO:-0400
TZNAME:EDT
DTSTART:20240310T070000
END:DAYLIGHT
BEGIN:STANDARD
TZOFFSETFROM:-0400
TZOFFSETTO:-0500
TZNAME:EST
DTSTART:20241103T060000
END:STANDARD
BEGIN:DAYLIGHT
TZOFFSETFROM:-0500
TZOFFSETTO:-0400
TZNAME:EDT
DTSTART:20250309T070000
END:DAYLIGHT
BEGIN:STANDARD
TZOFFSETFROM:-0400
TZOFFSETTO:-0500
TZNAME:EST
DTSTART:20251102T060000
END:STANDARD
BEGIN:DAYLIGHT
TZOFFSETFROM:-0500
TZOFFSETTO:-0400
TZNAME:EDT
DTSTART:20260308T070000
END:DAYLIGHT
BEGIN:STANDARD
TZOFFSETFROM:-0400
TZOFFSETTO:-0500
TZNAME:EST
DTSTART:20261101T060000
END:STANDARD
BEGIN:DAYLIGHT
TZOFFSETFROM:-0500
TZOFFSETTO:-0400
TZNAME:EDT
DTSTART:20270314T070000
END:DAYLIGHT
BEGIN:STANDARD
TZOFFSETFROM:-0400
TZOFFSETTO:-0500
TZNAME:EST
DTSTART:20271107T060000
END:STANDARD
END:VTIMEZONE
BEGIN:VEVENT
DTSTART;TZID=America/Toronto:20260325T190000
DTEND;TZID=America/Toronto:20260325T210000
DTSTAMP:20260419T165404
CREATED:20250128T233245Z
LAST-MODIFIED:20260314T155706Z
UID:10018956-1774465200-1774472400@www.aa87.org
SUMMARY:Comité d’info publique du District 87-02
DESCRIPTION:Room 5 \nJoin the meeting\n \n&nbsp\nMeeting ID: 924 7313 7786\nSecret code: 1234
URL:https://www.aa87.org/en/evenement/infopubliquedistrict-87-02/2026-03-25/
CATEGORIES:District 02,District AA87
ORGANIZER;CN="District 2%2C Rosemont%2C St-Michel%2C Villeray":MAILTO:district02@aa87.org
LOCATION:
END:VEVENT
BEGIN:VEVENT
DTSTART;TZID=America/Toronto:20260316T190000
DTEND;TZID=America/Toronto:20260316T210000
DTSTAMP:20260419T165404
CREATED:20241218T003040Z
LAST-MODIFIED:20260314T155433Z
UID:10033516-1773687600-1773694800@www.aa87.org
SUMMARY:District 87-02 GSR Meeting
DESCRIPTION:Hybrid monthly meeting. \nRoom 2 \nJoin the meeting\n \n  \nMeeting ID: 918 2068 6211 \nPasscode: 1234
URL:https://www.aa87.org/en/evenement/district-02-2-2/2026-03-16/
LOCATION:BSR / ASO\, 3920\, rue Rachel Est\, Montréal QC\, H1X 1Z3\, 3920\, Rachel Est\, Montréal\, Québec\, H1X 1Z3\, Canada
CATEGORIES:District 02
ORGANIZER;CN="District 2%2C Rosemont%2C St-Michel%2C Villeray":MAILTO:district02@aa87.org
END:VEVENT
BEGIN:VEVENT
DTSTART;TZID=America/Toronto:20260225T190000
DTEND;TZID=America/Toronto:20260225T210000
DTSTAMP:20260419T165404
CREATED:20250128T233245Z
LAST-MODIFIED:20260314T155706Z
UID:10018955-1772046000-1772053200@www.aa87.org
SUMMARY:Comité d’info publique du District 87-02
DESCRIPTION:Room 5 \nJoin the meeting\n \n&nbsp\nMeeting ID: 924 7313 7786\nSecret code: 1234
URL:https://www.aa87.org/en/evenement/infopubliquedistrict-87-02/2026-02-25/
CATEGORIES:District 02,District AA87
ORGANIZER;CN="District 2%2C Rosemont%2C St-Michel%2C Villeray":MAILTO:district02@aa87.org
LOCATION:
END:VEVENT
BEGIN:VEVENT
DTSTART;TZID=America/Toronto:20260216T190000
DTEND;TZID=America/Toronto:20260216T210000
DTSTAMP:20260419T165404
CREATED:20241218T003040Z
LAST-MODIFIED:20260314T155433Z
UID:10033515-1771268400-1771275600@www.aa87.org
SUMMARY:District 87-02 GSR Meeting
DESCRIPTION:Hybrid monthly meeting. \nRoom 2 \nJoin the meeting\n \n  \nMeeting ID: 918 2068 6211 \nPasscode: 1234
URL:https://www.aa87.org/en/evenement/district-02-2-2/2026-02-16/
LOCATION:BSR / ASO\, 3920\, rue Rachel Est\, Montréal QC\, H1X 1Z3\, 3920\, Rachel Est\, Montréal\, Québec\, H1X 1Z3\, Canada
CATEGORIES:District 02
ORGANIZER;CN="District 2%2C Rosemont%2C St-Michel%2C Villeray":MAILTO:district02@aa87.org
END:VEVENT
BEGIN:VEVENT
DTSTART;TZID=America/Toronto:20260128T190000
DTEND;TZID=America/Toronto:20260128T210000
DTSTAMP:20260419T165404
CREATED:20250128T233245Z
LAST-MODIFIED:20260314T155706Z
UID:10018954-1769626800-1769634000@www.aa87.org
SUMMARY:Comité d’info publique du District 87-02
DESCRIPTION:Room 5 \nJoin the meeting\n \n&nbsp\nMeeting ID: 924 7313 7786\nSecret code: 1234
URL:https://www.aa87.org/en/evenement/infopubliquedistrict-87-02/2026-01-28/
CATEGORIES:District 02,District AA87
ORGANIZER;CN="District 2%2C Rosemont%2C St-Michel%2C Villeray":MAILTO:district02@aa87.org
LOCATION:
END:VEVENT
BEGIN:VEVENT
DTSTART;TZID=America/Toronto:20260119T190000
DTEND;TZID=America/Toronto:20260119T210000
DTSTAMP:20260419T165404
CREATED:20241218T003040Z
LAST-MODIFIED:20260314T155433Z
UID:10033514-1768849200-1768856400@www.aa87.org
SUMMARY:District 87-02 GSR Meeting
DESCRIPTION:Hybrid monthly meeting. \nRoom 2 \nJoin the meeting\n \n  \nMeeting ID: 918 2068 6211 \nPasscode: 1234
URL:https://www.aa87.org/en/evenement/district-02-2-2/2026-01-19/
LOCATION:BSR / ASO\, 3920\, rue Rachel Est\, Montréal QC\, H1X 1Z3\, 3920\, Rachel Est\, Montréal\, Québec\, H1X 1Z3\, Canada
CATEGORIES:District 02
ORGANIZER;CN="District 2%2C Rosemont%2C St-Michel%2C Villeray":MAILTO:district02@aa87.org
END:VEVENT
BEGIN:VEVENT
DTSTART;TZID=America/Toronto:20251224T190000
DTEND;TZID=America/Toronto:20251224T210000
DTSTAMP:20260419T165404
CREATED:20250128T233245Z
LAST-MODIFIED:20260314T155706Z
UID:10018953-1766602800-1766610000@www.aa87.org
SUMMARY:Comité d’info publique du District 87-02
DESCRIPTION:Room 5 \nJoin the meeting\n \n&nbsp\nMeeting ID: 924 7313 7786\nSecret code: 1234
URL:https://www.aa87.org/en/evenement/infopubliquedistrict-87-02/2025-12-24/
CATEGORIES:District 02,District AA87
ORGANIZER;CN="District 2%2C Rosemont%2C St-Michel%2C Villeray":MAILTO:district02@aa87.org
LOCATION:
END:VEVENT
BEGIN:VEVENT
DTSTART;TZID=America/Toronto:20251215T190000
DTEND;TZID=America/Toronto:20251215T210000
DTSTAMP:20260419T165404
CREATED:20241218T003040Z
LAST-MODIFIED:20260314T155433Z
UID:10033513-1765825200-1765832400@www.aa87.org
SUMMARY:District 87-02 GSR Meeting
DESCRIPTION:Hybrid monthly meeting. \nRoom 2 \nJoin the meeting\n \n  \nMeeting ID: 918 2068 6211 \nPasscode: 1234
URL:https://www.aa87.org/en/evenement/district-02-2-2/2025-12-15/
LOCATION:BSR / ASO\, 3920\, rue Rachel Est\, Montréal QC\, H1X 1Z3\, 3920\, Rachel Est\, Montréal\, Québec\, H1X 1Z3\, Canada
CATEGORIES:District 02
ORGANIZER;CN="District 2%2C Rosemont%2C St-Michel%2C Villeray":MAILTO:district02@aa87.org
END:VEVENT
BEGIN:VEVENT
DTSTART;TZID=America/Toronto:20251215T190000
DTEND;TZID=America/Toronto:20251215T210000
DTSTAMP:20260419T165404
CREATED:20231228T141616Z
LAST-MODIFIED:20231228T150108Z
UID:10005527-1765825200-1765832400@www.aa87.org
SUMMARY:District 02
DESCRIPTION:Room 2 \nJoin the Zoom meeting \nMeeting ID: 918 2068 6211 \nPasscode: 1234
URL:https://www.aa87.org/en/evenement/district-02-2/2025-12-15/
LOCATION:BSR / ASO\, 3920\, rue Rachel Est\, Montréal QC\, H1X 1Z3\, 3920\, Rachel Est\, Montréal\, Québec\, H1X 1Z3\, Canada
CATEGORIES:District 02
ORGANIZER;CN="District 2%2C Rosemont%2C St-Michel%2C Villeray":MAILTO:district02@aa87.org
END:VEVENT
BEGIN:VEVENT
DTSTART;TZID=America/Toronto:20251126T190000
DTEND;TZID=America/Toronto:20251126T210000
DTSTAMP:20260419T165404
CREATED:20250128T233245Z
LAST-MODIFIED:20260314T155706Z
UID:10018952-1764183600-1764190800@www.aa87.org
SUMMARY:Comité d’info publique du District 87-02
DESCRIPTION:Room 5 \nJoin the meeting\n \n&nbsp\nMeeting ID: 924 7313 7786\nSecret code: 1234
URL:https://www.aa87.org/en/evenement/infopubliquedistrict-87-02/2025-11-26/
CATEGORIES:District 02,District AA87
ORGANIZER;CN="District 2%2C Rosemont%2C St-Michel%2C Villeray":MAILTO:district02@aa87.org
LOCATION:
END:VEVENT
BEGIN:VEVENT
DTSTART;TZID=America/Toronto:20251117T190000
DTEND;TZID=America/Toronto:20251117T210000
DTSTAMP:20260419T165404
CREATED:20241218T003040Z
LAST-MODIFIED:20260314T155433Z
UID:10033512-1763406000-1763413200@www.aa87.org
SUMMARY:District 87-02 GSR Meeting
DESCRIPTION:Hybrid monthly meeting. \nRoom 2 \nJoin the meeting\n \n  \nMeeting ID: 918 2068 6211 \nPasscode: 1234
URL:https://www.aa87.org/en/evenement/district-02-2-2/2025-11-17/
LOCATION:BSR / ASO\, 3920\, rue Rachel Est\, Montréal QC\, H1X 1Z3\, 3920\, Rachel Est\, Montréal\, Québec\, H1X 1Z3\, Canada
CATEGORIES:District 02
ORGANIZER;CN="District 2%2C Rosemont%2C St-Michel%2C Villeray":MAILTO:district02@aa87.org
END:VEVENT
BEGIN:VEVENT
DTSTART;TZID=America/Toronto:20251117T190000
DTEND;TZID=America/Toronto:20251117T210000
DTSTAMP:20260419T165404
CREATED:20231228T141616Z
LAST-MODIFIED:20231228T150108Z
UID:10005526-1763406000-1763413200@www.aa87.org
SUMMARY:District 02
DESCRIPTION:Room 2 \nJoin the Zoom meeting \nMeeting ID: 918 2068 6211 \nPasscode: 1234
URL:https://www.aa87.org/en/evenement/district-02-2/2025-11-17/
LOCATION:BSR / ASO\, 3920\, rue Rachel Est\, Montréal QC\, H1X 1Z3\, 3920\, Rachel Est\, Montréal\, Québec\, H1X 1Z3\, Canada
CATEGORIES:District 02
ORGANIZER;CN="District 2%2C Rosemont%2C St-Michel%2C Villeray":MAILTO:district02@aa87.org
END:VEVENT
BEGIN:VEVENT
DTSTART;TZID=America/Toronto:20251022T190000
DTEND;TZID=America/Toronto:20251022T210000
DTSTAMP:20260419T165404
CREATED:20250128T233245Z
LAST-MODIFIED:20260314T155706Z
UID:10018951-1761159600-1761166800@www.aa87.org
SUMMARY:Comité d’info publique du District 87-02
DESCRIPTION:Room 5 \nJoin the meeting\n \n&nbsp\nMeeting ID: 924 7313 7786\nSecret code: 1234
URL:https://www.aa87.org/en/evenement/infopubliquedistrict-87-02/2025-10-22/
CATEGORIES:District 02,District AA87
ORGANIZER;CN="District 2%2C Rosemont%2C St-Michel%2C Villeray":MAILTO:district02@aa87.org
LOCATION:
END:VEVENT
BEGIN:VEVENT
DTSTART;TZID=America/Toronto:20251020T190000
DTEND;TZID=America/Toronto:20251020T210000
DTSTAMP:20260419T165404
CREATED:20241218T003040Z
LAST-MODIFIED:20260314T155433Z
UID:10033511-1760986800-1760994000@www.aa87.org
SUMMARY:District 87-02 GSR Meeting
DESCRIPTION:Hybrid monthly meeting. \nRoom 2 \nJoin the meeting\n \n  \nMeeting ID: 918 2068 6211 \nPasscode: 1234
URL:https://www.aa87.org/en/evenement/district-02-2-2/2025-10-20/
LOCATION:BSR / ASO\, 3920\, rue Rachel Est\, Montréal QC\, H1X 1Z3\, 3920\, Rachel Est\, Montréal\, Québec\, H1X 1Z3\, Canada
CATEGORIES:District 02
ORGANIZER;CN="District 2%2C Rosemont%2C St-Michel%2C Villeray":MAILTO:district02@aa87.org
END:VEVENT
BEGIN:VEVENT
DTSTART;TZID=America/Toronto:20251020T190000
DTEND;TZID=America/Toronto:20251020T210000
DTSTAMP:20260419T165404
CREATED:20231228T141616Z
LAST-MODIFIED:20231228T150108Z
UID:10005525-1760986800-1760994000@www.aa87.org
SUMMARY:District 02
DESCRIPTION:Room 2 \nJoin the Zoom meeting \nMeeting ID: 918 2068 6211 \nPasscode: 1234
URL:https://www.aa87.org/en/evenement/district-02-2/2025-10-20/
LOCATION:BSR / ASO\, 3920\, rue Rachel Est\, Montréal QC\, H1X 1Z3\, 3920\, Rachel Est\, Montréal\, Québec\, H1X 1Z3\, Canada
CATEGORIES:District 02
ORGANIZER;CN="District 2%2C Rosemont%2C St-Michel%2C Villeray":MAILTO:district02@aa87.org
END:VEVENT
BEGIN:VEVENT
DTSTART;TZID=America/Toronto:20250924T190000
DTEND;TZID=America/Toronto:20250924T210000
DTSTAMP:20260419T165404
CREATED:20250128T233245Z
LAST-MODIFIED:20260314T155706Z
UID:10018950-1758740400-1758747600@www.aa87.org
SUMMARY:Comité d’info publique du District 87-02
DESCRIPTION:Room 5 \nJoin the meeting\n \n&nbsp\nMeeting ID: 924 7313 7786\nSecret code: 1234
URL:https://www.aa87.org/en/evenement/infopubliquedistrict-87-02/2025-09-24/
CATEGORIES:District 02,District AA87
ORGANIZER;CN="District 2%2C Rosemont%2C St-Michel%2C Villeray":MAILTO:district02@aa87.org
LOCATION:
END:VEVENT
BEGIN:VEVENT
DTSTART;TZID=America/Toronto:20250915T190000
DTEND;TZID=America/Toronto:20250915T210000
DTSTAMP:20260419T165404
CREATED:20241218T003040Z
LAST-MODIFIED:20260314T155433Z
UID:10033510-1757962800-1757970000@www.aa87.org
SUMMARY:District 87-02 GSR Meeting
DESCRIPTION:Hybrid monthly meeting. \nRoom 2 \nJoin the meeting\n \n  \nMeeting ID: 918 2068 6211 \nPasscode: 1234
URL:https://www.aa87.org/en/evenement/district-02-2-2/2025-09-15/
LOCATION:BSR / ASO\, 3920\, rue Rachel Est\, Montréal QC\, H1X 1Z3\, 3920\, Rachel Est\, Montréal\, Québec\, H1X 1Z3\, Canada
CATEGORIES:District 02
ORGANIZER;CN="District 2%2C Rosemont%2C St-Michel%2C Villeray":MAILTO:district02@aa87.org
END:VEVENT
BEGIN:VEVENT
DTSTART;TZID=America/Toronto:20250915T190000
DTEND;TZID=America/Toronto:20250915T210000
DTSTAMP:20260419T165404
CREATED:20231228T141616Z
LAST-MODIFIED:20231228T150108Z
UID:10005524-1757962800-1757970000@www.aa87.org
SUMMARY:District 02
DESCRIPTION:Room 2 \nJoin the Zoom meeting \nMeeting ID: 918 2068 6211 \nPasscode: 1234
URL:https://www.aa87.org/en/evenement/district-02-2/2025-09-15/
LOCATION:BSR / ASO\, 3920\, rue Rachel Est\, Montréal QC\, H1X 1Z3\, 3920\, Rachel Est\, Montréal\, Québec\, H1X 1Z3\, Canada
CATEGORIES:District 02
ORGANIZER;CN="District 2%2C Rosemont%2C St-Michel%2C Villeray":MAILTO:district02@aa87.org
END:VEVENT
BEGIN:VEVENT
DTSTART;TZID=America/Toronto:20250827T190000
DTEND;TZID=America/Toronto:20250827T210000
DTSTAMP:20260419T165404
CREATED:20250128T233245Z
LAST-MODIFIED:20260314T155706Z
UID:10018949-1756321200-1756328400@www.aa87.org
SUMMARY:Comité d’info publique du District 87-02
DESCRIPTION:Room 5 \nJoin the meeting\n \n&nbsp\nMeeting ID: 924 7313 7786\nSecret code: 1234
URL:https://www.aa87.org/en/evenement/infopubliquedistrict-87-02/2025-08-27/
CATEGORIES:District 02,District AA87
ORGANIZER;CN="District 2%2C Rosemont%2C St-Michel%2C Villeray":MAILTO:district02@aa87.org
LOCATION:
END:VEVENT
BEGIN:VEVENT
DTSTART;TZID=America/Toronto:20250818T190000
DTEND;TZID=America/Toronto:20250818T210000
DTSTAMP:20260419T165404
CREATED:20241218T003040Z
LAST-MODIFIED:20260314T155433Z
UID:10033509-1755543600-1755550800@www.aa87.org
SUMMARY:District 87-02 GSR Meeting
DESCRIPTION:Hybrid monthly meeting. \nRoom 2 \nJoin the meeting\n \n  \nMeeting ID: 918 2068 6211 \nPasscode: 1234
URL:https://www.aa87.org/en/evenement/district-02-2-2/2025-08-18/
LOCATION:BSR / ASO\, 3920\, rue Rachel Est\, Montréal QC\, H1X 1Z3\, 3920\, Rachel Est\, Montréal\, Québec\, H1X 1Z3\, Canada
CATEGORIES:District 02
ORGANIZER;CN="District 2%2C Rosemont%2C St-Michel%2C Villeray":MAILTO:district02@aa87.org
END:VEVENT
BEGIN:VEVENT
DTSTART;TZID=America/Toronto:20250818T190000
DTEND;TZID=America/Toronto:20250818T210000
DTSTAMP:20260419T165404
CREATED:20231228T141616Z
LAST-MODIFIED:20231228T150108Z
UID:10005523-1755543600-1755550800@www.aa87.org
SUMMARY:District 02
DESCRIPTION:Room 2 \nJoin the Zoom meeting \nMeeting ID: 918 2068 6211 \nPasscode: 1234
URL:https://www.aa87.org/en/evenement/district-02-2/2025-08-18/
LOCATION:BSR / ASO\, 3920\, rue Rachel Est\, Montréal QC\, H1X 1Z3\, 3920\, Rachel Est\, Montréal\, Québec\, H1X 1Z3\, Canada
CATEGORIES:District 02
ORGANIZER;CN="District 2%2C Rosemont%2C St-Michel%2C Villeray":MAILTO:district02@aa87.org
END:VEVENT
BEGIN:VEVENT
DTSTART;TZID=America/Toronto:20250723T190000
DTEND;TZID=America/Toronto:20250723T210000
DTSTAMP:20260419T165404
CREATED:20250128T233245Z
LAST-MODIFIED:20260314T155706Z
UID:10018948-1753297200-1753304400@www.aa87.org
SUMMARY:Comité d’info publique du District 87-02
DESCRIPTION:Room 5 \nJoin the meeting\n \n&nbsp\nMeeting ID: 924 7313 7786\nSecret code: 1234
URL:https://www.aa87.org/en/evenement/infopubliquedistrict-87-02/2025-07-23/
CATEGORIES:District 02,District AA87
ORGANIZER;CN="District 2%2C Rosemont%2C St-Michel%2C Villeray":MAILTO:district02@aa87.org
LOCATION:
END:VEVENT
BEGIN:VEVENT
DTSTART;TZID=America/Toronto:20250721T190000
DTEND;TZID=America/Toronto:20250721T210000
DTSTAMP:20260419T165404
CREATED:20241218T003040Z
LAST-MODIFIED:20260314T155433Z
UID:10033508-1753124400-1753131600@www.aa87.org
SUMMARY:District 87-02 GSR Meeting
DESCRIPTION:Hybrid monthly meeting. \nRoom 2 \nJoin the meeting\n \n  \nMeeting ID: 918 2068 6211 \nPasscode: 1234
URL:https://www.aa87.org/en/evenement/district-02-2-2/2025-07-21/
LOCATION:BSR / ASO\, 3920\, rue Rachel Est\, Montréal QC\, H1X 1Z3\, 3920\, Rachel Est\, Montréal\, Québec\, H1X 1Z3\, Canada
CATEGORIES:District 02
ORGANIZER;CN="District 2%2C Rosemont%2C St-Michel%2C Villeray":MAILTO:district02@aa87.org
END:VEVENT
BEGIN:VEVENT
DTSTART;TZID=America/Toronto:20250721T190000
DTEND;TZID=America/Toronto:20250721T210000
DTSTAMP:20260419T165404
CREATED:20231228T141616Z
LAST-MODIFIED:20231228T150108Z
UID:10005522-1753124400-1753131600@www.aa87.org
SUMMARY:District 02
DESCRIPTION:Room 2 \nJoin the Zoom meeting \nMeeting ID: 918 2068 6211 \nPasscode: 1234
URL:https://www.aa87.org/en/evenement/district-02-2/2025-07-21/
LOCATION:BSR / ASO\, 3920\, rue Rachel Est\, Montréal QC\, H1X 1Z3\, 3920\, Rachel Est\, Montréal\, Québec\, H1X 1Z3\, Canada
CATEGORIES:District 02
ORGANIZER;CN="District 2%2C Rosemont%2C St-Michel%2C Villeray":MAILTO:district02@aa87.org
END:VEVENT
BEGIN:VEVENT
DTSTART;TZID=America/Toronto:20250625T190000
DTEND;TZID=America/Toronto:20250625T210000
DTSTAMP:20260419T165404
CREATED:20250128T233245Z
LAST-MODIFIED:20260314T155706Z
UID:10018947-1750878000-1750885200@www.aa87.org
SUMMARY:Comité d’info publique du District 87-02
DESCRIPTION:Room 5 \nJoin the meeting\n \n&nbsp\nMeeting ID: 924 7313 7786\nSecret code: 1234
URL:https://www.aa87.org/en/evenement/infopubliquedistrict-87-02/2025-06-25/
CATEGORIES:District 02,District AA87
ORGANIZER;CN="District 2%2C Rosemont%2C St-Michel%2C Villeray":MAILTO:district02@aa87.org
LOCATION:
END:VEVENT
BEGIN:VEVENT
DTSTART;TZID=America/Toronto:20250616T190000
DTEND;TZID=America/Toronto:20250616T210000
DTSTAMP:20260419T165404
CREATED:20241218T003040Z
LAST-MODIFIED:20260314T155433Z
UID:10033507-1750100400-1750107600@www.aa87.org
SUMMARY:District 87-02 GSR Meeting
DESCRIPTION:Hybrid monthly meeting. \nRoom 2 \nJoin the meeting\n \n  \nMeeting ID: 918 2068 6211 \nPasscode: 1234
URL:https://www.aa87.org/en/evenement/district-02-2-2/2025-06-16/
LOCATION:BSR / ASO\, 3920\, rue Rachel Est\, Montréal QC\, H1X 1Z3\, 3920\, Rachel Est\, Montréal\, Québec\, H1X 1Z3\, Canada
CATEGORIES:District 02
ORGANIZER;CN="District 2%2C Rosemont%2C St-Michel%2C Villeray":MAILTO:district02@aa87.org
END:VEVENT
BEGIN:VEVENT
DTSTART;TZID=America/Toronto:20250616T190000
DTEND;TZID=America/Toronto:20250616T210000
DTSTAMP:20260419T165404
CREATED:20231228T141616Z
LAST-MODIFIED:20231228T150108Z
UID:10005521-1750100400-1750107600@www.aa87.org
SUMMARY:District 02
DESCRIPTION:Room 2 \nJoin the Zoom meeting \nMeeting ID: 918 2068 6211 \nPasscode: 1234
URL:https://www.aa87.org/en/evenement/district-02-2/2025-06-16/
LOCATION:BSR / ASO\, 3920\, rue Rachel Est\, Montréal QC\, H1X 1Z3\, 3920\, Rachel Est\, Montréal\, Québec\, H1X 1Z3\, Canada
CATEGORIES:District 02
ORGANIZER;CN="District 2%2C Rosemont%2C St-Michel%2C Villeray":MAILTO:district02@aa87.org
END:VEVENT
BEGIN:VEVENT
DTSTART;TZID=America/Toronto:20250528T190000
DTEND;TZID=America/Toronto:20250528T210000
DTSTAMP:20260419T165404
CREATED:20250128T233245Z
LAST-MODIFIED:20260314T155706Z
UID:10018946-1748458800-1748466000@www.aa87.org
SUMMARY:Comité d’info publique du District 87-02
DESCRIPTION:Room 5 \nJoin the meeting\n \n&nbsp\nMeeting ID: 924 7313 7786\nSecret code: 1234
URL:https://www.aa87.org/en/evenement/infopubliquedistrict-87-02/2025-05-28/
CATEGORIES:District 02,District AA87
ORGANIZER;CN="District 2%2C Rosemont%2C St-Michel%2C Villeray":MAILTO:district02@aa87.org
LOCATION:
END:VEVENT
BEGIN:VEVENT
DTSTART;TZID=America/Toronto:20250519T190000
DTEND;TZID=America/Toronto:20250519T210000
DTSTAMP:20260419T165404
CREATED:20241218T003040Z
LAST-MODIFIED:20260314T155433Z
UID:10033506-1747681200-1747688400@www.aa87.org
SUMMARY:District 87-02 GSR Meeting
DESCRIPTION:Hybrid monthly meeting. \nRoom 2 \nJoin the meeting\n \n  \nMeeting ID: 918 2068 6211 \nPasscode: 1234
URL:https://www.aa87.org/en/evenement/district-02-2-2/2025-05-19/
LOCATION:BSR / ASO\, 3920\, rue Rachel Est\, Montréal QC\, H1X 1Z3\, 3920\, Rachel Est\, Montréal\, Québec\, H1X 1Z3\, Canada
CATEGORIES:District 02
ORGANIZER;CN="District 2%2C Rosemont%2C St-Michel%2C Villeray":MAILTO:district02@aa87.org
END:VEVENT
BEGIN:VEVENT
DTSTART;TZID=America/Toronto:20250519T190000
DTEND;TZID=America/Toronto:20250519T210000
DTSTAMP:20260419T165404
CREATED:20231228T141616Z
LAST-MODIFIED:20231228T150108Z
UID:10005520-1747681200-1747688400@www.aa87.org
SUMMARY:District 02
DESCRIPTION:Room 2 \nJoin the Zoom meeting \nMeeting ID: 918 2068 6211 \nPasscode: 1234
URL:https://www.aa87.org/en/evenement/district-02-2/2025-05-19/
LOCATION:BSR / ASO\, 3920\, rue Rachel Est\, Montréal QC\, H1X 1Z3\, 3920\, Rachel Est\, Montréal\, Québec\, H1X 1Z3\, Canada
CATEGORIES:District 02
ORGANIZER;CN="District 2%2C Rosemont%2C St-Michel%2C Villeray":MAILTO:district02@aa87.org
END:VEVENT
END:VCALENDAR