BEGIN:VCALENDAR
VERSION:2.0
PRODID:-//AA Región 87 - ECPv6.15.17//NONSGML v1.0//EN
CALSCALE:GREGORIAN
METHOD:PUBLISH
X-WR-CALNAME:AA Región 87
X-ORIGINAL-URL:https://www.aa87.org/es/
X-WR-CALDESC:Eventos para AA Región 87
REFRESH-INTERVAL;VALUE=DURATION:PT1H
X-Robots-Tag:noindex
X-PUBLISHED-TTL:PT1H
BEGIN:VTIMEZONE
TZID:America/Toronto
BEGIN:DAYLIGHT
TZOFFSETFROM:-0500
TZOFFSETTO:-0400
TZNAME:EDT
DTSTART:20250309T070000
END:DAYLIGHT
BEGIN:STANDARD
TZOFFSETFROM:-0400
TZOFFSETTO:-0500
TZNAME:EST
DTSTART:20251102T060000
END:STANDARD
BEGIN:DAYLIGHT
TZOFFSETFROM:-0500
TZOFFSETTO:-0400
TZNAME:EDT
DTSTART:20260308T070000
END:DAYLIGHT
BEGIN:STANDARD
TZOFFSETFROM:-0400
TZOFFSETTO:-0500
TZNAME:EST
DTSTART:20261101T060000
END:STANDARD
BEGIN:DAYLIGHT
TZOFFSETFROM:-0500
TZOFFSETTO:-0400
TZNAME:EDT
DTSTART:20270314T070000
END:DAYLIGHT
BEGIN:STANDARD
TZOFFSETFROM:-0400
TZOFFSETTO:-0500
TZNAME:EST
DTSTART:20271107T060000
END:STANDARD
BEGIN:DAYLIGHT
TZOFFSETFROM:-0500
TZOFFSETTO:-0400
TZNAME:EDT
DTSTART:20280312T070000
END:DAYLIGHT
BEGIN:STANDARD
TZOFFSETFROM:-0400
TZOFFSETTO:-0500
TZNAME:EST
DTSTART:20281105T060000
END:STANDARD
BEGIN:DAYLIGHT
TZOFFSETFROM:-0500
TZOFFSETTO:-0400
TZNAME:EDT
DTSTART:20290311T070000
END:DAYLIGHT
BEGIN:STANDARD
TZOFFSETFROM:-0400
TZOFFSETTO:-0500
TZNAME:EST
DTSTART:20291104T060000
END:STANDARD
END:VTIMEZONE
BEGIN:VEVENT
DTSTART;TZID=America/Toronto:20260503T130000
DTEND;TZID=America/Toronto:20260503T150000
DTSTAMP:20260421T083838
CREATED:20231217T161936Z
LAST-MODIFIED:20240106T222958Z
UID:10011199-1777813200-1777820400@www.aa87.org
SUMMARY:Correctional Facilities
DESCRIPTION:Salle 1\nParticiper à la réunion Zoom \nID de réunion : 944 7943 6712 \nCode secret : 1234
URL:https://www.aa87.org/es/evenement/correctional-facilities-2/2026-05-03/
LOCATION:BSR / ASO\, 3920\, rue Rachel Est\, Montréal QC\, H1X 1Z3\, 3920\, Rachel Est\, Montréal\, Québec\, H1X 1Z3\, Canada
CATEGORIES:Activité,Comités / Committees,Correctional Facilities
END:VEVENT
BEGIN:VEVENT
DTSTART;TZID=America/Toronto:20260607T130000
DTEND;TZID=America/Toronto:20260607T150000
DTSTAMP:20260421T083838
CREATED:20231217T161936Z
LAST-MODIFIED:20240106T222958Z
UID:10011200-1780837200-1780844400@www.aa87.org
SUMMARY:Correctional Facilities
DESCRIPTION:Salle 1\nParticiper à la réunion Zoom \nID de réunion : 944 7943 6712 \nCode secret : 1234
URL:https://www.aa87.org/es/evenement/correctional-facilities-2/2026-06-07/
LOCATION:BSR / ASO\, 3920\, rue Rachel Est\, Montréal QC\, H1X 1Z3\, 3920\, Rachel Est\, Montréal\, Québec\, H1X 1Z3\, Canada
CATEGORIES:Activité,Comités / Committees,Correctional Facilities
END:VEVENT
BEGIN:VEVENT
DTSTART;TZID=America/Toronto:20260705T130000
DTEND;TZID=America/Toronto:20260705T150000
DTSTAMP:20260421T083838
CREATED:20231217T161936Z
LAST-MODIFIED:20240106T222958Z
UID:10011201-1783256400-1783263600@www.aa87.org
SUMMARY:Correctional Facilities
DESCRIPTION:Salle 1\nParticiper à la réunion Zoom \nID de réunion : 944 7943 6712 \nCode secret : 1234
URL:https://www.aa87.org/es/evenement/correctional-facilities-2/2026-07-05/
LOCATION:BSR / ASO\, 3920\, rue Rachel Est\, Montréal QC\, H1X 1Z3\, 3920\, Rachel Est\, Montréal\, Québec\, H1X 1Z3\, Canada
CATEGORIES:Activité,Comités / Committees,Correctional Facilities
END:VEVENT
BEGIN:VEVENT
DTSTART;TZID=America/Toronto:20260802T130000
DTEND;TZID=America/Toronto:20260802T150000
DTSTAMP:20260421T083838
CREATED:20231217T161936Z
LAST-MODIFIED:20240106T222958Z
UID:10011202-1785675600-1785682800@www.aa87.org
SUMMARY:Correctional Facilities
DESCRIPTION:Salle 1\nParticiper à la réunion Zoom \nID de réunion : 944 7943 6712 \nCode secret : 1234
URL:https://www.aa87.org/es/evenement/correctional-facilities-2/2026-08-02/
LOCATION:BSR / ASO\, 3920\, rue Rachel Est\, Montréal QC\, H1X 1Z3\, 3920\, Rachel Est\, Montréal\, Québec\, H1X 1Z3\, Canada
CATEGORIES:Activité,Comités / Committees,Correctional Facilities
END:VEVENT
BEGIN:VEVENT
DTSTART;TZID=America/Toronto:20260906T130000
DTEND;TZID=America/Toronto:20260906T150000
DTSTAMP:20260421T083838
CREATED:20231217T161936Z
LAST-MODIFIED:20240106T222958Z
UID:10011203-1788699600-1788706800@www.aa87.org
SUMMARY:Correctional Facilities
DESCRIPTION:Salle 1\nParticiper à la réunion Zoom \nID de réunion : 944 7943 6712 \nCode secret : 1234
URL:https://www.aa87.org/es/evenement/correctional-facilities-2/2026-09-06/
LOCATION:BSR / ASO\, 3920\, rue Rachel Est\, Montréal QC\, H1X 1Z3\, 3920\, Rachel Est\, Montréal\, Québec\, H1X 1Z3\, Canada
CATEGORIES:Activité,Comités / Committees,Correctional Facilities
END:VEVENT
BEGIN:VEVENT
DTSTART;TZID=America/Toronto:20261004T130000
DTEND;TZID=America/Toronto:20261004T150000
DTSTAMP:20260421T083838
CREATED:20231217T161936Z
LAST-MODIFIED:20240106T222958Z
UID:10011204-1791118800-1791126000@www.aa87.org
SUMMARY:Correctional Facilities
DESCRIPTION:Salle 1\nParticiper à la réunion Zoom \nID de réunion : 944 7943 6712 \nCode secret : 1234
URL:https://www.aa87.org/es/evenement/correctional-facilities-2/2026-10-04/
LOCATION:BSR / ASO\, 3920\, rue Rachel Est\, Montréal QC\, H1X 1Z3\, 3920\, Rachel Est\, Montréal\, Québec\, H1X 1Z3\, Canada
CATEGORIES:Activité,Comités / Committees,Correctional Facilities
END:VEVENT
BEGIN:VEVENT
DTSTART;TZID=America/Toronto:20261101T130000
DTEND;TZID=America/Toronto:20261101T150000
DTSTAMP:20260421T083838
CREATED:20231217T161936Z
LAST-MODIFIED:20240106T222958Z
UID:10011205-1793538000-1793545200@www.aa87.org
SUMMARY:Correctional Facilities
DESCRIPTION:Salle 1\nParticiper à la réunion Zoom \nID de réunion : 944 7943 6712 \nCode secret : 1234
URL:https://www.aa87.org/es/evenement/correctional-facilities-2/2026-11-01/
LOCATION:BSR / ASO\, 3920\, rue Rachel Est\, Montréal QC\, H1X 1Z3\, 3920\, Rachel Est\, Montréal\, Québec\, H1X 1Z3\, Canada
CATEGORIES:Activité,Comités / Committees,Correctional Facilities
END:VEVENT
BEGIN:VEVENT
DTSTART;TZID=America/Toronto:20261206T130000
DTEND;TZID=America/Toronto:20261206T150000
DTSTAMP:20260421T083838
CREATED:20231217T161936Z
LAST-MODIFIED:20240106T222958Z
UID:10011206-1796562000-1796569200@www.aa87.org
SUMMARY:Correctional Facilities
DESCRIPTION:Salle 1\nParticiper à la réunion Zoom \nID de réunion : 944 7943 6712 \nCode secret : 1234
URL:https://www.aa87.org/es/evenement/correctional-facilities-2/2026-12-06/
LOCATION:BSR / ASO\, 3920\, rue Rachel Est\, Montréal QC\, H1X 1Z3\, 3920\, Rachel Est\, Montréal\, Québec\, H1X 1Z3\, Canada
CATEGORIES:Activité,Comités / Committees,Correctional Facilities
END:VEVENT
BEGIN:VEVENT
DTSTART;TZID=America/Toronto:20270103T130000
DTEND;TZID=America/Toronto:20270103T150000
DTSTAMP:20260421T083838
CREATED:20231217T161936Z
LAST-MODIFIED:20240106T222958Z
UID:10011207-1798981200-1798988400@www.aa87.org
SUMMARY:Correctional Facilities
DESCRIPTION:Salle 1\nParticiper à la réunion Zoom \nID de réunion : 944 7943 6712 \nCode secret : 1234
URL:https://www.aa87.org/es/evenement/correctional-facilities-2/2027-01-03/
LOCATION:BSR / ASO\, 3920\, rue Rachel Est\, Montréal QC\, H1X 1Z3\, 3920\, Rachel Est\, Montréal\, Québec\, H1X 1Z3\, Canada
CATEGORIES:Activité,Comités / Committees,Correctional Facilities
END:VEVENT
BEGIN:VEVENT
DTSTART;TZID=America/Toronto:20270207T130000
DTEND;TZID=America/Toronto:20270207T150000
DTSTAMP:20260421T083838
CREATED:20231217T161936Z
LAST-MODIFIED:20240106T222958Z
UID:10011208-1802005200-1802012400@www.aa87.org
SUMMARY:Correctional Facilities
DESCRIPTION:Salle 1\nParticiper à la réunion Zoom \nID de réunion : 944 7943 6712 \nCode secret : 1234
URL:https://www.aa87.org/es/evenement/correctional-facilities-2/2027-02-07/
LOCATION:BSR / ASO\, 3920\, rue Rachel Est\, Montréal QC\, H1X 1Z3\, 3920\, Rachel Est\, Montréal\, Québec\, H1X 1Z3\, Canada
CATEGORIES:Activité,Comités / Committees,Correctional Facilities
END:VEVENT
BEGIN:VEVENT
DTSTART;TZID=America/Toronto:20270307T130000
DTEND;TZID=America/Toronto:20270307T150000
DTSTAMP:20260421T083838
CREATED:20231217T161936Z
LAST-MODIFIED:20240106T222958Z
UID:10011209-1804424400-1804431600@www.aa87.org
SUMMARY:Correctional Facilities
DESCRIPTION:Salle 1\nParticiper à la réunion Zoom \nID de réunion : 944 7943 6712 \nCode secret : 1234
URL:https://www.aa87.org/es/evenement/correctional-facilities-2/2027-03-07/
LOCATION:BSR / ASO\, 3920\, rue Rachel Est\, Montréal QC\, H1X 1Z3\, 3920\, Rachel Est\, Montréal\, Québec\, H1X 1Z3\, Canada
CATEGORIES:Activité,Comités / Committees,Correctional Facilities
END:VEVENT
BEGIN:VEVENT
DTSTART;TZID=America/Toronto:20270404T130000
DTEND;TZID=America/Toronto:20270404T150000
DTSTAMP:20260421T083838
CREATED:20231217T161936Z
LAST-MODIFIED:20240106T222958Z
UID:10011210-1806843600-1806850800@www.aa87.org
SUMMARY:Correctional Facilities
DESCRIPTION:Salle 1\nParticiper à la réunion Zoom \nID de réunion : 944 7943 6712 \nCode secret : 1234
URL:https://www.aa87.org/es/evenement/correctional-facilities-2/2027-04-04/
LOCATION:BSR / ASO\, 3920\, rue Rachel Est\, Montréal QC\, H1X 1Z3\, 3920\, Rachel Est\, Montréal\, Québec\, H1X 1Z3\, Canada
CATEGORIES:Activité,Comités / Committees,Correctional Facilities
END:VEVENT
BEGIN:VEVENT
DTSTART;TZID=America/Toronto:20270502T130000
DTEND;TZID=America/Toronto:20270502T150000
DTSTAMP:20260421T083838
CREATED:20231217T161936Z
LAST-MODIFIED:20240106T222958Z
UID:10011211-1809262800-1809270000@www.aa87.org
SUMMARY:Correctional Facilities
DESCRIPTION:Salle 1\nParticiper à la réunion Zoom \nID de réunion : 944 7943 6712 \nCode secret : 1234
URL:https://www.aa87.org/es/evenement/correctional-facilities-2/2027-05-02/
LOCATION:BSR / ASO\, 3920\, rue Rachel Est\, Montréal QC\, H1X 1Z3\, 3920\, Rachel Est\, Montréal\, Québec\, H1X 1Z3\, Canada
CATEGORIES:Activité,Comités / Committees,Correctional Facilities
END:VEVENT
BEGIN:VEVENT
DTSTART;TZID=America/Toronto:20270606T130000
DTEND;TZID=America/Toronto:20270606T150000
DTSTAMP:20260421T083838
CREATED:20231217T161936Z
LAST-MODIFIED:20240106T222958Z
UID:10011212-1812286800-1812294000@www.aa87.org
SUMMARY:Correctional Facilities
DESCRIPTION:Salle 1\nParticiper à la réunion Zoom \nID de réunion : 944 7943 6712 \nCode secret : 1234
URL:https://www.aa87.org/es/evenement/correctional-facilities-2/2027-06-06/
LOCATION:BSR / ASO\, 3920\, rue Rachel Est\, Montréal QC\, H1X 1Z3\, 3920\, Rachel Est\, Montréal\, Québec\, H1X 1Z3\, Canada
CATEGORIES:Activité,Comités / Committees,Correctional Facilities
END:VEVENT
BEGIN:VEVENT
DTSTART;TZID=America/Toronto:20270704T130000
DTEND;TZID=America/Toronto:20270704T150000
DTSTAMP:20260421T083838
CREATED:20231217T161936Z
LAST-MODIFIED:20240106T222958Z
UID:10011213-1814706000-1814713200@www.aa87.org
SUMMARY:Correctional Facilities
DESCRIPTION:Salle 1\nParticiper à la réunion Zoom \nID de réunion : 944 7943 6712 \nCode secret : 1234
URL:https://www.aa87.org/es/evenement/correctional-facilities-2/2027-07-04/
LOCATION:BSR / ASO\, 3920\, rue Rachel Est\, Montréal QC\, H1X 1Z3\, 3920\, Rachel Est\, Montréal\, Québec\, H1X 1Z3\, Canada
CATEGORIES:Activité,Comités / Committees,Correctional Facilities
END:VEVENT
BEGIN:VEVENT
DTSTART;TZID=America/Toronto:20270801T130000
DTEND;TZID=America/Toronto:20270801T150000
DTSTAMP:20260421T083838
CREATED:20231217T161936Z
LAST-MODIFIED:20240106T222958Z
UID:10011214-1817125200-1817132400@www.aa87.org
SUMMARY:Correctional Facilities
DESCRIPTION:Salle 1\nParticiper à la réunion Zoom \nID de réunion : 944 7943 6712 \nCode secret : 1234
URL:https://www.aa87.org/es/evenement/correctional-facilities-2/2027-08-01/
LOCATION:BSR / ASO\, 3920\, rue Rachel Est\, Montréal QC\, H1X 1Z3\, 3920\, Rachel Est\, Montréal\, Québec\, H1X 1Z3\, Canada
CATEGORIES:Activité,Comités / Committees,Correctional Facilities
END:VEVENT
BEGIN:VEVENT
DTSTART;TZID=America/Toronto:20270905T130000
DTEND;TZID=America/Toronto:20270905T150000
DTSTAMP:20260421T083838
CREATED:20231217T161936Z
LAST-MODIFIED:20240106T222958Z
UID:10011215-1820149200-1820156400@www.aa87.org
SUMMARY:Correctional Facilities
DESCRIPTION:Salle 1\nParticiper à la réunion Zoom \nID de réunion : 944 7943 6712 \nCode secret : 1234
URL:https://www.aa87.org/es/evenement/correctional-facilities-2/2027-09-05/
LOCATION:BSR / ASO\, 3920\, rue Rachel Est\, Montréal QC\, H1X 1Z3\, 3920\, Rachel Est\, Montréal\, Québec\, H1X 1Z3\, Canada
CATEGORIES:Activité,Comités / Committees,Correctional Facilities
END:VEVENT
BEGIN:VEVENT
DTSTART;TZID=America/Toronto:20271003T130000
DTEND;TZID=America/Toronto:20271003T150000
DTSTAMP:20260421T083838
CREATED:20231217T161936Z
LAST-MODIFIED:20240106T222958Z
UID:10011216-1822568400-1822575600@www.aa87.org
SUMMARY:Correctional Facilities
DESCRIPTION:Salle 1\nParticiper à la réunion Zoom \nID de réunion : 944 7943 6712 \nCode secret : 1234
URL:https://www.aa87.org/es/evenement/correctional-facilities-2/2027-10-03/
LOCATION:BSR / ASO\, 3920\, rue Rachel Est\, Montréal QC\, H1X 1Z3\, 3920\, Rachel Est\, Montréal\, Québec\, H1X 1Z3\, Canada
CATEGORIES:Activité,Comités / Committees,Correctional Facilities
END:VEVENT
BEGIN:VEVENT
DTSTART;TZID=America/Toronto:20271107T130000
DTEND;TZID=America/Toronto:20271107T150000
DTSTAMP:20260421T083838
CREATED:20231217T161936Z
LAST-MODIFIED:20240106T222958Z
UID:10011217-1825592400-1825599600@www.aa87.org
SUMMARY:Correctional Facilities
DESCRIPTION:Salle 1\nParticiper à la réunion Zoom \nID de réunion : 944 7943 6712 \nCode secret : 1234
URL:https://www.aa87.org/es/evenement/correctional-facilities-2/2027-11-07/
LOCATION:BSR / ASO\, 3920\, rue Rachel Est\, Montréal QC\, H1X 1Z3\, 3920\, Rachel Est\, Montréal\, Québec\, H1X 1Z3\, Canada
CATEGORIES:Activité,Comités / Committees,Correctional Facilities
END:VEVENT
BEGIN:VEVENT
DTSTART;TZID=America/Toronto:20271205T130000
DTEND;TZID=America/Toronto:20271205T150000
DTSTAMP:20260421T083838
CREATED:20231217T161936Z
LAST-MODIFIED:20240106T222958Z
UID:10011218-1828011600-1828018800@www.aa87.org
SUMMARY:Correctional Facilities
DESCRIPTION:Salle 1\nParticiper à la réunion Zoom \nID de réunion : 944 7943 6712 \nCode secret : 1234
URL:https://www.aa87.org/es/evenement/correctional-facilities-2/2027-12-05/
LOCATION:BSR / ASO\, 3920\, rue Rachel Est\, Montréal QC\, H1X 1Z3\, 3920\, Rachel Est\, Montréal\, Québec\, H1X 1Z3\, Canada
CATEGORIES:Activité,Comités / Committees,Correctional Facilities
END:VEVENT
BEGIN:VEVENT
DTSTART;TZID=America/Toronto:20280102T130000
DTEND;TZID=America/Toronto:20280102T150000
DTSTAMP:20260421T083838
CREATED:20231217T161936Z
LAST-MODIFIED:20240106T222958Z
UID:10011219-1830430800-1830438000@www.aa87.org
SUMMARY:Correctional Facilities
DESCRIPTION:Salle 1\nParticiper à la réunion Zoom \nID de réunion : 944 7943 6712 \nCode secret : 1234
URL:https://www.aa87.org/es/evenement/correctional-facilities-2/2028-01-02/
LOCATION:BSR / ASO\, 3920\, rue Rachel Est\, Montréal QC\, H1X 1Z3\, 3920\, Rachel Est\, Montréal\, Québec\, H1X 1Z3\, Canada
CATEGORIES:Activité,Comités / Committees,Correctional Facilities
END:VEVENT
BEGIN:VEVENT
DTSTART;TZID=America/Toronto:20280206T130000
DTEND;TZID=America/Toronto:20280206T150000
DTSTAMP:20260421T083838
CREATED:20231217T161936Z
LAST-MODIFIED:20240106T222958Z
UID:10011220-1833454800-1833462000@www.aa87.org
SUMMARY:Correctional Facilities
DESCRIPTION:Salle 1\nParticiper à la réunion Zoom \nID de réunion : 944 7943 6712 \nCode secret : 1234
URL:https://www.aa87.org/es/evenement/correctional-facilities-2/2028-02-06/
LOCATION:BSR / ASO\, 3920\, rue Rachel Est\, Montréal QC\, H1X 1Z3\, 3920\, Rachel Est\, Montréal\, Québec\, H1X 1Z3\, Canada
CATEGORIES:Activité,Comités / Committees,Correctional Facilities
END:VEVENT
BEGIN:VEVENT
DTSTART;TZID=America/Toronto:20280305T130000
DTEND;TZID=America/Toronto:20280305T150000
DTSTAMP:20260421T083838
CREATED:20231217T161936Z
LAST-MODIFIED:20240106T222958Z
UID:10011221-1835874000-1835881200@www.aa87.org
SUMMARY:Correctional Facilities
DESCRIPTION:Salle 1\nParticiper à la réunion Zoom \nID de réunion : 944 7943 6712 \nCode secret : 1234
URL:https://www.aa87.org/es/evenement/correctional-facilities-2/2028-03-05/
LOCATION:BSR / ASO\, 3920\, rue Rachel Est\, Montréal QC\, H1X 1Z3\, 3920\, Rachel Est\, Montréal\, Québec\, H1X 1Z3\, Canada
CATEGORIES:Activité,Comités / Committees,Correctional Facilities
END:VEVENT
BEGIN:VEVENT
DTSTART;TZID=America/Toronto:20280402T130000
DTEND;TZID=America/Toronto:20280402T150000
DTSTAMP:20260421T083838
CREATED:20231217T161936Z
LAST-MODIFIED:20240106T222958Z
UID:10011222-1838293200-1838300400@www.aa87.org
SUMMARY:Correctional Facilities
DESCRIPTION:Salle 1\nParticiper à la réunion Zoom \nID de réunion : 944 7943 6712 \nCode secret : 1234
URL:https://www.aa87.org/es/evenement/correctional-facilities-2/2028-04-02/
LOCATION:BSR / ASO\, 3920\, rue Rachel Est\, Montréal QC\, H1X 1Z3\, 3920\, Rachel Est\, Montréal\, Québec\, H1X 1Z3\, Canada
CATEGORIES:Activité,Comités / Committees,Correctional Facilities
END:VEVENT
BEGIN:VEVENT
DTSTART;TZID=America/Toronto:20280507T130000
DTEND;TZID=America/Toronto:20280507T150000
DTSTAMP:20260421T083838
CREATED:20231217T161936Z
LAST-MODIFIED:20240106T222958Z
UID:10011223-1841317200-1841324400@www.aa87.org
SUMMARY:Correctional Facilities
DESCRIPTION:Salle 1\nParticiper à la réunion Zoom \nID de réunion : 944 7943 6712 \nCode secret : 1234
URL:https://www.aa87.org/es/evenement/correctional-facilities-2/2028-05-07/
LOCATION:BSR / ASO\, 3920\, rue Rachel Est\, Montréal QC\, H1X 1Z3\, 3920\, Rachel Est\, Montréal\, Québec\, H1X 1Z3\, Canada
CATEGORIES:Activité,Comités / Committees,Correctional Facilities
END:VEVENT
BEGIN:VEVENT
DTSTART;TZID=America/Toronto:20280604T130000
DTEND;TZID=America/Toronto:20280604T150000
DTSTAMP:20260421T083838
CREATED:20231217T161936Z
LAST-MODIFIED:20240106T222958Z
UID:10011224-1843736400-1843743600@www.aa87.org
SUMMARY:Correctional Facilities
DESCRIPTION:Salle 1\nParticiper à la réunion Zoom \nID de réunion : 944 7943 6712 \nCode secret : 1234
URL:https://www.aa87.org/es/evenement/correctional-facilities-2/2028-06-04/
LOCATION:BSR / ASO\, 3920\, rue Rachel Est\, Montréal QC\, H1X 1Z3\, 3920\, Rachel Est\, Montréal\, Québec\, H1X 1Z3\, Canada
CATEGORIES:Activité,Comités / Committees,Correctional Facilities
END:VEVENT
BEGIN:VEVENT
DTSTART;TZID=America/Toronto:20280702T130000
DTEND;TZID=America/Toronto:20280702T150000
DTSTAMP:20260421T083838
CREATED:20231217T161936Z
LAST-MODIFIED:20240106T222958Z
UID:10011225-1846155600-1846162800@www.aa87.org
SUMMARY:Correctional Facilities
DESCRIPTION:Salle 1\nParticiper à la réunion Zoom \nID de réunion : 944 7943 6712 \nCode secret : 1234
URL:https://www.aa87.org/es/evenement/correctional-facilities-2/2028-07-02/
LOCATION:BSR / ASO\, 3920\, rue Rachel Est\, Montréal QC\, H1X 1Z3\, 3920\, Rachel Est\, Montréal\, Québec\, H1X 1Z3\, Canada
CATEGORIES:Activité,Comités / Committees,Correctional Facilities
END:VEVENT
BEGIN:VEVENT
DTSTART;TZID=America/Toronto:20280806T130000
DTEND;TZID=America/Toronto:20280806T150000
DTSTAMP:20260421T083838
CREATED:20231217T161936Z
LAST-MODIFIED:20240106T222958Z
UID:10011226-1849179600-1849186800@www.aa87.org
SUMMARY:Correctional Facilities
DESCRIPTION:Salle 1\nParticiper à la réunion Zoom \nID de réunion : 944 7943 6712 \nCode secret : 1234
URL:https://www.aa87.org/es/evenement/correctional-facilities-2/2028-08-06/
LOCATION:BSR / ASO\, 3920\, rue Rachel Est\, Montréal QC\, H1X 1Z3\, 3920\, Rachel Est\, Montréal\, Québec\, H1X 1Z3\, Canada
CATEGORIES:Activité,Comités / Committees,Correctional Facilities
END:VEVENT
BEGIN:VEVENT
DTSTART;TZID=America/Toronto:20280903T130000
DTEND;TZID=America/Toronto:20280903T150000
DTSTAMP:20260421T083838
CREATED:20231217T161936Z
LAST-MODIFIED:20240106T222958Z
UID:10011227-1851598800-1851606000@www.aa87.org
SUMMARY:Correctional Facilities
DESCRIPTION:Salle 1\nParticiper à la réunion Zoom \nID de réunion : 944 7943 6712 \nCode secret : 1234
URL:https://www.aa87.org/es/evenement/correctional-facilities-2/2028-09-03/
LOCATION:BSR / ASO\, 3920\, rue Rachel Est\, Montréal QC\, H1X 1Z3\, 3920\, Rachel Est\, Montréal\, Québec\, H1X 1Z3\, Canada
CATEGORIES:Activité,Comités / Committees,Correctional Facilities
END:VEVENT
BEGIN:VEVENT
DTSTART;TZID=America/Toronto:20281001T130000
DTEND;TZID=America/Toronto:20281001T150000
DTSTAMP:20260421T083838
CREATED:20231217T161936Z
LAST-MODIFIED:20240106T222958Z
UID:10011228-1854018000-1854025200@www.aa87.org
SUMMARY:Correctional Facilities
DESCRIPTION:Salle 1\nParticiper à la réunion Zoom \nID de réunion : 944 7943 6712 \nCode secret : 1234
URL:https://www.aa87.org/es/evenement/correctional-facilities-2/2028-10-01/
LOCATION:BSR / ASO\, 3920\, rue Rachel Est\, Montréal QC\, H1X 1Z3\, 3920\, Rachel Est\, Montréal\, Québec\, H1X 1Z3\, Canada
CATEGORIES:Activité,Comités / Committees,Correctional Facilities
END:VEVENT
END:VCALENDAR