BEGIN:VCALENDAR
VERSION:2.0
PRODID:-//AA Región 87 - ECPv6.15.17//NONSGML v1.0//EN
CALSCALE:GREGORIAN
METHOD:PUBLISH
X-WR-CALNAME:AA Región 87
X-ORIGINAL-URL:https://www.aa87.org/es/
X-WR-CALDESC:Eventos para AA Región 87
REFRESH-INTERVAL;VALUE=DURATION:PT1H
X-Robots-Tag:noindex
X-PUBLISHED-TTL:PT1H
BEGIN:VTIMEZONE
TZID:America/Toronto
BEGIN:DAYLIGHT
TZOFFSETFROM:-0500
TZOFFSETTO:-0400
TZNAME:EDT
DTSTART:20250309T070000
END:DAYLIGHT
BEGIN:STANDARD
TZOFFSETFROM:-0400
TZOFFSETTO:-0500
TZNAME:EST
DTSTART:20251102T060000
END:STANDARD
BEGIN:DAYLIGHT
TZOFFSETFROM:-0500
TZOFFSETTO:-0400
TZNAME:EDT
DTSTART:20260308T070000
END:DAYLIGHT
BEGIN:STANDARD
TZOFFSETFROM:-0400
TZOFFSETTO:-0500
TZNAME:EST
DTSTART:20261101T060000
END:STANDARD
BEGIN:DAYLIGHT
TZOFFSETFROM:-0500
TZOFFSETTO:-0400
TZNAME:EDT
DTSTART:20270314T070000
END:DAYLIGHT
BEGIN:STANDARD
TZOFFSETFROM:-0400
TZOFFSETTO:-0500
TZNAME:EST
DTSTART:20271107T060000
END:STANDARD
BEGIN:DAYLIGHT
TZOFFSETFROM:-0500
TZOFFSETTO:-0400
TZNAME:EDT
DTSTART:20280312T070000
END:DAYLIGHT
BEGIN:STANDARD
TZOFFSETFROM:-0400
TZOFFSETTO:-0500
TZNAME:EST
DTSTART:20281105T060000
END:STANDARD
BEGIN:DAYLIGHT
TZOFFSETFROM:-0500
TZOFFSETTO:-0400
TZNAME:EDT
DTSTART:20290311T070000
END:DAYLIGHT
BEGIN:STANDARD
TZOFFSETFROM:-0400
TZOFFSETTO:-0500
TZNAME:EST
DTSTART:20291104T060000
END:STANDARD
END:VTIMEZONE
BEGIN:VEVENT
DTSTART;VALUE=DATE:20261021
DTEND;VALUE=DATE:20261022
DTSTAMP:20260422T044003
CREATED:20241017T122021Z
LAST-MODIFIED:20241018T150522Z
UID:10008465-1792540800-1792627199@www.aa87.org
SUMMARY:Reflexión diaria 21 de octubre
DESCRIPTION:Nada crece en la oscuridad\n21 de octubre\n\nQuerremos que crezca y florezca lo bueno que hay en todos nosotros\, incluso en los peores de nosotros. \nComo lo ve Bill\, p. 10 \nCon la autodisciplina y la conciencia adquiridas con la práctica del Paso Diez\, empecé a conocer las recompensas de la sobriedad — no como una mera abstinencia del alcohol\, sino como una recuperación en todos los aspectos de mi vida. \nYo renuevo la esperanza\, regenero la fe y recobro la dignidad y el respeto de mí mismo. Descubro la palabra “y” en la frase “y cuando nos equivocábamos lo admitíamos inmediatamente”. \nCon la seguridad tranquilizadora de que ya no estoy siempre equivocado\, puedo aceptarme como soy\, con un nuevo entendimiento de los milagros de la sobriedad y la serenidad. \n\n\nDel libro Reflexiones diarias\nCopyright © 1991 por Alcoholics Anonymous World Services\, Inc. Todos los derechos reservados. \nTodas las reflexiones diarias
URL:https://www.aa87.org/es/evenement/rq1021/2026-10-21/
LOCATION:aa87.org
CATEGORIES:Réflexion Quotidiennes
END:VEVENT
BEGIN:VEVENT
DTSTART;VALUE=DATE:20271021
DTEND;VALUE=DATE:20271022
DTSTAMP:20260422T044003
CREATED:20241017T122021Z
LAST-MODIFIED:20241018T150522Z
UID:10008466-1824076800-1824163199@www.aa87.org
SUMMARY:Reflexión diaria 21 de octubre
DESCRIPTION:Nada crece en la oscuridad\n21 de octubre\n\nQuerremos que crezca y florezca lo bueno que hay en todos nosotros\, incluso en los peores de nosotros. \nComo lo ve Bill\, p. 10 \nCon la autodisciplina y la conciencia adquiridas con la práctica del Paso Diez\, empecé a conocer las recompensas de la sobriedad — no como una mera abstinencia del alcohol\, sino como una recuperación en todos los aspectos de mi vida. \nYo renuevo la esperanza\, regenero la fe y recobro la dignidad y el respeto de mí mismo. Descubro la palabra “y” en la frase “y cuando nos equivocábamos lo admitíamos inmediatamente”. \nCon la seguridad tranquilizadora de que ya no estoy siempre equivocado\, puedo aceptarme como soy\, con un nuevo entendimiento de los milagros de la sobriedad y la serenidad. \n\n\nDel libro Reflexiones diarias\nCopyright © 1991 por Alcoholics Anonymous World Services\, Inc. Todos los derechos reservados. \nTodas las reflexiones diarias
URL:https://www.aa87.org/es/evenement/rq1021/2027-10-21/
LOCATION:aa87.org
CATEGORIES:Réflexion Quotidiennes
END:VEVENT
BEGIN:VEVENT
DTSTART;VALUE=DATE:20281021
DTEND;VALUE=DATE:20281022
DTSTAMP:20260422T044003
CREATED:20241017T122021Z
LAST-MODIFIED:20241018T150522Z
UID:10008467-1855699200-1855785599@www.aa87.org
SUMMARY:Reflexión diaria 21 de octubre
DESCRIPTION:Nada crece en la oscuridad\n21 de octubre\n\nQuerremos que crezca y florezca lo bueno que hay en todos nosotros\, incluso en los peores de nosotros. \nComo lo ve Bill\, p. 10 \nCon la autodisciplina y la conciencia adquiridas con la práctica del Paso Diez\, empecé a conocer las recompensas de la sobriedad — no como una mera abstinencia del alcohol\, sino como una recuperación en todos los aspectos de mi vida. \nYo renuevo la esperanza\, regenero la fe y recobro la dignidad y el respeto de mí mismo. Descubro la palabra “y” en la frase “y cuando nos equivocábamos lo admitíamos inmediatamente”. \nCon la seguridad tranquilizadora de que ya no estoy siempre equivocado\, puedo aceptarme como soy\, con un nuevo entendimiento de los milagros de la sobriedad y la serenidad. \n\n\nDel libro Reflexiones diarias\nCopyright © 1991 por Alcoholics Anonymous World Services\, Inc. Todos los derechos reservados. \nTodas las reflexiones diarias
URL:https://www.aa87.org/es/evenement/rq1021/2028-10-21/
LOCATION:aa87.org
CATEGORIES:Réflexion Quotidiennes
END:VEVENT
END:VCALENDAR