BEGIN:VCALENDAR
VERSION:2.0
PRODID:-//AA Región 87 - ECPv6.15.17//NONSGML v1.0//EN
CALSCALE:GREGORIAN
METHOD:PUBLISH
X-WR-CALNAME:AA Región 87
X-ORIGINAL-URL:https://www.aa87.org/es/
X-WR-CALDESC:Eventos para AA Región 87
REFRESH-INTERVAL;VALUE=DURATION:PT1H
X-Robots-Tag:noindex
X-PUBLISHED-TTL:PT1H
BEGIN:VTIMEZONE
TZID:America/Toronto
BEGIN:DAYLIGHT
TZOFFSETFROM:-0500
TZOFFSETTO:-0400
TZNAME:EDT
DTSTART:20260308T070000
END:DAYLIGHT
BEGIN:STANDARD
TZOFFSETFROM:-0400
TZOFFSETTO:-0500
TZNAME:EST
DTSTART:20261101T060000
END:STANDARD
BEGIN:DAYLIGHT
TZOFFSETFROM:-0500
TZOFFSETTO:-0400
TZNAME:EDT
DTSTART:20270314T070000
END:DAYLIGHT
BEGIN:STANDARD
TZOFFSETFROM:-0400
TZOFFSETTO:-0500
TZNAME:EST
DTSTART:20271107T060000
END:STANDARD
BEGIN:DAYLIGHT
TZOFFSETFROM:-0500
TZOFFSETTO:-0400
TZNAME:EDT
DTSTART:20280312T070000
END:DAYLIGHT
BEGIN:STANDARD
TZOFFSETFROM:-0400
TZOFFSETTO:-0500
TZNAME:EST
DTSTART:20281105T060000
END:STANDARD
BEGIN:DAYLIGHT
TZOFFSETFROM:-0500
TZOFFSETTO:-0400
TZNAME:EDT
DTSTART:20290311T070000
END:DAYLIGHT
BEGIN:STANDARD
TZOFFSETFROM:-0400
TZOFFSETTO:-0500
TZNAME:EST
DTSTART:20291104T060000
END:STANDARD
BEGIN:DAYLIGHT
TZOFFSETFROM:-0500
TZOFFSETTO:-0400
TZNAME:EDT
DTSTART:20300310T070000
END:DAYLIGHT
BEGIN:STANDARD
TZOFFSETFROM:-0400
TZOFFSETTO:-0500
TZNAME:EST
DTSTART:20301103T060000
END:STANDARD
END:VTIMEZONE
BEGIN:VEVENT
DTSTART;VALUE=DATE:20270216
DTEND;VALUE=DATE:20270217
DTSTAMP:20260419T082308
CREATED:20250202T164617Z
LAST-MODIFIED:20250202T164811Z
UID:10019210-1802736000-1802822399@www.aa87.org
SUMMARY:Reflexión diaria 16 de febrero
DESCRIPTION:El compromiso\n16 de febrero\n\nLa comprensión es la clave de las actitudes y los principios correctos\, y las acciones correctas son la clave del buen vivir… \nDoce pasos y doce traditions\, p. 122 \nLlegó un momento en mi programa de recuperación en que la tercera línea de la Oración de la Serenidad —“la sabiduría para reconocer la diferencia”— quedó impresa indeleblemente en mi mente. Desde aquel momento\, tenía que enfrentarme con esta conciencia de que todas mis acciones\, todas mis palabras y todos mis pensamientos estaban dentro o fuera de los principios del programa. Ya no podía ampararme en las racionalizaciones ni en la locura de mi enfermedad. La única línea de acción que tenía abierta\, si iba a llegar a una vida feliz para mí mismo (y para mis seres queridos) era la de obligarme a mí mismo a hacer un esfuerzo para comprometerme y ser disciplinado y responsable. \n\n\nCopyright © 1991 por Alcoholics Anonymous World Services\, Inc. Todos los derechos reservados. \nTodas las reflexiones diarias
URL:https://www.aa87.org/es/evenement/rq0216/2027-02-16/
LOCATION:aa87.org
CATEGORIES:Réflexion Quotidiennes
END:VEVENT
BEGIN:VEVENT
DTSTART;VALUE=DATE:20280216
DTEND;VALUE=DATE:20280217
DTSTAMP:20260419T082308
CREATED:20250202T164617Z
LAST-MODIFIED:20250202T164811Z
UID:10019211-1834272000-1834358399@www.aa87.org
SUMMARY:Reflexión diaria 16 de febrero
DESCRIPTION:El compromiso\n16 de febrero\n\nLa comprensión es la clave de las actitudes y los principios correctos\, y las acciones correctas son la clave del buen vivir… \nDoce pasos y doce traditions\, p. 122 \nLlegó un momento en mi programa de recuperación en que la tercera línea de la Oración de la Serenidad —“la sabiduría para reconocer la diferencia”— quedó impresa indeleblemente en mi mente. Desde aquel momento\, tenía que enfrentarme con esta conciencia de que todas mis acciones\, todas mis palabras y todos mis pensamientos estaban dentro o fuera de los principios del programa. Ya no podía ampararme en las racionalizaciones ni en la locura de mi enfermedad. La única línea de acción que tenía abierta\, si iba a llegar a una vida feliz para mí mismo (y para mis seres queridos) era la de obligarme a mí mismo a hacer un esfuerzo para comprometerme y ser disciplinado y responsable. \n\n\nCopyright © 1991 por Alcoholics Anonymous World Services\, Inc. Todos los derechos reservados. \nTodas las reflexiones diarias
URL:https://www.aa87.org/es/evenement/rq0216/2028-02-16/
LOCATION:aa87.org
CATEGORIES:Réflexion Quotidiennes
END:VEVENT
BEGIN:VEVENT
DTSTART;VALUE=DATE:20290216
DTEND;VALUE=DATE:20290217
DTSTAMP:20260419T082308
CREATED:20250202T164617Z
LAST-MODIFIED:20250202T164811Z
UID:10019212-1865894400-1865980799@www.aa87.org
SUMMARY:Reflexión diaria 16 de febrero
DESCRIPTION:El compromiso\n16 de febrero\n\nLa comprensión es la clave de las actitudes y los principios correctos\, y las acciones correctas son la clave del buen vivir… \nDoce pasos y doce traditions\, p. 122 \nLlegó un momento en mi programa de recuperación en que la tercera línea de la Oración de la Serenidad —“la sabiduría para reconocer la diferencia”— quedó impresa indeleblemente en mi mente. Desde aquel momento\, tenía que enfrentarme con esta conciencia de que todas mis acciones\, todas mis palabras y todos mis pensamientos estaban dentro o fuera de los principios del programa. Ya no podía ampararme en las racionalizaciones ni en la locura de mi enfermedad. La única línea de acción que tenía abierta\, si iba a llegar a una vida feliz para mí mismo (y para mis seres queridos) era la de obligarme a mí mismo a hacer un esfuerzo para comprometerme y ser disciplinado y responsable. \n\n\nCopyright © 1991 por Alcoholics Anonymous World Services\, Inc. Todos los derechos reservados. \nTodas las reflexiones diarias
URL:https://www.aa87.org/es/evenement/rq0216/2029-02-16/
LOCATION:aa87.org
CATEGORIES:Réflexion Quotidiennes
END:VEVENT
END:VCALENDAR