BEGIN:VCALENDAR
VERSION:2.0
PRODID:-//AA Región 87 - ECPv6.15.17//NONSGML v1.0//EN
CALSCALE:GREGORIAN
METHOD:PUBLISH
X-WR-CALNAME:AA Región 87
X-ORIGINAL-URL:https://www.aa87.org/es/
X-WR-CALDESC:Eventos para AA Región 87
REFRESH-INTERVAL;VALUE=DURATION:PT1H
X-Robots-Tag:noindex
X-PUBLISHED-TTL:PT1H
BEGIN:VTIMEZONE
TZID:America/Toronto
BEGIN:DAYLIGHT
TZOFFSETFROM:-0500
TZOFFSETTO:-0400
TZNAME:EDT
DTSTART:20260308T070000
END:DAYLIGHT
BEGIN:STANDARD
TZOFFSETFROM:-0400
TZOFFSETTO:-0500
TZNAME:EST
DTSTART:20261101T060000
END:STANDARD
BEGIN:DAYLIGHT
TZOFFSETFROM:-0500
TZOFFSETTO:-0400
TZNAME:EDT
DTSTART:20270314T070000
END:DAYLIGHT
BEGIN:STANDARD
TZOFFSETFROM:-0400
TZOFFSETTO:-0500
TZNAME:EST
DTSTART:20271107T060000
END:STANDARD
BEGIN:DAYLIGHT
TZOFFSETFROM:-0500
TZOFFSETTO:-0400
TZNAME:EDT
DTSTART:20280312T070000
END:DAYLIGHT
BEGIN:STANDARD
TZOFFSETFROM:-0400
TZOFFSETTO:-0500
TZNAME:EST
DTSTART:20281105T060000
END:STANDARD
BEGIN:DAYLIGHT
TZOFFSETFROM:-0500
TZOFFSETTO:-0400
TZNAME:EDT
DTSTART:20290311T070000
END:DAYLIGHT
BEGIN:STANDARD
TZOFFSETFROM:-0400
TZOFFSETTO:-0500
TZNAME:EST
DTSTART:20291104T060000
END:STANDARD
BEGIN:DAYLIGHT
TZOFFSETFROM:-0500
TZOFFSETTO:-0400
TZNAME:EDT
DTSTART:20300310T070000
END:DAYLIGHT
BEGIN:STANDARD
TZOFFSETFROM:-0400
TZOFFSETTO:-0500
TZNAME:EST
DTSTART:20301103T060000
END:STANDARD
END:VTIMEZONE
BEGIN:VEVENT
DTSTART;VALUE=DATE:20270224
DTEND;VALUE=DATE:20270225
DTSTAMP:20260419T082348
CREATED:20250213T233446Z
LAST-MODIFIED:20250213T233711Z
UID:10019692-1803427200-1803513599@www.aa87.org
SUMMARY:Reflexión diaria 24 de febrero
DESCRIPTION:Un corazón agradecido\n24 de febrero\n\nMe esfuerzo por aferrarme a la verdad de que un corazón lleno y agradecido no puede abrigar grandes presunciones. Rebosante de gratitud\, el corazón tiene que latir con un amor que fluye hacia todo lo que nos rodea\, la emoción más elevada que jamás podamos experimentar. \nComo lo ve Bill\, p. 37 \nMi padrino me dijo que yo debía ser un alcohólico agradecido y siempre tener “una actitud de gratitud” — que la gratitud es el ingrediente básico de la humildad\, que la humildad es el ingrediente básico del anonimato y que “el anonimato es la base espiritual de todas nuestras tradiciones\, recordándonos siempre anteponer los principios a las personalidades”. Como resultado de este consejo que me dio\, yo empiezo todas las mañanas de rodillas\, dándole gracias a Dios por tres cosas: estar vivo\, estar sobrio y ser miembro de Alcohólicos Anónimos. Entonces trato de vivir una “actitud de gratitud” y de disfrutar completamente de otras veinticuatro horas de la manera de vivir de A.A. Alcohólicos Anónimos no es meramente algo a lo que me uní; es algo que yo vivo. \n\n\nCopyright © 1991 por Alcoholics Anonymous World Services\, Inc. Todos los derechos reservados. \nTodas las reflexiones diarias
URL:https://www.aa87.org/es/evenement/rq0224/2027-02-24/
LOCATION:aa87.org
CATEGORIES:Réflexion Quotidiennes
END:VEVENT
BEGIN:VEVENT
DTSTART;VALUE=DATE:20280224
DTEND;VALUE=DATE:20280225
DTSTAMP:20260419T082348
CREATED:20250213T233446Z
LAST-MODIFIED:20250213T233711Z
UID:10019693-1834963200-1835049599@www.aa87.org
SUMMARY:Reflexión diaria 24 de febrero
DESCRIPTION:Un corazón agradecido\n24 de febrero\n\nMe esfuerzo por aferrarme a la verdad de que un corazón lleno y agradecido no puede abrigar grandes presunciones. Rebosante de gratitud\, el corazón tiene que latir con un amor que fluye hacia todo lo que nos rodea\, la emoción más elevada que jamás podamos experimentar. \nComo lo ve Bill\, p. 37 \nMi padrino me dijo que yo debía ser un alcohólico agradecido y siempre tener “una actitud de gratitud” — que la gratitud es el ingrediente básico de la humildad\, que la humildad es el ingrediente básico del anonimato y que “el anonimato es la base espiritual de todas nuestras tradiciones\, recordándonos siempre anteponer los principios a las personalidades”. Como resultado de este consejo que me dio\, yo empiezo todas las mañanas de rodillas\, dándole gracias a Dios por tres cosas: estar vivo\, estar sobrio y ser miembro de Alcohólicos Anónimos. Entonces trato de vivir una “actitud de gratitud” y de disfrutar completamente de otras veinticuatro horas de la manera de vivir de A.A. Alcohólicos Anónimos no es meramente algo a lo que me uní; es algo que yo vivo. \n\n\nCopyright © 1991 por Alcoholics Anonymous World Services\, Inc. Todos los derechos reservados. \nTodas las reflexiones diarias
URL:https://www.aa87.org/es/evenement/rq0224/2028-02-24/
LOCATION:aa87.org
CATEGORIES:Réflexion Quotidiennes
END:VEVENT
BEGIN:VEVENT
DTSTART;VALUE=DATE:20290224
DTEND;VALUE=DATE:20290225
DTSTAMP:20260419T082348
CREATED:20250213T233446Z
LAST-MODIFIED:20250213T233711Z
UID:10019694-1866585600-1866671999@www.aa87.org
SUMMARY:Reflexión diaria 24 de febrero
DESCRIPTION:Un corazón agradecido\n24 de febrero\n\nMe esfuerzo por aferrarme a la verdad de que un corazón lleno y agradecido no puede abrigar grandes presunciones. Rebosante de gratitud\, el corazón tiene que latir con un amor que fluye hacia todo lo que nos rodea\, la emoción más elevada que jamás podamos experimentar. \nComo lo ve Bill\, p. 37 \nMi padrino me dijo que yo debía ser un alcohólico agradecido y siempre tener “una actitud de gratitud” — que la gratitud es el ingrediente básico de la humildad\, que la humildad es el ingrediente básico del anonimato y que “el anonimato es la base espiritual de todas nuestras tradiciones\, recordándonos siempre anteponer los principios a las personalidades”. Como resultado de este consejo que me dio\, yo empiezo todas las mañanas de rodillas\, dándole gracias a Dios por tres cosas: estar vivo\, estar sobrio y ser miembro de Alcohólicos Anónimos. Entonces trato de vivir una “actitud de gratitud” y de disfrutar completamente de otras veinticuatro horas de la manera de vivir de A.A. Alcohólicos Anónimos no es meramente algo a lo que me uní; es algo que yo vivo. \n\n\nCopyright © 1991 por Alcoholics Anonymous World Services\, Inc. Todos los derechos reservados. \nTodas las reflexiones diarias
URL:https://www.aa87.org/es/evenement/rq0224/2029-02-24/
LOCATION:aa87.org
CATEGORIES:Réflexion Quotidiennes
END:VEVENT
END:VCALENDAR