BEGIN:VCALENDAR
VERSION:2.0
PRODID:-//AA Región 87 - ECPv6.15.17//NONSGML v1.0//EN
CALSCALE:GREGORIAN
METHOD:PUBLISH
X-WR-CALNAME:AA Región 87
X-ORIGINAL-URL:https://www.aa87.org/es/
X-WR-CALDESC:Eventos para AA Región 87
REFRESH-INTERVAL;VALUE=DURATION:PT1H
X-Robots-Tag:noindex
X-PUBLISHED-TTL:PT1H
BEGIN:VTIMEZONE
TZID:America/Toronto
BEGIN:DAYLIGHT
TZOFFSETFROM:-0500
TZOFFSETTO:-0400
TZNAME:EDT
DTSTART:20250309T070000
END:DAYLIGHT
BEGIN:STANDARD
TZOFFSETFROM:-0400
TZOFFSETTO:-0500
TZNAME:EST
DTSTART:20251102T060000
END:STANDARD
BEGIN:DAYLIGHT
TZOFFSETFROM:-0500
TZOFFSETTO:-0400
TZNAME:EDT
DTSTART:20260308T070000
END:DAYLIGHT
BEGIN:STANDARD
TZOFFSETFROM:-0400
TZOFFSETTO:-0500
TZNAME:EST
DTSTART:20261101T060000
END:STANDARD
BEGIN:DAYLIGHT
TZOFFSETFROM:-0500
TZOFFSETTO:-0400
TZNAME:EDT
DTSTART:20270314T070000
END:DAYLIGHT
BEGIN:STANDARD
TZOFFSETFROM:-0400
TZOFFSETTO:-0500
TZNAME:EST
DTSTART:20271107T060000
END:STANDARD
BEGIN:DAYLIGHT
TZOFFSETFROM:-0500
TZOFFSETTO:-0400
TZNAME:EDT
DTSTART:20280312T070000
END:DAYLIGHT
BEGIN:STANDARD
TZOFFSETFROM:-0400
TZOFFSETTO:-0500
TZNAME:EST
DTSTART:20281105T060000
END:STANDARD
BEGIN:DAYLIGHT
TZOFFSETFROM:-0500
TZOFFSETTO:-0400
TZNAME:EDT
DTSTART:20290311T070000
END:DAYLIGHT
BEGIN:STANDARD
TZOFFSETFROM:-0400
TZOFFSETTO:-0500
TZNAME:EST
DTSTART:20291104T060000
END:STANDARD
BEGIN:DAYLIGHT
TZOFFSETFROM:-0500
TZOFFSETTO:-0400
TZNAME:EDT
DTSTART:20300310T070000
END:DAYLIGHT
BEGIN:STANDARD
TZOFFSETFROM:-0400
TZOFFSETTO:-0500
TZNAME:EST
DTSTART:20301103T060000
END:STANDARD
END:VTIMEZONE
BEGIN:VEVENT
DTSTART;VALUE=DATE:20260709
DTEND;VALUE=DATE:20260710
DTSTAMP:20260419T145430
CREATED:20250707T224155Z
LAST-MODIFIED:20250707T225242Z
UID:10022650-1783555200-1783641599@www.aa87.org
SUMMARY:Reflexión diaria 9 de julio
DESCRIPTION:Soy un instrumento\n9 de julio\n\nHumildemente le pedimos que nos liberase de nuestros defectos. \nDoce pasos y doce traditions\, p. 67 \nEl tema de la humildad es difícil. Humildad no es pensar de mí mismo menos de lo que debo; humildad es reconocer que yo hago bien ciertas cosas\, es aceptar cortésmente un elogio. \nDios puede hacer por mí sólo lo que puede hacer por medio de mí. La humildad es el resultado de saber que Dios es el que lo hace\, no yo. A la luz de este conocimiento ¿cómo puedo sentirme orgulloso por mis logros? Yo soy un instrumento y cualquier trabajo que parezca estar haciendo es hecho por Dios a través de mí. Diariamente le pido a Dios que me libre de mis defectos\, para que pueda con más libertad ocuparme de mis asuntos de A.A. de “amor y servicio”. \nDel libro Reflexiones diarias\nCopyright © 1991 por Alcoholics Anonymous World Services\, Inc. Todos los derechos reservados. \nTodas las reflexiones diarias \n\n\n 
URL:https://www.aa87.org/es/evenement/rq0709/2026-07-09/
LOCATION:Québec\, Canada
CATEGORIES:Réflexion Quotidiennes
END:VEVENT
BEGIN:VEVENT
DTSTART;VALUE=DATE:20270709
DTEND;VALUE=DATE:20270710
DTSTAMP:20260419T145430
CREATED:20250707T224155Z
LAST-MODIFIED:20250707T225242Z
UID:10022651-1815091200-1815177599@www.aa87.org
SUMMARY:Reflexión diaria 9 de julio
DESCRIPTION:Soy un instrumento\n9 de julio\n\nHumildemente le pedimos que nos liberase de nuestros defectos. \nDoce pasos y doce traditions\, p. 67 \nEl tema de la humildad es difícil. Humildad no es pensar de mí mismo menos de lo que debo; humildad es reconocer que yo hago bien ciertas cosas\, es aceptar cortésmente un elogio. \nDios puede hacer por mí sólo lo que puede hacer por medio de mí. La humildad es el resultado de saber que Dios es el que lo hace\, no yo. A la luz de este conocimiento ¿cómo puedo sentirme orgulloso por mis logros? Yo soy un instrumento y cualquier trabajo que parezca estar haciendo es hecho por Dios a través de mí. Diariamente le pido a Dios que me libre de mis defectos\, para que pueda con más libertad ocuparme de mis asuntos de A.A. de “amor y servicio”. \nDel libro Reflexiones diarias\nCopyright © 1991 por Alcoholics Anonymous World Services\, Inc. Todos los derechos reservados. \nTodas las reflexiones diarias \n\n\n 
URL:https://www.aa87.org/es/evenement/rq0709/2027-07-09/
LOCATION:Québec\, Canada
CATEGORIES:Réflexion Quotidiennes
END:VEVENT
BEGIN:VEVENT
DTSTART;VALUE=DATE:20280709
DTEND;VALUE=DATE:20280710
DTSTAMP:20260419T145430
CREATED:20250707T224155Z
LAST-MODIFIED:20250707T225242Z
UID:10022652-1846713600-1846799999@www.aa87.org
SUMMARY:Reflexión diaria 9 de julio
DESCRIPTION:Soy un instrumento\n9 de julio\n\nHumildemente le pedimos que nos liberase de nuestros defectos. \nDoce pasos y doce traditions\, p. 67 \nEl tema de la humildad es difícil. Humildad no es pensar de mí mismo menos de lo que debo; humildad es reconocer que yo hago bien ciertas cosas\, es aceptar cortésmente un elogio. \nDios puede hacer por mí sólo lo que puede hacer por medio de mí. La humildad es el resultado de saber que Dios es el que lo hace\, no yo. A la luz de este conocimiento ¿cómo puedo sentirme orgulloso por mis logros? Yo soy un instrumento y cualquier trabajo que parezca estar haciendo es hecho por Dios a través de mí. Diariamente le pido a Dios que me libre de mis defectos\, para que pueda con más libertad ocuparme de mis asuntos de A.A. de “amor y servicio”. \nDel libro Reflexiones diarias\nCopyright © 1991 por Alcoholics Anonymous World Services\, Inc. Todos los derechos reservados. \nTodas las reflexiones diarias \n\n\n 
URL:https://www.aa87.org/es/evenement/rq0709/2028-07-09/
LOCATION:Québec\, Canada
CATEGORIES:Réflexion Quotidiennes
END:VEVENT
BEGIN:VEVENT
DTSTART;VALUE=DATE:20290709
DTEND;VALUE=DATE:20290710
DTSTAMP:20260419T145430
CREATED:20250707T224155Z
LAST-MODIFIED:20250707T225242Z
UID:10022653-1878249600-1878335999@www.aa87.org
SUMMARY:Reflexión diaria 9 de julio
DESCRIPTION:Soy un instrumento\n9 de julio\n\nHumildemente le pedimos que nos liberase de nuestros defectos. \nDoce pasos y doce traditions\, p. 67 \nEl tema de la humildad es difícil. Humildad no es pensar de mí mismo menos de lo que debo; humildad es reconocer que yo hago bien ciertas cosas\, es aceptar cortésmente un elogio. \nDios puede hacer por mí sólo lo que puede hacer por medio de mí. La humildad es el resultado de saber que Dios es el que lo hace\, no yo. A la luz de este conocimiento ¿cómo puedo sentirme orgulloso por mis logros? Yo soy un instrumento y cualquier trabajo que parezca estar haciendo es hecho por Dios a través de mí. Diariamente le pido a Dios que me libre de mis defectos\, para que pueda con más libertad ocuparme de mis asuntos de A.A. de “amor y servicio”. \nDel libro Reflexiones diarias\nCopyright © 1991 por Alcoholics Anonymous World Services\, Inc. Todos los derechos reservados. \nTodas las reflexiones diarias \n\n\n 
URL:https://www.aa87.org/es/evenement/rq0709/2029-07-09/
LOCATION:Québec\, Canada
CATEGORIES:Réflexion Quotidiennes
END:VEVENT
END:VCALENDAR