BEGIN:VCALENDAR
VERSION:2.0
PRODID:-//AA Región 87 - ECPv6.15.17//NONSGML v1.0//EN
CALSCALE:GREGORIAN
METHOD:PUBLISH
X-WR-CALNAME:AA Región 87
X-ORIGINAL-URL:https://www.aa87.org/es/
X-WR-CALDESC:Eventos para AA Región 87
REFRESH-INTERVAL;VALUE=DURATION:PT1H
X-Robots-Tag:noindex
X-PUBLISHED-TTL:PT1H
BEGIN:VTIMEZONE
TZID:America/Toronto
BEGIN:DAYLIGHT
TZOFFSETFROM:-0500
TZOFFSETTO:-0400
TZNAME:EDT
DTSTART:20260308T070000
END:DAYLIGHT
BEGIN:STANDARD
TZOFFSETFROM:-0400
TZOFFSETTO:-0500
TZNAME:EST
DTSTART:20261101T060000
END:STANDARD
BEGIN:DAYLIGHT
TZOFFSETFROM:-0500
TZOFFSETTO:-0400
TZNAME:EDT
DTSTART:20270314T070000
END:DAYLIGHT
BEGIN:STANDARD
TZOFFSETFROM:-0400
TZOFFSETTO:-0500
TZNAME:EST
DTSTART:20271107T060000
END:STANDARD
BEGIN:DAYLIGHT
TZOFFSETFROM:-0500
TZOFFSETTO:-0400
TZNAME:EDT
DTSTART:20280312T070000
END:DAYLIGHT
BEGIN:STANDARD
TZOFFSETFROM:-0400
TZOFFSETTO:-0500
TZNAME:EST
DTSTART:20281105T060000
END:STANDARD
BEGIN:DAYLIGHT
TZOFFSETFROM:-0500
TZOFFSETTO:-0400
TZNAME:EDT
DTSTART:20290311T070000
END:DAYLIGHT
BEGIN:STANDARD
TZOFFSETFROM:-0400
TZOFFSETTO:-0500
TZNAME:EST
DTSTART:20291104T060000
END:STANDARD
BEGIN:DAYLIGHT
TZOFFSETFROM:-0500
TZOFFSETTO:-0400
TZNAME:EDT
DTSTART:20300310T070000
END:DAYLIGHT
BEGIN:STANDARD
TZOFFSETFROM:-0400
TZOFFSETTO:-0500
TZNAME:EST
DTSTART:20301103T060000
END:STANDARD
BEGIN:DAYLIGHT
TZOFFSETFROM:-0500
TZOFFSETTO:-0400
TZNAME:EDT
DTSTART:20310309T070000
END:DAYLIGHT
BEGIN:STANDARD
TZOFFSETFROM:-0400
TZOFFSETTO:-0500
TZNAME:EST
DTSTART:20311102T060000
END:STANDARD
END:VTIMEZONE
BEGIN:VEVENT
DTSTART;VALUE=DATE:20270305
DTEND;VALUE=DATE:20270306
DTSTAMP:20260419T093342
CREATED:20250802T040313Z
LAST-MODIFIED:20250802T040655Z
UID:10024498-1804204800-1804291199@www.aa87.org
SUMMARY:Reflexión diaria 5 de marzo
DESCRIPTION:Una tarea de por vida\n5 de marzo\n\nDoce pasos y doce traditions\, p. 24 \nNunca se me conoció por mi paciencia. Cuántas veces me he preguntado\, “¿Por qué debo esperar\, cuando lo puedo obtener ahora mismo?” En verdad\, cuando me presentaron los Doce Pasos por primera vez\, me sentía como un “niño en una tienda de caramelos”. No podía esperar llegar al Paso Doce; creí que sería cosa de solamente unos pocos meses de trabajo. Hoy me doy cuenta de que vivir los Doce Pasos de A.A. es una tarea para toda la vida. \nDel libro Reflexiones diarias\nCopyright © 1991 por Alcoholics Anonymous World Services\, Inc. Todos los derechos reservados. \nTodas las reflexiones diarias
URL:https://www.aa87.org/es/evenement/rq0305/2027-03-05/
LOCATION:Québec\, Canada
CATEGORIES:Réflexion Quotidiennes
END:VEVENT
BEGIN:VEVENT
DTSTART;VALUE=DATE:20280305
DTEND;VALUE=DATE:20280306
DTSTAMP:20260419T093342
CREATED:20250802T040313Z
LAST-MODIFIED:20250802T040655Z
UID:10024499-1835827200-1835913599@www.aa87.org
SUMMARY:Reflexión diaria 5 de marzo
DESCRIPTION:Una tarea de por vida\n5 de marzo\n\nDoce pasos y doce traditions\, p. 24 \nNunca se me conoció por mi paciencia. Cuántas veces me he preguntado\, “¿Por qué debo esperar\, cuando lo puedo obtener ahora mismo?” En verdad\, cuando me presentaron los Doce Pasos por primera vez\, me sentía como un “niño en una tienda de caramelos”. No podía esperar llegar al Paso Doce; creí que sería cosa de solamente unos pocos meses de trabajo. Hoy me doy cuenta de que vivir los Doce Pasos de A.A. es una tarea para toda la vida. \nDel libro Reflexiones diarias\nCopyright © 1991 por Alcoholics Anonymous World Services\, Inc. Todos los derechos reservados. \nTodas las reflexiones diarias
URL:https://www.aa87.org/es/evenement/rq0305/2028-03-05/
LOCATION:Québec\, Canada
CATEGORIES:Réflexion Quotidiennes
END:VEVENT
BEGIN:VEVENT
DTSTART;VALUE=DATE:20290305
DTEND;VALUE=DATE:20290306
DTSTAMP:20260419T093342
CREATED:20250802T040313Z
LAST-MODIFIED:20250802T040655Z
UID:10024500-1867363200-1867449599@www.aa87.org
SUMMARY:Reflexión diaria 5 de marzo
DESCRIPTION:Una tarea de por vida\n5 de marzo\n\nDoce pasos y doce traditions\, p. 24 \nNunca se me conoció por mi paciencia. Cuántas veces me he preguntado\, “¿Por qué debo esperar\, cuando lo puedo obtener ahora mismo?” En verdad\, cuando me presentaron los Doce Pasos por primera vez\, me sentía como un “niño en una tienda de caramelos”. No podía esperar llegar al Paso Doce; creí que sería cosa de solamente unos pocos meses de trabajo. Hoy me doy cuenta de que vivir los Doce Pasos de A.A. es una tarea para toda la vida. \nDel libro Reflexiones diarias\nCopyright © 1991 por Alcoholics Anonymous World Services\, Inc. Todos los derechos reservados. \nTodas las reflexiones diarias
URL:https://www.aa87.org/es/evenement/rq0305/2029-03-05/
LOCATION:Québec\, Canada
CATEGORIES:Réflexion Quotidiennes
END:VEVENT
BEGIN:VEVENT
DTSTART;VALUE=DATE:20300305
DTEND;VALUE=DATE:20300306
DTSTAMP:20260419T093342
CREATED:20250802T040313Z
LAST-MODIFIED:20250802T040655Z
UID:10024501-1898899200-1898985599@www.aa87.org
SUMMARY:Reflexión diaria 5 de marzo
DESCRIPTION:Una tarea de por vida\n5 de marzo\n\nDoce pasos y doce traditions\, p. 24 \nNunca se me conoció por mi paciencia. Cuántas veces me he preguntado\, “¿Por qué debo esperar\, cuando lo puedo obtener ahora mismo?” En verdad\, cuando me presentaron los Doce Pasos por primera vez\, me sentía como un “niño en una tienda de caramelos”. No podía esperar llegar al Paso Doce; creí que sería cosa de solamente unos pocos meses de trabajo. Hoy me doy cuenta de que vivir los Doce Pasos de A.A. es una tarea para toda la vida. \nDel libro Reflexiones diarias\nCopyright © 1991 por Alcoholics Anonymous World Services\, Inc. Todos los derechos reservados. \nTodas las reflexiones diarias
URL:https://www.aa87.org/es/evenement/rq0305/2030-03-05/
LOCATION:Québec\, Canada
CATEGORIES:Réflexion Quotidiennes
END:VEVENT
END:VCALENDAR