BEGIN:VCALENDAR
VERSION:2.0
PRODID:-//AA Región 87 - ECPv6.15.17//NONSGML v1.0//EN
CALSCALE:GREGORIAN
METHOD:PUBLISH
X-WR-CALNAME:AA Región 87
X-ORIGINAL-URL:https://www.aa87.org/es/
X-WR-CALDESC:Eventos para AA Región 87
REFRESH-INTERVAL;VALUE=DURATION:PT1H
X-Robots-Tag:noindex
X-PUBLISHED-TTL:PT1H
BEGIN:VTIMEZONE
TZID:America/Toronto
BEGIN:DAYLIGHT
TZOFFSETFROM:-0500
TZOFFSETTO:-0400
TZNAME:EDT
DTSTART:20250309T070000
END:DAYLIGHT
BEGIN:STANDARD
TZOFFSETFROM:-0400
TZOFFSETTO:-0500
TZNAME:EST
DTSTART:20251102T060000
END:STANDARD
BEGIN:DAYLIGHT
TZOFFSETFROM:-0500
TZOFFSETTO:-0400
TZNAME:EDT
DTSTART:20260308T070000
END:DAYLIGHT
BEGIN:STANDARD
TZOFFSETFROM:-0400
TZOFFSETTO:-0500
TZNAME:EST
DTSTART:20261101T060000
END:STANDARD
BEGIN:DAYLIGHT
TZOFFSETFROM:-0500
TZOFFSETTO:-0400
TZNAME:EDT
DTSTART:20270314T070000
END:DAYLIGHT
BEGIN:STANDARD
TZOFFSETFROM:-0400
TZOFFSETTO:-0500
TZNAME:EST
DTSTART:20271107T060000
END:STANDARD
BEGIN:DAYLIGHT
TZOFFSETFROM:-0500
TZOFFSETTO:-0400
TZNAME:EDT
DTSTART:20280312T070000
END:DAYLIGHT
BEGIN:STANDARD
TZOFFSETFROM:-0400
TZOFFSETTO:-0500
TZNAME:EST
DTSTART:20281105T060000
END:STANDARD
END:VTIMEZONE
BEGIN:VEVENT
DTSTART;TZID=America/Toronto:20260505T190000
DTEND;TZID=America/Toronto:20260505T210000
DTSTAMP:20260421T124905
CREATED:20251229T223612Z
LAST-MODIFIED:20251231T035928Z
UID:10034316-1778007600-1778014800@www.aa87.org
SUMMARY:Reunión de los GSR del Distrito 87-13
DESCRIPTION:Reunión mensual presencial.
URL:https://www.aa87.org/es/evenement/district-13-2-2-2/2026-05-05/
LOCATION:Centre St-Zotique\, 75\, carré Sir Georges-Étienne Cartier\, salle 215\, Montréal QC\, H4C 3A1\, 75\, carré Sir Georges-Étienne Cartier\, salle 215\, Montréal\, Québec\, H4C 3A1\, Canada
CATEGORIES:Activité,District 13,District AA87
END:VEVENT
BEGIN:VEVENT
DTSTART;TZID=America/Toronto:20260507T060000
DTEND;TZID=America/Toronto:20260507T060000
DTSTAMP:20260421T124905
CREATED:20231229T130646Z
LAST-MODIFIED:20240830T173307Z
UID:10012929-1778133600-1778133600@www.aa87.org
SUMMARY:Distrito 13
DESCRIPTION:
URL:https://www.aa87.org/es/evenement/district-13/2026-05-07/
LOCATION:Centre St-Zotique\, 75\, carré Sir Georges-Étienne Cartier\, salle 215\, Montréal QC\, H4C 3A1\, 75\, carré Sir Georges-Étienne Cartier\, salle 215\, Montréal\, Québec\, H4C 3A1\, Canada
CATEGORIES:Activité,District 13,District AA87
END:VEVENT
BEGIN:VEVENT
DTSTART;TZID=America/Toronto:20260602T190000
DTEND;TZID=America/Toronto:20260602T210000
DTSTAMP:20260421T124905
CREATED:20251229T223612Z
LAST-MODIFIED:20251231T035928Z
UID:10034317-1780426800-1780434000@www.aa87.org
SUMMARY:Reunión de los GSR del Distrito 87-13
DESCRIPTION:Reunión mensual presencial.
URL:https://www.aa87.org/es/evenement/district-13-2-2-2/2026-06-02/
LOCATION:Centre St-Zotique\, 75\, carré Sir Georges-Étienne Cartier\, salle 215\, Montréal QC\, H4C 3A1\, 75\, carré Sir Georges-Étienne Cartier\, salle 215\, Montréal\, Québec\, H4C 3A1\, Canada
CATEGORIES:Activité,District 13,District AA87
END:VEVENT
BEGIN:VEVENT
DTSTART;TZID=America/Toronto:20260604T060000
DTEND;TZID=America/Toronto:20260604T060000
DTSTAMP:20260421T124905
CREATED:20231229T130646Z
LAST-MODIFIED:20240830T173307Z
UID:10012930-1780552800-1780552800@www.aa87.org
SUMMARY:Distrito 13
DESCRIPTION:
URL:https://www.aa87.org/es/evenement/district-13/2026-06-04/
LOCATION:Centre St-Zotique\, 75\, carré Sir Georges-Étienne Cartier\, salle 215\, Montréal QC\, H4C 3A1\, 75\, carré Sir Georges-Étienne Cartier\, salle 215\, Montréal\, Québec\, H4C 3A1\, Canada
CATEGORIES:Activité,District 13,District AA87
END:VEVENT
BEGIN:VEVENT
DTSTART;TZID=America/Toronto:20260702T060000
DTEND;TZID=America/Toronto:20260702T060000
DTSTAMP:20260421T124905
CREATED:20231229T130646Z
LAST-MODIFIED:20240830T173307Z
UID:10012931-1782972000-1782972000@www.aa87.org
SUMMARY:Distrito 13
DESCRIPTION:
URL:https://www.aa87.org/es/evenement/district-13/2026-07-02/
LOCATION:Centre St-Zotique\, 75\, carré Sir Georges-Étienne Cartier\, salle 215\, Montréal QC\, H4C 3A1\, 75\, carré Sir Georges-Étienne Cartier\, salle 215\, Montréal\, Québec\, H4C 3A1\, Canada
CATEGORIES:Activité,District 13,District AA87
END:VEVENT
BEGIN:VEVENT
DTSTART;TZID=America/Toronto:20260806T060000
DTEND;TZID=America/Toronto:20260806T060000
DTSTAMP:20260421T124905
CREATED:20231229T130646Z
LAST-MODIFIED:20240830T173307Z
UID:10012932-1785996000-1785996000@www.aa87.org
SUMMARY:Distrito 13
DESCRIPTION:
URL:https://www.aa87.org/es/evenement/district-13/2026-08-06/
LOCATION:Centre St-Zotique\, 75\, carré Sir Georges-Étienne Cartier\, salle 215\, Montréal QC\, H4C 3A1\, 75\, carré Sir Georges-Étienne Cartier\, salle 215\, Montréal\, Québec\, H4C 3A1\, Canada
CATEGORIES:Activité,District 13,District AA87
END:VEVENT
BEGIN:VEVENT
DTSTART;TZID=America/Toronto:20260901T190000
DTEND;TZID=America/Toronto:20260901T210000
DTSTAMP:20260421T124905
CREATED:20251229T223612Z
LAST-MODIFIED:20251231T035928Z
UID:10034318-1788289200-1788296400@www.aa87.org
SUMMARY:Reunión de los GSR del Distrito 87-13
DESCRIPTION:Reunión mensual presencial.
URL:https://www.aa87.org/es/evenement/district-13-2-2-2/2026-09-01/
LOCATION:Centre St-Zotique\, 75\, carré Sir Georges-Étienne Cartier\, salle 215\, Montréal QC\, H4C 3A1\, 75\, carré Sir Georges-Étienne Cartier\, salle 215\, Montréal\, Québec\, H4C 3A1\, Canada
CATEGORIES:Activité,District 13,District AA87
END:VEVENT
BEGIN:VEVENT
DTSTART;TZID=America/Toronto:20260903T060000
DTEND;TZID=America/Toronto:20260903T060000
DTSTAMP:20260421T124905
CREATED:20231229T130646Z
LAST-MODIFIED:20240830T173307Z
UID:10012933-1788415200-1788415200@www.aa87.org
SUMMARY:Distrito 13
DESCRIPTION:
URL:https://www.aa87.org/es/evenement/district-13/2026-09-03/
LOCATION:Centre St-Zotique\, 75\, carré Sir Georges-Étienne Cartier\, salle 215\, Montréal QC\, H4C 3A1\, 75\, carré Sir Georges-Étienne Cartier\, salle 215\, Montréal\, Québec\, H4C 3A1\, Canada
CATEGORIES:Activité,District 13,District AA87
END:VEVENT
BEGIN:VEVENT
DTSTART;TZID=America/Toronto:20261001T060000
DTEND;TZID=America/Toronto:20261001T060000
DTSTAMP:20260421T124905
CREATED:20231229T130646Z
LAST-MODIFIED:20240830T173307Z
UID:10012934-1790834400-1790834400@www.aa87.org
SUMMARY:Distrito 13
DESCRIPTION:
URL:https://www.aa87.org/es/evenement/district-13/2026-10-01/
LOCATION:Centre St-Zotique\, 75\, carré Sir Georges-Étienne Cartier\, salle 215\, Montréal QC\, H4C 3A1\, 75\, carré Sir Georges-Étienne Cartier\, salle 215\, Montréal\, Québec\, H4C 3A1\, Canada
CATEGORIES:Activité,District 13,District AA87
END:VEVENT
BEGIN:VEVENT
DTSTART;TZID=America/Toronto:20261006T190000
DTEND;TZID=America/Toronto:20261006T210000
DTSTAMP:20260421T124905
CREATED:20251229T223612Z
LAST-MODIFIED:20251231T035928Z
UID:10034319-1791313200-1791320400@www.aa87.org
SUMMARY:Reunión de los GSR del Distrito 87-13
DESCRIPTION:Reunión mensual presencial.
URL:https://www.aa87.org/es/evenement/district-13-2-2-2/2026-10-06/
LOCATION:Centre St-Zotique\, 75\, carré Sir Georges-Étienne Cartier\, salle 215\, Montréal QC\, H4C 3A1\, 75\, carré Sir Georges-Étienne Cartier\, salle 215\, Montréal\, Québec\, H4C 3A1\, Canada
CATEGORIES:Activité,District 13,District AA87
END:VEVENT
BEGIN:VEVENT
DTSTART;TZID=America/Toronto:20261103T190000
DTEND;TZID=America/Toronto:20261103T210000
DTSTAMP:20260421T124905
CREATED:20251229T223612Z
LAST-MODIFIED:20251231T035928Z
UID:10034320-1793732400-1793739600@www.aa87.org
SUMMARY:Reunión de los GSR del Distrito 87-13
DESCRIPTION:Reunión mensual presencial.
URL:https://www.aa87.org/es/evenement/district-13-2-2-2/2026-11-03/
LOCATION:Centre St-Zotique\, 75\, carré Sir Georges-Étienne Cartier\, salle 215\, Montréal QC\, H4C 3A1\, 75\, carré Sir Georges-Étienne Cartier\, salle 215\, Montréal\, Québec\, H4C 3A1\, Canada
CATEGORIES:Activité,District 13,District AA87
END:VEVENT
BEGIN:VEVENT
DTSTART;TZID=America/Toronto:20261105T060000
DTEND;TZID=America/Toronto:20261105T060000
DTSTAMP:20260421T124905
CREATED:20231229T130646Z
LAST-MODIFIED:20240830T173307Z
UID:10012935-1793858400-1793858400@www.aa87.org
SUMMARY:Distrito 13
DESCRIPTION:
URL:https://www.aa87.org/es/evenement/district-13/2026-11-05/
LOCATION:Centre St-Zotique\, 75\, carré Sir Georges-Étienne Cartier\, salle 215\, Montréal QC\, H4C 3A1\, 75\, carré Sir Georges-Étienne Cartier\, salle 215\, Montréal\, Québec\, H4C 3A1\, Canada
CATEGORIES:Activité,District 13,District AA87
END:VEVENT
BEGIN:VEVENT
DTSTART;TZID=America/Toronto:20261201T190000
DTEND;TZID=America/Toronto:20261201T210000
DTSTAMP:20260421T124905
CREATED:20251229T223612Z
LAST-MODIFIED:20251231T035928Z
UID:10034321-1796151600-1796158800@www.aa87.org
SUMMARY:Reunión de los GSR del Distrito 87-13
DESCRIPTION:Reunión mensual presencial.
URL:https://www.aa87.org/es/evenement/district-13-2-2-2/2026-12-01/
LOCATION:Centre St-Zotique\, 75\, carré Sir Georges-Étienne Cartier\, salle 215\, Montréal QC\, H4C 3A1\, 75\, carré Sir Georges-Étienne Cartier\, salle 215\, Montréal\, Québec\, H4C 3A1\, Canada
CATEGORIES:Activité,District 13,District AA87
END:VEVENT
BEGIN:VEVENT
DTSTART;TZID=America/Toronto:20261203T060000
DTEND;TZID=America/Toronto:20261203T060000
DTSTAMP:20260421T124905
CREATED:20231229T130646Z
LAST-MODIFIED:20240830T173307Z
UID:10012936-1796277600-1796277600@www.aa87.org
SUMMARY:Distrito 13
DESCRIPTION:
URL:https://www.aa87.org/es/evenement/district-13/2026-12-03/
LOCATION:Centre St-Zotique\, 75\, carré Sir Georges-Étienne Cartier\, salle 215\, Montréal QC\, H4C 3A1\, 75\, carré Sir Georges-Étienne Cartier\, salle 215\, Montréal\, Québec\, H4C 3A1\, Canada
CATEGORIES:Activité,District 13,District AA87
END:VEVENT
BEGIN:VEVENT
DTSTART;TZID=America/Toronto:20270105T190000
DTEND;TZID=America/Toronto:20270105T210000
DTSTAMP:20260421T124905
CREATED:20251229T223612Z
LAST-MODIFIED:20251231T035928Z
UID:10034322-1799175600-1799182800@www.aa87.org
SUMMARY:Reunión de los GSR del Distrito 87-13
DESCRIPTION:Reunión mensual presencial.
URL:https://www.aa87.org/es/evenement/district-13-2-2-2/2027-01-05/
LOCATION:Centre St-Zotique\, 75\, carré Sir Georges-Étienne Cartier\, salle 215\, Montréal QC\, H4C 3A1\, 75\, carré Sir Georges-Étienne Cartier\, salle 215\, Montréal\, Québec\, H4C 3A1\, Canada
CATEGORIES:Activité,District 13,District AA87
END:VEVENT
BEGIN:VEVENT
DTSTART;TZID=America/Toronto:20270107T060000
DTEND;TZID=America/Toronto:20270107T060000
DTSTAMP:20260421T124905
CREATED:20231229T130646Z
LAST-MODIFIED:20240830T173307Z
UID:10012937-1799301600-1799301600@www.aa87.org
SUMMARY:Distrito 13
DESCRIPTION:
URL:https://www.aa87.org/es/evenement/district-13/2027-01-07/
LOCATION:Centre St-Zotique\, 75\, carré Sir Georges-Étienne Cartier\, salle 215\, Montréal QC\, H4C 3A1\, 75\, carré Sir Georges-Étienne Cartier\, salle 215\, Montréal\, Québec\, H4C 3A1\, Canada
CATEGORIES:Activité,District 13,District AA87
END:VEVENT
BEGIN:VEVENT
DTSTART;TZID=America/Toronto:20270202T190000
DTEND;TZID=America/Toronto:20270202T210000
DTSTAMP:20260421T124905
CREATED:20251229T223612Z
LAST-MODIFIED:20251231T035928Z
UID:10034323-1801594800-1801602000@www.aa87.org
SUMMARY:Reunión de los GSR del Distrito 87-13
DESCRIPTION:Reunión mensual presencial.
URL:https://www.aa87.org/es/evenement/district-13-2-2-2/2027-02-02/
LOCATION:Centre St-Zotique\, 75\, carré Sir Georges-Étienne Cartier\, salle 215\, Montréal QC\, H4C 3A1\, 75\, carré Sir Georges-Étienne Cartier\, salle 215\, Montréal\, Québec\, H4C 3A1\, Canada
CATEGORIES:Activité,District 13,District AA87
END:VEVENT
BEGIN:VEVENT
DTSTART;TZID=America/Toronto:20270204T060000
DTEND;TZID=America/Toronto:20270204T060000
DTSTAMP:20260421T124905
CREATED:20231229T130646Z
LAST-MODIFIED:20240830T173307Z
UID:10012938-1801720800-1801720800@www.aa87.org
SUMMARY:Distrito 13
DESCRIPTION:
URL:https://www.aa87.org/es/evenement/district-13/2027-02-04/
LOCATION:Centre St-Zotique\, 75\, carré Sir Georges-Étienne Cartier\, salle 215\, Montréal QC\, H4C 3A1\, 75\, carré Sir Georges-Étienne Cartier\, salle 215\, Montréal\, Québec\, H4C 3A1\, Canada
CATEGORIES:Activité,District 13,District AA87
END:VEVENT
BEGIN:VEVENT
DTSTART;TZID=America/Toronto:20270302T190000
DTEND;TZID=America/Toronto:20270302T210000
DTSTAMP:20260421T124905
CREATED:20251229T223612Z
LAST-MODIFIED:20251231T035928Z
UID:10034324-1804014000-1804021200@www.aa87.org
SUMMARY:Reunión de los GSR del Distrito 87-13
DESCRIPTION:Reunión mensual presencial.
URL:https://www.aa87.org/es/evenement/district-13-2-2-2/2027-03-02/
LOCATION:Centre St-Zotique\, 75\, carré Sir Georges-Étienne Cartier\, salle 215\, Montréal QC\, H4C 3A1\, 75\, carré Sir Georges-Étienne Cartier\, salle 215\, Montréal\, Québec\, H4C 3A1\, Canada
CATEGORIES:Activité,District 13,District AA87
END:VEVENT
BEGIN:VEVENT
DTSTART;TZID=America/Toronto:20270304T060000
DTEND;TZID=America/Toronto:20270304T060000
DTSTAMP:20260421T124905
CREATED:20231229T130646Z
LAST-MODIFIED:20240830T173307Z
UID:10012939-1804140000-1804140000@www.aa87.org
SUMMARY:Distrito 13
DESCRIPTION:
URL:https://www.aa87.org/es/evenement/district-13/2027-03-04/
LOCATION:Centre St-Zotique\, 75\, carré Sir Georges-Étienne Cartier\, salle 215\, Montréal QC\, H4C 3A1\, 75\, carré Sir Georges-Étienne Cartier\, salle 215\, Montréal\, Québec\, H4C 3A1\, Canada
CATEGORIES:Activité,District 13,District AA87
END:VEVENT
BEGIN:VEVENT
DTSTART;TZID=America/Toronto:20270401T060000
DTEND;TZID=America/Toronto:20270401T060000
DTSTAMP:20260421T124905
CREATED:20231229T130646Z
LAST-MODIFIED:20240830T173307Z
UID:10012940-1806559200-1806559200@www.aa87.org
SUMMARY:Distrito 13
DESCRIPTION:
URL:https://www.aa87.org/es/evenement/district-13/2027-04-01/
LOCATION:Centre St-Zotique\, 75\, carré Sir Georges-Étienne Cartier\, salle 215\, Montréal QC\, H4C 3A1\, 75\, carré Sir Georges-Étienne Cartier\, salle 215\, Montréal\, Québec\, H4C 3A1\, Canada
CATEGORIES:Activité,District 13,District AA87
END:VEVENT
BEGIN:VEVENT
DTSTART;TZID=America/Toronto:20270406T190000
DTEND;TZID=America/Toronto:20270406T210000
DTSTAMP:20260421T124905
CREATED:20251229T223612Z
LAST-MODIFIED:20251231T035928Z
UID:10034325-1807038000-1807045200@www.aa87.org
SUMMARY:Reunión de los GSR del Distrito 87-13
DESCRIPTION:Reunión mensual presencial.
URL:https://www.aa87.org/es/evenement/district-13-2-2-2/2027-04-06/
LOCATION:Centre St-Zotique\, 75\, carré Sir Georges-Étienne Cartier\, salle 215\, Montréal QC\, H4C 3A1\, 75\, carré Sir Georges-Étienne Cartier\, salle 215\, Montréal\, Québec\, H4C 3A1\, Canada
CATEGORIES:Activité,District 13,District AA87
END:VEVENT
BEGIN:VEVENT
DTSTART;TZID=America/Toronto:20270504T190000
DTEND;TZID=America/Toronto:20270504T210000
DTSTAMP:20260421T124905
CREATED:20251229T223612Z
LAST-MODIFIED:20251231T035928Z
UID:10034326-1809457200-1809464400@www.aa87.org
SUMMARY:Reunión de los GSR del Distrito 87-13
DESCRIPTION:Reunión mensual presencial.
URL:https://www.aa87.org/es/evenement/district-13-2-2-2/2027-05-04/
LOCATION:Centre St-Zotique\, 75\, carré Sir Georges-Étienne Cartier\, salle 215\, Montréal QC\, H4C 3A1\, 75\, carré Sir Georges-Étienne Cartier\, salle 215\, Montréal\, Québec\, H4C 3A1\, Canada
CATEGORIES:Activité,District 13,District AA87
END:VEVENT
BEGIN:VEVENT
DTSTART;TZID=America/Toronto:20270506T060000
DTEND;TZID=America/Toronto:20270506T060000
DTSTAMP:20260421T124905
CREATED:20231229T130646Z
LAST-MODIFIED:20240830T173307Z
UID:10012941-1809583200-1809583200@www.aa87.org
SUMMARY:Distrito 13
DESCRIPTION:
URL:https://www.aa87.org/es/evenement/district-13/2027-05-06/
LOCATION:Centre St-Zotique\, 75\, carré Sir Georges-Étienne Cartier\, salle 215\, Montréal QC\, H4C 3A1\, 75\, carré Sir Georges-Étienne Cartier\, salle 215\, Montréal\, Québec\, H4C 3A1\, Canada
CATEGORIES:Activité,District 13,District AA87
END:VEVENT
BEGIN:VEVENT
DTSTART;TZID=America/Toronto:20270601T190000
DTEND;TZID=America/Toronto:20270601T210000
DTSTAMP:20260421T124905
CREATED:20251229T223612Z
LAST-MODIFIED:20251231T035928Z
UID:10034327-1811876400-1811883600@www.aa87.org
SUMMARY:Reunión de los GSR del Distrito 87-13
DESCRIPTION:Reunión mensual presencial.
URL:https://www.aa87.org/es/evenement/district-13-2-2-2/2027-06-01/
LOCATION:Centre St-Zotique\, 75\, carré Sir Georges-Étienne Cartier\, salle 215\, Montréal QC\, H4C 3A1\, 75\, carré Sir Georges-Étienne Cartier\, salle 215\, Montréal\, Québec\, H4C 3A1\, Canada
CATEGORIES:Activité,District 13,District AA87
END:VEVENT
BEGIN:VEVENT
DTSTART;TZID=America/Toronto:20270603T060000
DTEND;TZID=America/Toronto:20270603T060000
DTSTAMP:20260421T124905
CREATED:20231229T130646Z
LAST-MODIFIED:20240830T173307Z
UID:10012942-1812002400-1812002400@www.aa87.org
SUMMARY:Distrito 13
DESCRIPTION:
URL:https://www.aa87.org/es/evenement/district-13/2027-06-03/
LOCATION:Centre St-Zotique\, 75\, carré Sir Georges-Étienne Cartier\, salle 215\, Montréal QC\, H4C 3A1\, 75\, carré Sir Georges-Étienne Cartier\, salle 215\, Montréal\, Québec\, H4C 3A1\, Canada
CATEGORIES:Activité,District 13,District AA87
END:VEVENT
BEGIN:VEVENT
DTSTART;TZID=America/Toronto:20270701T060000
DTEND;TZID=America/Toronto:20270701T060000
DTSTAMP:20260421T124905
CREATED:20231229T130646Z
LAST-MODIFIED:20240830T173307Z
UID:10012943-1814421600-1814421600@www.aa87.org
SUMMARY:Distrito 13
DESCRIPTION:
URL:https://www.aa87.org/es/evenement/district-13/2027-07-01/
LOCATION:Centre St-Zotique\, 75\, carré Sir Georges-Étienne Cartier\, salle 215\, Montréal QC\, H4C 3A1\, 75\, carré Sir Georges-Étienne Cartier\, salle 215\, Montréal\, Québec\, H4C 3A1\, Canada
CATEGORIES:Activité,District 13,District AA87
END:VEVENT
BEGIN:VEVENT
DTSTART;TZID=America/Toronto:20270706T190000
DTEND;TZID=America/Toronto:20270706T210000
DTSTAMP:20260421T124905
CREATED:20251229T223612Z
LAST-MODIFIED:20251231T035928Z
UID:10034328-1814900400-1814907600@www.aa87.org
SUMMARY:Reunión de los GSR del Distrito 87-13
DESCRIPTION:Reunión mensual presencial.
URL:https://www.aa87.org/es/evenement/district-13-2-2-2/2027-07-06/
LOCATION:Centre St-Zotique\, 75\, carré Sir Georges-Étienne Cartier\, salle 215\, Montréal QC\, H4C 3A1\, 75\, carré Sir Georges-Étienne Cartier\, salle 215\, Montréal\, Québec\, H4C 3A1\, Canada
CATEGORIES:Activité,District 13,District AA87
END:VEVENT
BEGIN:VEVENT
DTSTART;TZID=America/Toronto:20270803T190000
DTEND;TZID=America/Toronto:20270803T210000
DTSTAMP:20260421T124905
CREATED:20251229T223612Z
LAST-MODIFIED:20251231T035928Z
UID:10034329-1817319600-1817326800@www.aa87.org
SUMMARY:Reunión de los GSR del Distrito 87-13
DESCRIPTION:Reunión mensual presencial.
URL:https://www.aa87.org/es/evenement/district-13-2-2-2/2027-08-03/
LOCATION:Centre St-Zotique\, 75\, carré Sir Georges-Étienne Cartier\, salle 215\, Montréal QC\, H4C 3A1\, 75\, carré Sir Georges-Étienne Cartier\, salle 215\, Montréal\, Québec\, H4C 3A1\, Canada
CATEGORIES:Activité,District 13,District AA87
END:VEVENT
BEGIN:VEVENT
DTSTART;TZID=America/Toronto:20270805T060000
DTEND;TZID=America/Toronto:20270805T060000
DTSTAMP:20260421T124905
CREATED:20231229T130646Z
LAST-MODIFIED:20240830T173307Z
UID:10012944-1817445600-1817445600@www.aa87.org
SUMMARY:Distrito 13
DESCRIPTION:
URL:https://www.aa87.org/es/evenement/district-13/2027-08-05/
LOCATION:Centre St-Zotique\, 75\, carré Sir Georges-Étienne Cartier\, salle 215\, Montréal QC\, H4C 3A1\, 75\, carré Sir Georges-Étienne Cartier\, salle 215\, Montréal\, Québec\, H4C 3A1\, Canada
CATEGORIES:Activité,District 13,District AA87
END:VEVENT
END:VCALENDAR