BEGIN:VCALENDAR
VERSION:2.0
PRODID:-//AA Región 87 - ECPv6.15.17//NONSGML v1.0//EN
CALSCALE:GREGORIAN
METHOD:PUBLISH
X-WR-CALNAME:AA Región 87
X-ORIGINAL-URL:https://www.aa87.org/es/
X-WR-CALDESC:Eventos para AA Región 87
REFRESH-INTERVAL;VALUE=DURATION:PT1H
X-Robots-Tag:noindex
X-PUBLISHED-TTL:PT1H
BEGIN:VTIMEZONE
TZID:America/Toronto
BEGIN:DAYLIGHT
TZOFFSETFROM:-0500
TZOFFSETTO:-0400
TZNAME:EDT
DTSTART:20250309T070000
END:DAYLIGHT
BEGIN:STANDARD
TZOFFSETFROM:-0400
TZOFFSETTO:-0500
TZNAME:EST
DTSTART:20251102T060000
END:STANDARD
BEGIN:DAYLIGHT
TZOFFSETFROM:-0500
TZOFFSETTO:-0400
TZNAME:EDT
DTSTART:20260308T070000
END:DAYLIGHT
BEGIN:STANDARD
TZOFFSETFROM:-0400
TZOFFSETTO:-0500
TZNAME:EST
DTSTART:20261101T060000
END:STANDARD
BEGIN:DAYLIGHT
TZOFFSETFROM:-0500
TZOFFSETTO:-0400
TZNAME:EDT
DTSTART:20270314T070000
END:DAYLIGHT
BEGIN:STANDARD
TZOFFSETFROM:-0400
TZOFFSETTO:-0500
TZNAME:EST
DTSTART:20271107T060000
END:STANDARD
BEGIN:DAYLIGHT
TZOFFSETFROM:-0500
TZOFFSETTO:-0400
TZNAME:EDT
DTSTART:20280312T070000
END:DAYLIGHT
BEGIN:STANDARD
TZOFFSETFROM:-0400
TZOFFSETTO:-0500
TZNAME:EST
DTSTART:20281105T060000
END:STANDARD
END:VTIMEZONE
BEGIN:VEVENT
DTSTART;TZID=America/Toronto:20260504T193000
DTEND;TZID=America/Toronto:20260504T213000
DTSTAMP:20260421T153039
CREATED:20231229T174008Z
LAST-MODIFIED:20231229T174055Z
UID:10011606-1777923000-1777930200@www.aa87.org
SUMMARY:Distrito 26
DESCRIPTION:
URL:https://www.aa87.org/es/evenement/district-26-2/2026-05-04/
LOCATION:École Les Trois Saisons (entrée par l’arrière) 570\, boul. de Mortagne\, Boucherville QC\, J4B 5E4\, 570\, boul. de Mortagne\, Boucherville\, Québec\, J4B 5E4\, Canada
CATEGORIES:Activité,District 26,District AA87
ORGANIZER;CN="District 26%2C Longueuil%2C Contrec%C5%93ur":MAILTO:district26@aa87.org
END:VEVENT
BEGIN:VEVENT
DTSTART;TZID=America/Toronto:20260504T193000
DTEND;TZID=America/Toronto:20260504T213000
DTSTAMP:20260421T153039
CREATED:20241217T223859Z
LAST-MODIFIED:20251230T165415Z
UID:10035873-1777923000-1777930200@www.aa87.org
SUMMARY:Reunión de los GSR del Distrito 87-26
DESCRIPTION:Reunión mensual presencial.
URL:https://www.aa87.org/es/evenement/district-26-2-2/2026-05-04/
LOCATION:École Les Trois Saisons (entrée par l’arrière) 570\, boul. de Mortagne\, Boucherville QC\, J4B 5E4\, 570\, boul. de Mortagne\, Boucherville\, Québec\, J4B 5E4\, Canada
CATEGORIES:Activité,District 26,District AA87
ORGANIZER;CN="District 26%2C Longueuil%2C Contrec%C5%93ur":MAILTO:district26@aa87.org
END:VEVENT
BEGIN:VEVENT
DTSTART;TZID=America/Toronto:20260601T193000
DTEND;TZID=America/Toronto:20260601T213000
DTSTAMP:20260421T153039
CREATED:20231229T174008Z
LAST-MODIFIED:20231229T174055Z
UID:10011607-1780342200-1780349400@www.aa87.org
SUMMARY:Distrito 26
DESCRIPTION:
URL:https://www.aa87.org/es/evenement/district-26-2/2026-06-01/
LOCATION:École Les Trois Saisons (entrée par l’arrière) 570\, boul. de Mortagne\, Boucherville QC\, J4B 5E4\, 570\, boul. de Mortagne\, Boucherville\, Québec\, J4B 5E4\, Canada
CATEGORIES:Activité,District 26,District AA87
ORGANIZER;CN="District 26%2C Longueuil%2C Contrec%C5%93ur":MAILTO:district26@aa87.org
END:VEVENT
BEGIN:VEVENT
DTSTART;TZID=America/Toronto:20260601T193000
DTEND;TZID=America/Toronto:20260601T213000
DTSTAMP:20260421T153039
CREATED:20241217T223859Z
LAST-MODIFIED:20251230T165415Z
UID:10035874-1780342200-1780349400@www.aa87.org
SUMMARY:Reunión de los GSR del Distrito 87-26
DESCRIPTION:Reunión mensual presencial.
URL:https://www.aa87.org/es/evenement/district-26-2-2/2026-06-01/
LOCATION:École Les Trois Saisons (entrée par l’arrière) 570\, boul. de Mortagne\, Boucherville QC\, J4B 5E4\, 570\, boul. de Mortagne\, Boucherville\, Québec\, J4B 5E4\, Canada
CATEGORIES:Activité,District 26,District AA87
ORGANIZER;CN="District 26%2C Longueuil%2C Contrec%C5%93ur":MAILTO:district26@aa87.org
END:VEVENT
BEGIN:VEVENT
DTSTART;TZID=America/Toronto:20260706T193000
DTEND;TZID=America/Toronto:20260706T213000
DTSTAMP:20260421T153039
CREATED:20231229T174008Z
LAST-MODIFIED:20231229T174055Z
UID:10011608-1783366200-1783373400@www.aa87.org
SUMMARY:Distrito 26
DESCRIPTION:
URL:https://www.aa87.org/es/evenement/district-26-2/2026-07-06/
LOCATION:École Les Trois Saisons (entrée par l’arrière) 570\, boul. de Mortagne\, Boucherville QC\, J4B 5E4\, 570\, boul. de Mortagne\, Boucherville\, Québec\, J4B 5E4\, Canada
CATEGORIES:Activité,District 26,District AA87
ORGANIZER;CN="District 26%2C Longueuil%2C Contrec%C5%93ur":MAILTO:district26@aa87.org
END:VEVENT
BEGIN:VEVENT
DTSTART;TZID=America/Toronto:20260803T193000
DTEND;TZID=America/Toronto:20260803T213000
DTSTAMP:20260421T153039
CREATED:20231229T174008Z
LAST-MODIFIED:20231229T174055Z
UID:10011609-1785785400-1785792600@www.aa87.org
SUMMARY:Distrito 26
DESCRIPTION:
URL:https://www.aa87.org/es/evenement/district-26-2/2026-08-03/
LOCATION:École Les Trois Saisons (entrée par l’arrière) 570\, boul. de Mortagne\, Boucherville QC\, J4B 5E4\, 570\, boul. de Mortagne\, Boucherville\, Québec\, J4B 5E4\, Canada
CATEGORIES:Activité,District 26,District AA87
ORGANIZER;CN="District 26%2C Longueuil%2C Contrec%C5%93ur":MAILTO:district26@aa87.org
END:VEVENT
BEGIN:VEVENT
DTSTART;TZID=America/Toronto:20260907T193000
DTEND;TZID=America/Toronto:20260907T213000
DTSTAMP:20260421T153039
CREATED:20231229T174008Z
LAST-MODIFIED:20231229T174055Z
UID:10011610-1788809400-1788816600@www.aa87.org
SUMMARY:Distrito 26
DESCRIPTION:
URL:https://www.aa87.org/es/evenement/district-26-2/2026-09-07/
LOCATION:École Les Trois Saisons (entrée par l’arrière) 570\, boul. de Mortagne\, Boucherville QC\, J4B 5E4\, 570\, boul. de Mortagne\, Boucherville\, Québec\, J4B 5E4\, Canada
CATEGORIES:Activité,District 26,District AA87
ORGANIZER;CN="District 26%2C Longueuil%2C Contrec%C5%93ur":MAILTO:district26@aa87.org
END:VEVENT
BEGIN:VEVENT
DTSTART;TZID=America/Toronto:20260907T193000
DTEND;TZID=America/Toronto:20260907T213000
DTSTAMP:20260421T153039
CREATED:20241217T223859Z
LAST-MODIFIED:20251230T165415Z
UID:10035875-1788809400-1788816600@www.aa87.org
SUMMARY:Reunión de los GSR del Distrito 87-26
DESCRIPTION:Reunión mensual presencial.
URL:https://www.aa87.org/es/evenement/district-26-2-2/2026-09-07/
LOCATION:École Les Trois Saisons (entrée par l’arrière) 570\, boul. de Mortagne\, Boucherville QC\, J4B 5E4\, 570\, boul. de Mortagne\, Boucherville\, Québec\, J4B 5E4\, Canada
CATEGORIES:Activité,District 26,District AA87
ORGANIZER;CN="District 26%2C Longueuil%2C Contrec%C5%93ur":MAILTO:district26@aa87.org
END:VEVENT
BEGIN:VEVENT
DTSTART;TZID=America/Toronto:20261005T193000
DTEND;TZID=America/Toronto:20261005T213000
DTSTAMP:20260421T153039
CREATED:20231229T174008Z
LAST-MODIFIED:20231229T174055Z
UID:10011611-1791228600-1791235800@www.aa87.org
SUMMARY:Distrito 26
DESCRIPTION:
URL:https://www.aa87.org/es/evenement/district-26-2/2026-10-05/
LOCATION:École Les Trois Saisons (entrée par l’arrière) 570\, boul. de Mortagne\, Boucherville QC\, J4B 5E4\, 570\, boul. de Mortagne\, Boucherville\, Québec\, J4B 5E4\, Canada
CATEGORIES:Activité,District 26,District AA87
ORGANIZER;CN="District 26%2C Longueuil%2C Contrec%C5%93ur":MAILTO:district26@aa87.org
END:VEVENT
BEGIN:VEVENT
DTSTART;TZID=America/Toronto:20261005T193000
DTEND;TZID=America/Toronto:20261005T213000
DTSTAMP:20260421T153039
CREATED:20241217T223859Z
LAST-MODIFIED:20251230T165415Z
UID:10035876-1791228600-1791235800@www.aa87.org
SUMMARY:Reunión de los GSR del Distrito 87-26
DESCRIPTION:Reunión mensual presencial.
URL:https://www.aa87.org/es/evenement/district-26-2-2/2026-10-05/
LOCATION:École Les Trois Saisons (entrée par l’arrière) 570\, boul. de Mortagne\, Boucherville QC\, J4B 5E4\, 570\, boul. de Mortagne\, Boucherville\, Québec\, J4B 5E4\, Canada
CATEGORIES:Activité,District 26,District AA87
ORGANIZER;CN="District 26%2C Longueuil%2C Contrec%C5%93ur":MAILTO:district26@aa87.org
END:VEVENT
BEGIN:VEVENT
DTSTART;TZID=America/Toronto:20261102T193000
DTEND;TZID=America/Toronto:20261102T213000
DTSTAMP:20260421T153039
CREATED:20231229T174008Z
LAST-MODIFIED:20231229T174055Z
UID:10011612-1793647800-1793655000@www.aa87.org
SUMMARY:Distrito 26
DESCRIPTION:
URL:https://www.aa87.org/es/evenement/district-26-2/2026-11-02/
LOCATION:École Les Trois Saisons (entrée par l’arrière) 570\, boul. de Mortagne\, Boucherville QC\, J4B 5E4\, 570\, boul. de Mortagne\, Boucherville\, Québec\, J4B 5E4\, Canada
CATEGORIES:Activité,District 26,District AA87
ORGANIZER;CN="District 26%2C Longueuil%2C Contrec%C5%93ur":MAILTO:district26@aa87.org
END:VEVENT
BEGIN:VEVENT
DTSTART;TZID=America/Toronto:20261102T193000
DTEND;TZID=America/Toronto:20261102T213000
DTSTAMP:20260421T153039
CREATED:20241217T223859Z
LAST-MODIFIED:20251230T165415Z
UID:10035877-1793647800-1793655000@www.aa87.org
SUMMARY:Reunión de los GSR del Distrito 87-26
DESCRIPTION:Reunión mensual presencial.
URL:https://www.aa87.org/es/evenement/district-26-2-2/2026-11-02/
LOCATION:École Les Trois Saisons (entrée par l’arrière) 570\, boul. de Mortagne\, Boucherville QC\, J4B 5E4\, 570\, boul. de Mortagne\, Boucherville\, Québec\, J4B 5E4\, Canada
CATEGORIES:Activité,District 26,District AA87
ORGANIZER;CN="District 26%2C Longueuil%2C Contrec%C5%93ur":MAILTO:district26@aa87.org
END:VEVENT
BEGIN:VEVENT
DTSTART;TZID=America/Toronto:20261207T193000
DTEND;TZID=America/Toronto:20261207T213000
DTSTAMP:20260421T153039
CREATED:20231229T174008Z
LAST-MODIFIED:20231229T174055Z
UID:10011613-1796671800-1796679000@www.aa87.org
SUMMARY:Distrito 26
DESCRIPTION:
URL:https://www.aa87.org/es/evenement/district-26-2/2026-12-07/
LOCATION:École Les Trois Saisons (entrée par l’arrière) 570\, boul. de Mortagne\, Boucherville QC\, J4B 5E4\, 570\, boul. de Mortagne\, Boucherville\, Québec\, J4B 5E4\, Canada
CATEGORIES:Activité,District 26,District AA87
ORGANIZER;CN="District 26%2C Longueuil%2C Contrec%C5%93ur":MAILTO:district26@aa87.org
END:VEVENT
BEGIN:VEVENT
DTSTART;TZID=America/Toronto:20261207T193000
DTEND;TZID=America/Toronto:20261207T213000
DTSTAMP:20260421T153039
CREATED:20241217T223859Z
LAST-MODIFIED:20251230T165415Z
UID:10035878-1796671800-1796679000@www.aa87.org
SUMMARY:Reunión de los GSR del Distrito 87-26
DESCRIPTION:Reunión mensual presencial.
URL:https://www.aa87.org/es/evenement/district-26-2-2/2026-12-07/
LOCATION:École Les Trois Saisons (entrée par l’arrière) 570\, boul. de Mortagne\, Boucherville QC\, J4B 5E4\, 570\, boul. de Mortagne\, Boucherville\, Québec\, J4B 5E4\, Canada
CATEGORIES:Activité,District 26,District AA87
ORGANIZER;CN="District 26%2C Longueuil%2C Contrec%C5%93ur":MAILTO:district26@aa87.org
END:VEVENT
BEGIN:VEVENT
DTSTART;TZID=America/Toronto:20270104T193000
DTEND;TZID=America/Toronto:20270104T213000
DTSTAMP:20260421T153039
CREATED:20231229T174008Z
LAST-MODIFIED:20231229T174055Z
UID:10011614-1799091000-1799098200@www.aa87.org
SUMMARY:Distrito 26
DESCRIPTION:
URL:https://www.aa87.org/es/evenement/district-26-2/2027-01-04/
LOCATION:École Les Trois Saisons (entrée par l’arrière) 570\, boul. de Mortagne\, Boucherville QC\, J4B 5E4\, 570\, boul. de Mortagne\, Boucherville\, Québec\, J4B 5E4\, Canada
CATEGORIES:Activité,District 26,District AA87
ORGANIZER;CN="District 26%2C Longueuil%2C Contrec%C5%93ur":MAILTO:district26@aa87.org
END:VEVENT
BEGIN:VEVENT
DTSTART;TZID=America/Toronto:20270104T193000
DTEND;TZID=America/Toronto:20270104T213000
DTSTAMP:20260421T153039
CREATED:20241217T223859Z
LAST-MODIFIED:20251230T165415Z
UID:10035879-1799091000-1799098200@www.aa87.org
SUMMARY:Reunión de los GSR del Distrito 87-26
DESCRIPTION:Reunión mensual presencial.
URL:https://www.aa87.org/es/evenement/district-26-2-2/2027-01-04/
LOCATION:École Les Trois Saisons (entrée par l’arrière) 570\, boul. de Mortagne\, Boucherville QC\, J4B 5E4\, 570\, boul. de Mortagne\, Boucherville\, Québec\, J4B 5E4\, Canada
CATEGORIES:Activité,District 26,District AA87
ORGANIZER;CN="District 26%2C Longueuil%2C Contrec%C5%93ur":MAILTO:district26@aa87.org
END:VEVENT
BEGIN:VEVENT
DTSTART;TZID=America/Toronto:20270201T193000
DTEND;TZID=America/Toronto:20270201T213000
DTSTAMP:20260421T153039
CREATED:20231229T174008Z
LAST-MODIFIED:20231229T174055Z
UID:10011615-1801510200-1801517400@www.aa87.org
SUMMARY:Distrito 26
DESCRIPTION:
URL:https://www.aa87.org/es/evenement/district-26-2/2027-02-01/
LOCATION:École Les Trois Saisons (entrée par l’arrière) 570\, boul. de Mortagne\, Boucherville QC\, J4B 5E4\, 570\, boul. de Mortagne\, Boucherville\, Québec\, J4B 5E4\, Canada
CATEGORIES:Activité,District 26,District AA87
ORGANIZER;CN="District 26%2C Longueuil%2C Contrec%C5%93ur":MAILTO:district26@aa87.org
END:VEVENT
BEGIN:VEVENT
DTSTART;TZID=America/Toronto:20270201T193000
DTEND;TZID=America/Toronto:20270201T213000
DTSTAMP:20260421T153039
CREATED:20241217T223859Z
LAST-MODIFIED:20251230T165415Z
UID:10035880-1801510200-1801517400@www.aa87.org
SUMMARY:Reunión de los GSR del Distrito 87-26
DESCRIPTION:Reunión mensual presencial.
URL:https://www.aa87.org/es/evenement/district-26-2-2/2027-02-01/
LOCATION:École Les Trois Saisons (entrée par l’arrière) 570\, boul. de Mortagne\, Boucherville QC\, J4B 5E4\, 570\, boul. de Mortagne\, Boucherville\, Québec\, J4B 5E4\, Canada
CATEGORIES:Activité,District 26,District AA87
ORGANIZER;CN="District 26%2C Longueuil%2C Contrec%C5%93ur":MAILTO:district26@aa87.org
END:VEVENT
BEGIN:VEVENT
DTSTART;TZID=America/Toronto:20270301T193000
DTEND;TZID=America/Toronto:20270301T213000
DTSTAMP:20260421T153039
CREATED:20231229T174008Z
LAST-MODIFIED:20231229T174055Z
UID:10011616-1803929400-1803936600@www.aa87.org
SUMMARY:Distrito 26
DESCRIPTION:
URL:https://www.aa87.org/es/evenement/district-26-2/2027-03-01/
LOCATION:École Les Trois Saisons (entrée par l’arrière) 570\, boul. de Mortagne\, Boucherville QC\, J4B 5E4\, 570\, boul. de Mortagne\, Boucherville\, Québec\, J4B 5E4\, Canada
CATEGORIES:Activité,District 26,District AA87
ORGANIZER;CN="District 26%2C Longueuil%2C Contrec%C5%93ur":MAILTO:district26@aa87.org
END:VEVENT
BEGIN:VEVENT
DTSTART;TZID=America/Toronto:20270301T193000
DTEND;TZID=America/Toronto:20270301T213000
DTSTAMP:20260421T153039
CREATED:20241217T223859Z
LAST-MODIFIED:20251230T165415Z
UID:10035881-1803929400-1803936600@www.aa87.org
SUMMARY:Reunión de los GSR del Distrito 87-26
DESCRIPTION:Reunión mensual presencial.
URL:https://www.aa87.org/es/evenement/district-26-2-2/2027-03-01/
LOCATION:École Les Trois Saisons (entrée par l’arrière) 570\, boul. de Mortagne\, Boucherville QC\, J4B 5E4\, 570\, boul. de Mortagne\, Boucherville\, Québec\, J4B 5E4\, Canada
CATEGORIES:Activité,District 26,District AA87
ORGANIZER;CN="District 26%2C Longueuil%2C Contrec%C5%93ur":MAILTO:district26@aa87.org
END:VEVENT
BEGIN:VEVENT
DTSTART;TZID=America/Toronto:20270405T193000
DTEND;TZID=America/Toronto:20270405T213000
DTSTAMP:20260421T153039
CREATED:20231229T174008Z
LAST-MODIFIED:20231229T174055Z
UID:10011617-1806953400-1806960600@www.aa87.org
SUMMARY:Distrito 26
DESCRIPTION:
URL:https://www.aa87.org/es/evenement/district-26-2/2027-04-05/
LOCATION:École Les Trois Saisons (entrée par l’arrière) 570\, boul. de Mortagne\, Boucherville QC\, J4B 5E4\, 570\, boul. de Mortagne\, Boucherville\, Québec\, J4B 5E4\, Canada
CATEGORIES:Activité,District 26,District AA87
ORGANIZER;CN="District 26%2C Longueuil%2C Contrec%C5%93ur":MAILTO:district26@aa87.org
END:VEVENT
BEGIN:VEVENT
DTSTART;TZID=America/Toronto:20270405T193000
DTEND;TZID=America/Toronto:20270405T213000
DTSTAMP:20260421T153039
CREATED:20241217T223859Z
LAST-MODIFIED:20251230T165415Z
UID:10035882-1806953400-1806960600@www.aa87.org
SUMMARY:Reunión de los GSR del Distrito 87-26
DESCRIPTION:Reunión mensual presencial.
URL:https://www.aa87.org/es/evenement/district-26-2-2/2027-04-05/
LOCATION:École Les Trois Saisons (entrée par l’arrière) 570\, boul. de Mortagne\, Boucherville QC\, J4B 5E4\, 570\, boul. de Mortagne\, Boucherville\, Québec\, J4B 5E4\, Canada
CATEGORIES:Activité,District 26,District AA87
ORGANIZER;CN="District 26%2C Longueuil%2C Contrec%C5%93ur":MAILTO:district26@aa87.org
END:VEVENT
BEGIN:VEVENT
DTSTART;TZID=America/Toronto:20270503T193000
DTEND;TZID=America/Toronto:20270503T213000
DTSTAMP:20260421T153039
CREATED:20231229T174008Z
LAST-MODIFIED:20231229T174055Z
UID:10011618-1809372600-1809379800@www.aa87.org
SUMMARY:Distrito 26
DESCRIPTION:
URL:https://www.aa87.org/es/evenement/district-26-2/2027-05-03/
LOCATION:École Les Trois Saisons (entrée par l’arrière) 570\, boul. de Mortagne\, Boucherville QC\, J4B 5E4\, 570\, boul. de Mortagne\, Boucherville\, Québec\, J4B 5E4\, Canada
CATEGORIES:Activité,District 26,District AA87
ORGANIZER;CN="District 26%2C Longueuil%2C Contrec%C5%93ur":MAILTO:district26@aa87.org
END:VEVENT
BEGIN:VEVENT
DTSTART;TZID=America/Toronto:20270503T193000
DTEND;TZID=America/Toronto:20270503T213000
DTSTAMP:20260421T153039
CREATED:20241217T223859Z
LAST-MODIFIED:20251230T165415Z
UID:10035883-1809372600-1809379800@www.aa87.org
SUMMARY:Reunión de los GSR del Distrito 87-26
DESCRIPTION:Reunión mensual presencial.
URL:https://www.aa87.org/es/evenement/district-26-2-2/2027-05-03/
LOCATION:École Les Trois Saisons (entrée par l’arrière) 570\, boul. de Mortagne\, Boucherville QC\, J4B 5E4\, 570\, boul. de Mortagne\, Boucherville\, Québec\, J4B 5E4\, Canada
CATEGORIES:Activité,District 26,District AA87
ORGANIZER;CN="District 26%2C Longueuil%2C Contrec%C5%93ur":MAILTO:district26@aa87.org
END:VEVENT
BEGIN:VEVENT
DTSTART;TZID=America/Toronto:20270607T193000
DTEND;TZID=America/Toronto:20270607T213000
DTSTAMP:20260421T153039
CREATED:20231229T174008Z
LAST-MODIFIED:20231229T174055Z
UID:10011619-1812396600-1812403800@www.aa87.org
SUMMARY:Distrito 26
DESCRIPTION:
URL:https://www.aa87.org/es/evenement/district-26-2/2027-06-07/
LOCATION:École Les Trois Saisons (entrée par l’arrière) 570\, boul. de Mortagne\, Boucherville QC\, J4B 5E4\, 570\, boul. de Mortagne\, Boucherville\, Québec\, J4B 5E4\, Canada
CATEGORIES:Activité,District 26,District AA87
ORGANIZER;CN="District 26%2C Longueuil%2C Contrec%C5%93ur":MAILTO:district26@aa87.org
END:VEVENT
BEGIN:VEVENT
DTSTART;TZID=America/Toronto:20270607T193000
DTEND;TZID=America/Toronto:20270607T213000
DTSTAMP:20260421T153039
CREATED:20241217T223859Z
LAST-MODIFIED:20251230T165415Z
UID:10035884-1812396600-1812403800@www.aa87.org
SUMMARY:Reunión de los GSR del Distrito 87-26
DESCRIPTION:Reunión mensual presencial.
URL:https://www.aa87.org/es/evenement/district-26-2-2/2027-06-07/
LOCATION:École Les Trois Saisons (entrée par l’arrière) 570\, boul. de Mortagne\, Boucherville QC\, J4B 5E4\, 570\, boul. de Mortagne\, Boucherville\, Québec\, J4B 5E4\, Canada
CATEGORIES:Activité,District 26,District AA87
ORGANIZER;CN="District 26%2C Longueuil%2C Contrec%C5%93ur":MAILTO:district26@aa87.org
END:VEVENT
BEGIN:VEVENT
DTSTART;TZID=America/Toronto:20270705T193000
DTEND;TZID=America/Toronto:20270705T213000
DTSTAMP:20260421T153039
CREATED:20231229T174008Z
LAST-MODIFIED:20231229T174055Z
UID:10011620-1814815800-1814823000@www.aa87.org
SUMMARY:Distrito 26
DESCRIPTION:
URL:https://www.aa87.org/es/evenement/district-26-2/2027-07-05/
LOCATION:École Les Trois Saisons (entrée par l’arrière) 570\, boul. de Mortagne\, Boucherville QC\, J4B 5E4\, 570\, boul. de Mortagne\, Boucherville\, Québec\, J4B 5E4\, Canada
CATEGORIES:Activité,District 26,District AA87
ORGANIZER;CN="District 26%2C Longueuil%2C Contrec%C5%93ur":MAILTO:district26@aa87.org
END:VEVENT
BEGIN:VEVENT
DTSTART;TZID=America/Toronto:20270705T193000
DTEND;TZID=America/Toronto:20270705T213000
DTSTAMP:20260421T153039
CREATED:20241217T223859Z
LAST-MODIFIED:20251230T165415Z
UID:10035885-1814815800-1814823000@www.aa87.org
SUMMARY:Reunión de los GSR del Distrito 87-26
DESCRIPTION:Reunión mensual presencial.
URL:https://www.aa87.org/es/evenement/district-26-2-2/2027-07-05/
LOCATION:École Les Trois Saisons (entrée par l’arrière) 570\, boul. de Mortagne\, Boucherville QC\, J4B 5E4\, 570\, boul. de Mortagne\, Boucherville\, Québec\, J4B 5E4\, Canada
CATEGORIES:Activité,District 26,District AA87
ORGANIZER;CN="District 26%2C Longueuil%2C Contrec%C5%93ur":MAILTO:district26@aa87.org
END:VEVENT
BEGIN:VEVENT
DTSTART;TZID=America/Toronto:20270802T193000
DTEND;TZID=America/Toronto:20270802T213000
DTSTAMP:20260421T153039
CREATED:20231229T174008Z
LAST-MODIFIED:20231229T174055Z
UID:10011621-1817235000-1817242200@www.aa87.org
SUMMARY:Distrito 26
DESCRIPTION:
URL:https://www.aa87.org/es/evenement/district-26-2/2027-08-02/
LOCATION:École Les Trois Saisons (entrée par l’arrière) 570\, boul. de Mortagne\, Boucherville QC\, J4B 5E4\, 570\, boul. de Mortagne\, Boucherville\, Québec\, J4B 5E4\, Canada
CATEGORIES:Activité,District 26,District AA87
ORGANIZER;CN="District 26%2C Longueuil%2C Contrec%C5%93ur":MAILTO:district26@aa87.org
END:VEVENT
BEGIN:VEVENT
DTSTART;TZID=America/Toronto:20270802T193000
DTEND;TZID=America/Toronto:20270802T213000
DTSTAMP:20260421T153039
CREATED:20241217T223859Z
LAST-MODIFIED:20251230T165415Z
UID:10035886-1817235000-1817242200@www.aa87.org
SUMMARY:Reunión de los GSR del Distrito 87-26
DESCRIPTION:Reunión mensual presencial.
URL:https://www.aa87.org/es/evenement/district-26-2-2/2027-08-02/
LOCATION:École Les Trois Saisons (entrée par l’arrière) 570\, boul. de Mortagne\, Boucherville QC\, J4B 5E4\, 570\, boul. de Mortagne\, Boucherville\, Québec\, J4B 5E4\, Canada
CATEGORIES:Activité,District 26,District AA87
ORGANIZER;CN="District 26%2C Longueuil%2C Contrec%C5%93ur":MAILTO:district26@aa87.org
END:VEVENT
END:VCALENDAR