BEGIN:VCALENDAR
VERSION:2.0
PRODID:-//AA Región 87 - ECPv6.15.17//NONSGML v1.0//EN
CALSCALE:GREGORIAN
METHOD:PUBLISH
X-WR-CALNAME:AA Región 87
X-ORIGINAL-URL:https://www.aa87.org/es/
X-WR-CALDESC:Eventos para AA Región 87
REFRESH-INTERVAL;VALUE=DURATION:PT1H
X-Robots-Tag:noindex
X-PUBLISHED-TTL:PT1H
BEGIN:VTIMEZONE
TZID:America/Toronto
BEGIN:DAYLIGHT
TZOFFSETFROM:-0500
TZOFFSETTO:-0400
TZNAME:EDT
DTSTART:20230312T070000
END:DAYLIGHT
BEGIN:STANDARD
TZOFFSETFROM:-0400
TZOFFSETTO:-0500
TZNAME:EST
DTSTART:20231105T060000
END:STANDARD
BEGIN:DAYLIGHT
TZOFFSETFROM:-0500
TZOFFSETTO:-0400
TZNAME:EDT
DTSTART:20240310T070000
END:DAYLIGHT
BEGIN:STANDARD
TZOFFSETFROM:-0400
TZOFFSETTO:-0500
TZNAME:EST
DTSTART:20241103T060000
END:STANDARD
BEGIN:DAYLIGHT
TZOFFSETFROM:-0500
TZOFFSETTO:-0400
TZNAME:EDT
DTSTART:20250309T070000
END:DAYLIGHT
BEGIN:STANDARD
TZOFFSETFROM:-0400
TZOFFSETTO:-0500
TZNAME:EST
DTSTART:20251102T060000
END:STANDARD
END:VTIMEZONE
BEGIN:VEVENT
DTSTART;TZID=America/Toronto:20240928T090000
DTEND;TZID=America/Toronto:20240928T190000
DTSTAMP:20260419T152135
CREATED:20240511T115409Z
LAST-MODIFIED:20240511T121358Z
UID:10007491-1727514000-1727550000@www.aa87.org
SUMMARY:52º Congreso de Sherbrooke - AA le tiende la mano
DESCRIPTION:Nos complace invitarlo a nuestro próximo evento: \n52º Congreso AA Sherbrooke\nDistrito 88-02 – Distrito 88-15\nTEMA: AA EXTIENDE TU MANO \n27 y 28 de septiembre de 2024\nAbierto viernes 6:30 p.m. y sábado 9:00 a.m. \nCentro de Educación para Adultos – Nuevo Horizonte\n2365 Calle Galt Oeste\nSherbrooke (Québec) J1K 1L1\nMap It \nCon la participación de Al-Anon\nAcceso movilidad reducida\nEntrada gratuita – Aportación voluntaria
URL:https://www.aa87.org/es/evenement/52e-congres-sherbrooke-aa-te-tend-la-main/2024-09-28/
LOCATION:Centre d’éducation aux adultes Newliorizon\, 2365\, rue Galt Ouest\, Sherbrooke\, Québec\, 1K1L1\, Canada
CATEGORIES:Activité,District 02,District 15
END:VEVENT
END:VCALENDAR