BEGIN:VCALENDAR
VERSION:2.0
PRODID:-//AA Región 87 - ECPv6.15.17//NONSGML v1.0//EN
CALSCALE:GREGORIAN
METHOD:PUBLISH
X-WR-CALNAME:AA Región 87
X-ORIGINAL-URL:https://www.aa87.org/es/
X-WR-CALDESC:Eventos para AA Región 87
REFRESH-INTERVAL;VALUE=DURATION:PT1H
X-Robots-Tag:noindex
X-PUBLISHED-TTL:PT1H
BEGIN:VTIMEZONE
TZID:America/Toronto
BEGIN:DAYLIGHT
TZOFFSETFROM:-0500
TZOFFSETTO:-0400
TZNAME:EDT
DTSTART:20240310T070000
END:DAYLIGHT
BEGIN:STANDARD
TZOFFSETFROM:-0400
TZOFFSETTO:-0500
TZNAME:EST
DTSTART:20241103T060000
END:STANDARD
BEGIN:DAYLIGHT
TZOFFSETFROM:-0500
TZOFFSETTO:-0400
TZNAME:EDT
DTSTART:20250309T070000
END:DAYLIGHT
BEGIN:STANDARD
TZOFFSETFROM:-0400
TZOFFSETTO:-0500
TZNAME:EST
DTSTART:20251102T060000
END:STANDARD
BEGIN:DAYLIGHT
TZOFFSETFROM:-0500
TZOFFSETTO:-0400
TZNAME:EDT
DTSTART:20260308T070000
END:DAYLIGHT
BEGIN:STANDARD
TZOFFSETFROM:-0400
TZOFFSETTO:-0500
TZNAME:EST
DTSTART:20261101T060000
END:STANDARD
END:VTIMEZONE
BEGIN:VEVENT
DTSTART;VALUE=DATE:20251201
DTEND;VALUE=DATE:20251202
DTSTAMP:20260419T132811
CREATED:20241111T015546Z
LAST-MODIFIED:20241201T043827Z
UID:10009730-1764547200-1764633599@www.aa87.org
SUMMARY:Reflexión diaria 01 de diciembre
DESCRIPTION:Pasos “sugeridos”\n1 de diciembre\n\nNuestro Paso Doce también nos dice que\, como resultado de practicar todos los Pasos\, cada uno de nosotros ha experimentado algo que se llama un despertar espiritual… En A.A.\, la forma de prepararse para recibir este don radica en la práctica de los Doce Pasos de nuestro programa. \nDoce pasos y doce tradiciones\, p. 104-05 \nYo recuerdo la respuesta de mi padrino cuando le dije que los Pasos eran “sugeridos”. El me contestó que son “sugeridos” en la misma forma en que\, si fueras a saltar de un avión con un paracaídas\, es “sugerido” que tires de la argolla para salvar tu vida. Él recalcó que era “sugerido” que yo practicara los Doce Pasos\, si quería salvar mi vida. Así es que yo trato de recordar diariamente que tengo todo el programa de recuperación basado en todos los Doce Pasos “sugeridos”. \n\n\nDel libro Reflexiones diarias\nCopyright © 1991 por Alcoholics Anonymous World Services\, Inc. Todos los derechos reservados. \nTodas las reflexiones diarias
URL:https://www.aa87.org/es/evenement/reflexion-diaria-01-de-diciembre/2025-12-01/
LOCATION:aa87.org
CATEGORIES:Réflexion Quotidiennes
END:VEVENT
END:VCALENDAR