BEGIN:VCALENDAR
VERSION:2.0
PRODID:-//AA Región 87 - ECPv6.15.17//NONSGML v1.0//EN
CALSCALE:GREGORIAN
METHOD:PUBLISH
X-WR-CALNAME:AA Región 87
X-ORIGINAL-URL:https://www.aa87.org/es/
X-WR-CALDESC:Eventos para AA Región 87
REFRESH-INTERVAL;VALUE=DURATION:PT1H
X-Robots-Tag:noindex
X-PUBLISHED-TTL:PT1H
BEGIN:VTIMEZONE
TZID:America/Toronto
BEGIN:DAYLIGHT
TZOFFSETFROM:-0500
TZOFFSETTO:-0400
TZNAME:EDT
DTSTART:20270314T070000
END:DAYLIGHT
BEGIN:STANDARD
TZOFFSETFROM:-0400
TZOFFSETTO:-0500
TZNAME:EST
DTSTART:20271107T060000
END:STANDARD
BEGIN:DAYLIGHT
TZOFFSETFROM:-0500
TZOFFSETTO:-0400
TZNAME:EDT
DTSTART:20280312T070000
END:DAYLIGHT
BEGIN:STANDARD
TZOFFSETFROM:-0400
TZOFFSETTO:-0500
TZNAME:EST
DTSTART:20281105T060000
END:STANDARD
BEGIN:DAYLIGHT
TZOFFSETFROM:-0500
TZOFFSETTO:-0400
TZNAME:EDT
DTSTART:20290311T070000
END:DAYLIGHT
BEGIN:STANDARD
TZOFFSETFROM:-0400
TZOFFSETTO:-0500
TZNAME:EST
DTSTART:20291104T060000
END:STANDARD
END:VTIMEZONE
BEGIN:VEVENT
DTSTART;VALUE=DATE:20280229
DTEND;VALUE=DATE:20280301
DTSTAMP:20260423T004418
CREATED:20260419T232758Z
LAST-MODIFIED:20260419T234135Z
UID:10042097-1835395200-1835481599@www.aa87.org
SUMMARY:Reflexión diaria 29 de febrero
DESCRIPTION:Un milagro de A.A.\n29 de febrero\n\nSalvo algunos breves momentos de tentación\, el pensamiento de beber nunca ha vuelto a su mente; y en esos momentos de tentación\, ha sentido una gran revulsión. Es aparente que no podría beber\, ni aun queriendo hacerlo. Dios le ha devuelto la cordura. \nAlcohólicos Anónimos\, p. 57 \nLa palabra “Dios” me infundió temor la primera vez que la vi asociada con los Doce Pasos de A.A. Había probado todos los métodos posibles para dejar de beber\, y todavía me resultaba imposible sostener el deseo de hacerlo por algún período de tiempo. ¿Cómo podría creer en un “Dios” que me permitiese hundirme en la profunda desesperación que me ahogaba — ya fuera que bebiera o no? \nLa solución estaba en admitir al fin que podría ser posible para mí conocer la misericordia de un Poder superior a mí mismo\, que me podría conceder la sobriedad si yo estuviese dispuesto a “llegar a creer”. Admitir\, por fin\, que yo era uno entre otros muchos\, y seguir el ejemplo de mi padrino y de otros miembros de A.A.\, practicando una fe que yo no tenía\, le ha dado a mi vida sentido\, un objetivo y una dirección. \n\n\nTodas las reflexiones diarias
URL:https://www.aa87.org/es/evenement/reflexion-quotidienne-29-fevrier/2028-02-29/
CATEGORIES:Réflexion Quotidiennes
END:VEVENT
END:VCALENDAR