BEGIN:VCALENDAR
VERSION:2.0
PRODID:-//AA Región 87 - ECPv6.15.17//NONSGML v1.0//EN
CALSCALE:GREGORIAN
METHOD:PUBLISH
X-WR-CALNAME:AA Región 87
X-ORIGINAL-URL:https://www.aa87.org/es/
X-WR-CALDESC:Eventos para AA Región 87
REFRESH-INTERVAL;VALUE=DURATION:PT1H
X-Robots-Tag:noindex
X-PUBLISHED-TTL:PT1H
BEGIN:VTIMEZONE
TZID:America/Toronto
BEGIN:DAYLIGHT
TZOFFSETFROM:-0500
TZOFFSETTO:-0400
TZNAME:EDT
DTSTART:20230312T070000
END:DAYLIGHT
BEGIN:STANDARD
TZOFFSETFROM:-0400
TZOFFSETTO:-0500
TZNAME:EST
DTSTART:20231105T060000
END:STANDARD
BEGIN:DAYLIGHT
TZOFFSETFROM:-0500
TZOFFSETTO:-0400
TZNAME:EDT
DTSTART:20240310T070000
END:DAYLIGHT
BEGIN:STANDARD
TZOFFSETFROM:-0400
TZOFFSETTO:-0500
TZNAME:EST
DTSTART:20241103T060000
END:STANDARD
BEGIN:DAYLIGHT
TZOFFSETFROM:-0500
TZOFFSETTO:-0400
TZNAME:EDT
DTSTART:20250309T070000
END:DAYLIGHT
BEGIN:STANDARD
TZOFFSETFROM:-0400
TZOFFSETTO:-0500
TZNAME:EST
DTSTART:20251102T060000
END:STANDARD
END:VTIMEZONE
BEGIN:VEVENT
DTSTART;TZID=America/Toronto:20241123T090000
DTEND;TZID=America/Toronto:20241123T160000
DTSTAMP:20260419T092120
CREATED:20231231T011630Z
LAST-MODIFIED:20231231T012419Z
UID:10006624-1732352400-1732377600@www.aa87.org
SUMMARY:Reunión web provincial
DESCRIPTION:Sala 2 \nÚnase a la reunión de Zoom \nID de reunión: 976 0990 1538 \nCódigo de acceso: 1234
URL:https://www.aa87.org/es/evenement/reunion-du-site-web-provincial/2024-11-23/
LOCATION:Les Suites de Laviolette\, Trois-Rivières\, 7201 rue Notre-Dame O\, Trpois-Rivières\, Québec\, G9B 1W2\, Canada
CATEGORIES:Site web provincial
END:VEVENT
END:VCALENDAR