BEGIN:VCALENDAR
VERSION:2.0
PRODID:-//AA Región 87 - ECPv6.15.17//NONSGML v1.0//EN
CALSCALE:GREGORIAN
METHOD:PUBLISH
X-WR-CALNAME:AA Región 87
X-ORIGINAL-URL:https://www.aa87.org/es/
X-WR-CALDESC:Eventos para AA Región 87
REFRESH-INTERVAL;VALUE=DURATION:PT1H
X-Robots-Tag:noindex
X-PUBLISHED-TTL:PT1H
BEGIN:VTIMEZONE
TZID:America/Toronto
BEGIN:DAYLIGHT
TZOFFSETFROM:-0500
TZOFFSETTO:-0400
TZNAME:EDT
DTSTART:20240310T070000
END:DAYLIGHT
BEGIN:STANDARD
TZOFFSETFROM:-0400
TZOFFSETTO:-0500
TZNAME:EST
DTSTART:20241103T060000
END:STANDARD
BEGIN:DAYLIGHT
TZOFFSETFROM:-0500
TZOFFSETTO:-0400
TZNAME:EDT
DTSTART:20250309T070000
END:DAYLIGHT
BEGIN:STANDARD
TZOFFSETFROM:-0400
TZOFFSETTO:-0500
TZNAME:EST
DTSTART:20251102T060000
END:STANDARD
BEGIN:DAYLIGHT
TZOFFSETFROM:-0500
TZOFFSETTO:-0400
TZNAME:EDT
DTSTART:20260308T070000
END:DAYLIGHT
BEGIN:STANDARD
TZOFFSETFROM:-0400
TZOFFSETTO:-0500
TZNAME:EST
DTSTART:20261101T060000
END:STANDARD
END:VTIMEZONE
BEGIN:VEVENT
DTSTART;VALUE=DATE:20250101
DTEND;VALUE=DATE:20250102
DTSTAMP:20260422T081419
CREATED:20240915T155109Z
LAST-MODIFIED:20250621T133141Z
UID:10008273-1735689600-1735775999@www.aa87.org
SUMMARY:Reflexión diaria 01 enero
DESCRIPTION:“Yo soy un milagro” \n1 de enero \nEl hecho central en nuestras vidas es actualmente la certeza de que nuestro Creador ha entrado en nuestros corazones y en nuestras vidas en una forma ciertamente milagrosa. Ha empezado a realizar por nosotros cosas que nosotros no podríamos hacer solos. \nAlcohólicos Anónimos\, p. 25 \nEsta es\, en verdad\, una realidad de mi vida de hoy y un auténtico milagro. Yo siempre creía en Dios\, pero nunca pude aplicar significativamente esta creencia en mi vida. Hoy\, gracias a Alcohólicos Anónimos\, ya confío en Dios y dependo de Él\, como yo Lo concibo; ¡hoy\, debido a esto\, estoy sobrio! Aprender a confiar en Dios y a depender de Dios fue algo que nunca pude haber logrado solo. ¡Ahora creo en milagros porque yo soy un milagro! \nDel libro Reflexiones diarias\nCopyright © 1991 por Alcoholics Anonymous World Services\, Inc. Todos los derechos reservados. \nTodas las reflexiones diarias
URL:https://www.aa87.org/es/evenement/rq-0101/2025-01-01/
LOCATION:aa87.org
CATEGORIES:Réflexion Quotidiennes
END:VEVENT
END:VCALENDAR