BEGIN:VCALENDAR
VERSION:2.0
PRODID:-//AA Región 87 - ECPv6.15.17//NONSGML v1.0//EN
CALSCALE:GREGORIAN
METHOD:PUBLISH
X-WR-CALNAME:AA Región 87
X-ORIGINAL-URL:https://www.aa87.org/es/
X-WR-CALDESC:Eventos para AA Región 87
REFRESH-INTERVAL;VALUE=DURATION:PT1H
X-Robots-Tag:noindex
X-PUBLISHED-TTL:PT1H
BEGIN:VTIMEZONE
TZID:America/Toronto
BEGIN:DAYLIGHT
TZOFFSETFROM:-0500
TZOFFSETTO:-0400
TZNAME:EDT
DTSTART:20260308T070000
END:DAYLIGHT
BEGIN:STANDARD
TZOFFSETFROM:-0400
TZOFFSETTO:-0500
TZNAME:EST
DTSTART:20261101T060000
END:STANDARD
BEGIN:DAYLIGHT
TZOFFSETFROM:-0500
TZOFFSETTO:-0400
TZNAME:EDT
DTSTART:20270314T070000
END:DAYLIGHT
BEGIN:STANDARD
TZOFFSETFROM:-0400
TZOFFSETTO:-0500
TZNAME:EST
DTSTART:20271107T060000
END:STANDARD
BEGIN:DAYLIGHT
TZOFFSETFROM:-0500
TZOFFSETTO:-0400
TZNAME:EDT
DTSTART:20280312T070000
END:DAYLIGHT
BEGIN:STANDARD
TZOFFSETFROM:-0400
TZOFFSETTO:-0500
TZNAME:EST
DTSTART:20281105T060000
END:STANDARD
END:VTIMEZONE
BEGIN:VEVENT
DTSTART;VALUE=DATE:20270104
DTEND;VALUE=DATE:20270105
DTSTAMP:20260419T165249
CREATED:20241211T235242Z
LAST-MODIFIED:20250101T222443Z
UID:10010870-1799020800-1799107199@www.aa87.org
SUMMARY:Reflexión diaria 04 de enero
DESCRIPTION:Empieza donde estás\n4 de enero\n\nCreemos que el abstenernos de beber no es más que el principio. Una demostración más importante de nuestros principios nos espera en nuestros respectivos hogares\, ocupaciones y asuntos. \nAlcohólicos Anónimos\, p. 19 \nGeneralmente me resulta fácil ser agradable con la gente en el ambiente de A.A. Mientras trabajo por mantenerme sobrio\, estoy celebrando con mis compañeros de A.A. nuestra liberación común del infierno de la bebida. Frecuentemente no es tan difícil difundir buenas noticias entre mis viejos y nuevos amigos en el programa. \nSin embargo\, en el hogar o en el trabajo\, eso puede ser otro cantar. En las situaciones que se me presentan en esas dos áreas de mi vida\, las pequeñas desilusiones de la vida diaria son más evidentes y puede ser muy difícil sonreír o llegar con una palabra bondadosa o un oído atento. Fuera de las salas de A.A. es donde me enfrento con la prueba real de la eficacia de mi paseo por los Doce Pasos de A.A. \n\n\nCopyright © 1991 por Alcoholics Anonymous World Services\, Inc. Todos los derechos reservados. \nTodas las reflexiones diarias
URL:https://www.aa87.org/es/evenement/rq0104/2027-01-04/
LOCATION:aa87.org
CATEGORIES:Réflexion Quotidiennes
END:VEVENT
END:VCALENDAR