BEGIN:VCALENDAR
VERSION:2.0
PRODID:-//AA Región 87 - ECPv6.15.17//NONSGML v1.0//EN
CALSCALE:GREGORIAN
METHOD:PUBLISH
X-WR-CALNAME:AA Región 87
X-ORIGINAL-URL:https://www.aa87.org/es/
X-WR-CALDESC:Eventos para AA Región 87
REFRESH-INTERVAL;VALUE=DURATION:PT1H
X-Robots-Tag:noindex
X-PUBLISHED-TTL:PT1H
BEGIN:VTIMEZONE
TZID:America/Toronto
BEGIN:DAYLIGHT
TZOFFSETFROM:-0500
TZOFFSETTO:-0400
TZNAME:EDT
DTSTART:20240310T070000
END:DAYLIGHT
BEGIN:STANDARD
TZOFFSETFROM:-0400
TZOFFSETTO:-0500
TZNAME:EST
DTSTART:20241103T060000
END:STANDARD
BEGIN:DAYLIGHT
TZOFFSETFROM:-0500
TZOFFSETTO:-0400
TZNAME:EDT
DTSTART:20250309T070000
END:DAYLIGHT
BEGIN:STANDARD
TZOFFSETFROM:-0400
TZOFFSETTO:-0500
TZNAME:EST
DTSTART:20251102T060000
END:STANDARD
BEGIN:DAYLIGHT
TZOFFSETFROM:-0500
TZOFFSETTO:-0400
TZNAME:EDT
DTSTART:20260308T070000
END:DAYLIGHT
BEGIN:STANDARD
TZOFFSETFROM:-0400
TZOFFSETTO:-0500
TZNAME:EST
DTSTART:20261101T060000
END:STANDARD
END:VTIMEZONE
BEGIN:VEVENT
DTSTART;VALUE=DATE:20250108
DTEND;VALUE=DATE:20250109
DTSTAMP:20260419T133051
CREATED:20241221T144751Z
LAST-MODIFIED:20241221T144818Z
UID:10015645-1736294400-1736380799@www.aa87.org
SUMMARY:Reflexión diaria 08 de enero
DESCRIPTION:¿Tengo una opción?\n8 de enero\n\nEl hecho es que la mayoría de los alcohólicos\, por razones que todavía son oscuras\, cuando se trata de beber han perdido su capacidad para elegir. Nuestra llamada fuerza de voluntad se vuelve inexistente. \nAlcohólicos Anónimos\, p. 24 \nMi impotencia ante el alcohol no cesa cuando yo dejo de beber. En sobriedad\, yo todavía no tengo opción — no puedo beber. \nLa opción que sí tengo es la de recoger y usar el “juego de herramientas espirituales” (Alcohólicos Anónimos\, p. 25). Cuando hago esto\, mi Poder Superior me exonera de mi falta de opción — y me mantiene sobrio un día más. Si yo pudiera optar por no tomar un trago hoy\, ¿qué necesidad tendría entonces de A.A. o de un Poder Superior? \n\n\nCopyright © 1991 por Alcoholics Anonymous World Services\, Inc. Todos los derechos reservados. \nTodas las reflexiones diarias
URL:https://www.aa87.org/es/evenement/rq0108/2025-01-08/
LOCATION:aa87.org
CATEGORIES:Réflexion Quotidiennes
END:VEVENT
END:VCALENDAR