BEGIN:VCALENDAR
VERSION:2.0
PRODID:-//AA Región 87 - ECPv6.15.17//NONSGML v1.0//EN
CALSCALE:GREGORIAN
METHOD:PUBLISH
X-WR-CALNAME:AA Región 87
X-ORIGINAL-URL:https://www.aa87.org/es/
X-WR-CALDESC:Eventos para AA Región 87
REFRESH-INTERVAL;VALUE=DURATION:PT1H
X-Robots-Tag:noindex
X-PUBLISHED-TTL:PT1H
BEGIN:VTIMEZONE
TZID:America/Toronto
BEGIN:DAYLIGHT
TZOFFSETFROM:-0500
TZOFFSETTO:-0400
TZNAME:EDT
DTSTART:20240310T070000
END:DAYLIGHT
BEGIN:STANDARD
TZOFFSETFROM:-0400
TZOFFSETTO:-0500
TZNAME:EST
DTSTART:20241103T060000
END:STANDARD
BEGIN:DAYLIGHT
TZOFFSETFROM:-0500
TZOFFSETTO:-0400
TZNAME:EDT
DTSTART:20250309T070000
END:DAYLIGHT
BEGIN:STANDARD
TZOFFSETFROM:-0400
TZOFFSETTO:-0500
TZNAME:EST
DTSTART:20251102T060000
END:STANDARD
BEGIN:DAYLIGHT
TZOFFSETFROM:-0500
TZOFFSETTO:-0400
TZNAME:EDT
DTSTART:20260308T070000
END:DAYLIGHT
BEGIN:STANDARD
TZOFFSETFROM:-0400
TZOFFSETTO:-0500
TZNAME:EST
DTSTART:20261101T060000
END:STANDARD
END:VTIMEZONE
BEGIN:VEVENT
DTSTART;VALUE=DATE:20250109
DTEND;VALUE=DATE:20250110
DTSTAMP:20260419T082823
CREATED:20241222T174948Z
LAST-MODIFIED:20241222T175018Z
UID:10016760-1736380800-1736467199@www.aa87.org
SUMMARY:Reflexión diaria 09 de enero
DESCRIPTION:Un acto de la providencia\n9 de enero\n\nEs verdaderamente horrible admitir que\, con una copa en la mano\, hemos deformado nuestra mente hasta tener una obsesión por beber tan destructiva que sólo un acto de la Providencia puede librarnos de ella. \nla victoria de la rendiciónine\, p. 19 \nPara mí\, el acto de la Providencia\, (una manifestación de cuidado y dirección divina)\, ocurrió cuando yo experimentaba la quiebra total del alcoholismo activo — todo lo significativo de mi vida había desaparecido. Llamé por teléfono a Alcohólicos Anónimos y\, desde ese instante\, mi vida nunca ha sido la misma. Al reflexionar sobre ese momento muy especial\, sé que Dios estaba trabajando en mi vida mucho antes de que yo reconociera y aceptara conceptos espirituales. Mediante este único acto de la Providencia pude quitarme de la bebida y empezar mi viaje hacia la sobriedad. Mi vida continúa desarrollándose con cuidado y dirección divina. El Paso Uno\, admitir que yo era impotente ante el alcohol\, y que mi vida se había vuelto ingobernable\, cobra cada día más sentido para mí en la Comunidad salvadora y vivificadora de Alcohólicos Anónimos. \n\n\nCopyright © 1991 por Alcoholics Anonymous World Services\, Inc. Todos los derechos reservados. \nTodas las reflexiones diarias
URL:https://www.aa87.org/es/evenement/rq0109/2025-01-09/
LOCATION:aa87.org
CATEGORIES:Réflexion Quotidiennes
END:VEVENT
END:VCALENDAR