BEGIN:VCALENDAR
VERSION:2.0
PRODID:-//AA Región 87 - ECPv6.15.17//NONSGML v1.0//EN
CALSCALE:GREGORIAN
METHOD:PUBLISH
X-WR-CALNAME:AA Región 87
X-ORIGINAL-URL:https://www.aa87.org/es/
X-WR-CALDESC:Eventos para AA Región 87
REFRESH-INTERVAL;VALUE=DURATION:PT1H
X-Robots-Tag:noindex
X-PUBLISHED-TTL:PT1H
BEGIN:VTIMEZONE
TZID:America/Toronto
BEGIN:DAYLIGHT
TZOFFSETFROM:-0500
TZOFFSETTO:-0400
TZNAME:EDT
DTSTART:20270314T070000
END:DAYLIGHT
BEGIN:STANDARD
TZOFFSETFROM:-0400
TZOFFSETTO:-0500
TZNAME:EST
DTSTART:20271107T060000
END:STANDARD
BEGIN:DAYLIGHT
TZOFFSETFROM:-0500
TZOFFSETTO:-0400
TZNAME:EDT
DTSTART:20280312T070000
END:DAYLIGHT
BEGIN:STANDARD
TZOFFSETFROM:-0400
TZOFFSETTO:-0500
TZNAME:EST
DTSTART:20281105T060000
END:STANDARD
BEGIN:DAYLIGHT
TZOFFSETFROM:-0500
TZOFFSETTO:-0400
TZNAME:EDT
DTSTART:20290311T070000
END:DAYLIGHT
BEGIN:STANDARD
TZOFFSETFROM:-0400
TZOFFSETTO:-0500
TZNAME:EST
DTSTART:20291104T060000
END:STANDARD
END:VTIMEZONE
BEGIN:VEVENT
DTSTART;VALUE=DATE:20280310
DTEND;VALUE=DATE:20280311
DTSTAMP:20260419T093341
CREATED:20250308T125948Z
LAST-MODIFIED:20250308T130927Z
UID:10020834-1836259200-1836345599@www.aa87.org
SUMMARY:Reflexión diaria 14 de marzo
DESCRIPTION:La piedra clave\n14 de marzo\n\nÉl es el Padre y nosotros Sus hijos. La mayoría de las buenas ideas son sencillas y este concepto fue la piedra clave del nuevo arco triunfal por el que pasamos a la libertad.  \nAlcohólicos Anónimos\, p. 62  \nLa piedra clave es una pieza en forma de cuña que va en la parte más alta de un arco y que mantiene las otras piedras en su lugar. Las “otras piezas” son los Pasos Uno\, Dos y desde el Cuatro al Doce. En un sentido esto parece indicar que el Paso Tres es el Paso más importante\, que los otros once dependen del tercero para soporte. Sin embargo en la realidad\, el Paso Tres es sólo uno de los doce. Es la piedra clave\, pero sin las otras once piedras para construir la base y los lados\, con o sin piedra clave\, sencillamente no hay arco. Por medio de la práctica diaria de los Doce Pasos\, yo encuentro ese arco triunfal esperándome para pasar por él a otro día de libertad. \n\n\nCopyright © 1991 por Alcoholics Anonymous World Services\, Inc. Todos los derechos reservados. \nTodas las reflexiones diarias
URL:https://www.aa87.org/es/evenement/rq0314/2028-03-10/
LOCATION:aa87.org
CATEGORIES:Réflexion Quotidiennes
END:VEVENT
END:VCALENDAR