BEGIN:VCALENDAR
VERSION:2.0
PRODID:-//AA Región 87 - ECPv6.15.17//NONSGML v1.0//EN
CALSCALE:GREGORIAN
METHOD:PUBLISH
X-WR-CALNAME:AA Región 87
X-ORIGINAL-URL:https://www.aa87.org/es/
X-WR-CALDESC:Eventos para AA Región 87
REFRESH-INTERVAL;VALUE=DURATION:PT1H
X-Robots-Tag:noindex
X-PUBLISHED-TTL:PT1H
BEGIN:VTIMEZONE
TZID:America/Toronto
BEGIN:DAYLIGHT
TZOFFSETFROM:-0500
TZOFFSETTO:-0400
TZNAME:EDT
DTSTART:20270314T070000
END:DAYLIGHT
BEGIN:STANDARD
TZOFFSETFROM:-0400
TZOFFSETTO:-0500
TZNAME:EST
DTSTART:20271107T060000
END:STANDARD
BEGIN:DAYLIGHT
TZOFFSETFROM:-0500
TZOFFSETTO:-0400
TZNAME:EDT
DTSTART:20280312T070000
END:DAYLIGHT
BEGIN:STANDARD
TZOFFSETFROM:-0400
TZOFFSETTO:-0500
TZNAME:EST
DTSTART:20281105T060000
END:STANDARD
BEGIN:DAYLIGHT
TZOFFSETFROM:-0500
TZOFFSETTO:-0400
TZNAME:EDT
DTSTART:20290311T070000
END:DAYLIGHT
BEGIN:STANDARD
TZOFFSETFROM:-0400
TZOFFSETTO:-0500
TZNAME:EST
DTSTART:20291104T060000
END:STANDARD
END:VTIMEZONE
BEGIN:VEVENT
DTSTART;VALUE=DATE:20280317
DTEND;VALUE=DATE:20280318
DTSTAMP:20260419T111515
CREATED:20250810T194937Z
LAST-MODIFIED:20250810T202706Z
UID:10024589-1836864000-1836950399@www.aa87.org
SUMMARY:Reflexión diaria 17 de marzo
DESCRIPTION:Formas misteriosas\n17 de marzo\n\n… toda época de aflicción y sufrimiento\, cuando la mano de Dios le parecía pesada e incluso injusta\, ha resultado ser una ocasión de aprender nuevas lecciones para la vida\, de descubrir nuevas fuentes de valor\, y que\, última e inevitablemente\, le llegó la convicción de que\, al obrar sus milagros\, “los caminos de Dios sí son inescrutables”. \nDoce pasos y doce traditions\, p. 102 \nDespués de perder mi carrera\, mi familia y la salud\, todavía no me convencía de que mi manera de vivir necesitaba una revisión. Creía que estaba destinada a morir sola y que lo merecía. En la cima de mi desesperación\, mi niñito de corta edad se enfermó gravemente con una rara enfermedad. Los esfuerzos de los doctores fueron infructuosos. Yo redoblé mis esfuerzos para amortiguar mis sentimientos pero el alcohol ya había dejado de surtir su efecto. Quedé sola mirando fijamente a los ojos de Dios\, suplicando su ayuda. A los pocos días\, por una extraña concatenación de coincidencias\, tuve mi primer contacto con A.A. y desde entonces he permanecido sobria. Mi hijo vive y está mejorando. Todo el episodio me convenció de mi impotencia y de lo inmanejable que era mi vida. Hoy\, mi hijo y yo estamos agradecidos a Dios por Su intervención. \nDel libro Reflexiones diarias\nCopyright © 1991 por Alcoholics Anonymous World Services\, Inc. Todos los derechos reservados. \nTodas las reflexiones diarias
URL:https://www.aa87.org/es/evenement/rq0317/2028-03-17/
CATEGORIES:Réflexion Quotidiennes
END:VEVENT
END:VCALENDAR