BEGIN:VCALENDAR
VERSION:2.0
PRODID:-//AA Región 87 - ECPv6.15.17//NONSGML v1.0//EN
CALSCALE:GREGORIAN
METHOD:PUBLISH
X-WR-CALNAME:AA Región 87
X-ORIGINAL-URL:https://www.aa87.org/es/
X-WR-CALDESC:Eventos para AA Región 87
REFRESH-INTERVAL;VALUE=DURATION:PT1H
X-Robots-Tag:noindex
X-PUBLISHED-TTL:PT1H
BEGIN:VTIMEZONE
TZID:America/Toronto
BEGIN:DAYLIGHT
TZOFFSETFROM:-0500
TZOFFSETTO:-0400
TZNAME:EDT
DTSTART:20280312T070000
END:DAYLIGHT
BEGIN:STANDARD
TZOFFSETFROM:-0400
TZOFFSETTO:-0500
TZNAME:EST
DTSTART:20281105T060000
END:STANDARD
BEGIN:DAYLIGHT
TZOFFSETFROM:-0500
TZOFFSETTO:-0400
TZNAME:EDT
DTSTART:20290311T070000
END:DAYLIGHT
BEGIN:STANDARD
TZOFFSETFROM:-0400
TZOFFSETTO:-0500
TZNAME:EST
DTSTART:20291104T060000
END:STANDARD
BEGIN:DAYLIGHT
TZOFFSETFROM:-0500
TZOFFSETTO:-0400
TZNAME:EDT
DTSTART:20300310T070000
END:DAYLIGHT
BEGIN:STANDARD
TZOFFSETFROM:-0400
TZOFFSETTO:-0500
TZNAME:EST
DTSTART:20301103T060000
END:STANDARD
END:VTIMEZONE
BEGIN:VEVENT
DTSTART;VALUE=DATE:20290507
DTEND;VALUE=DATE:20290508
DTSTAMP:20260419T143711
CREATED:20250916T231924Z
LAST-MODIFIED:20250916T232315Z
UID:10025532-1872806400-1872892799@www.aa87.org
SUMMARY:Reflexión diaria 07 mayo
DESCRIPTION:Respectos para otros\n7 de mayo\n\nEstas partes de nuestra historia se las contamos a alguien que comprenda pero que no resulte afectado. La regla es que debemos ser duros con nosotros mismos pero siempre considerados con los demás. \nAlcohólicos Anónimos\, p. 74 \nLa lección que yo he sacado de la cita anterior es el respeto para otros. Si deseo encontrar esa paz mental que he buscado por tanto tiempo\, debo hacer todo esfuerzo por liberarme. Sin embargo\, nada de esto debe hacerse a expensas de otros. El egoísmo no tiene lugar en la forma de vivir de A.A. \nCuando dé mi Quinto Paso\, es más prudente escoger una persona con quien tenga objetivos en común\, porque si esa persona no me entiende\, mi progreso espiritual puede ser retrasado y yo puedo estar en peligro de una recaída. Así es que pido orientación divina antes de escoger el hombre o la mujer en quien depositar mi confianza. \n\n\nDel libro Reflexiones diarias\nCopyright © 1991 por Alcoholics Anonymous World Services\, Inc. Todos los derechos reservados. \nTodas las reflexiones diarias
URL:https://www.aa87.org/es/evenement/rq0507/2029-05-07/
CATEGORIES:Réflexion Quotidiennes
END:VEVENT
END:VCALENDAR