BEGIN:VCALENDAR
VERSION:2.0
PRODID:-//AA Región 87 - ECPv6.15.17//NONSGML v1.0//EN
CALSCALE:GREGORIAN
METHOD:PUBLISH
X-WR-CALNAME:AA Región 87
X-ORIGINAL-URL:https://www.aa87.org/es/
X-WR-CALDESC:Eventos para AA Región 87
REFRESH-INTERVAL;VALUE=DURATION:PT1H
X-Robots-Tag:noindex
X-PUBLISHED-TTL:PT1H
BEGIN:VTIMEZONE
TZID:America/Toronto
BEGIN:DAYLIGHT
TZOFFSETFROM:-0500
TZOFFSETTO:-0400
TZNAME:EDT
DTSTART:20290311T070000
END:DAYLIGHT
BEGIN:STANDARD
TZOFFSETFROM:-0400
TZOFFSETTO:-0500
TZNAME:EST
DTSTART:20291104T060000
END:STANDARD
BEGIN:DAYLIGHT
TZOFFSETFROM:-0500
TZOFFSETTO:-0400
TZNAME:EDT
DTSTART:20300310T070000
END:DAYLIGHT
BEGIN:STANDARD
TZOFFSETFROM:-0400
TZOFFSETTO:-0500
TZNAME:EST
DTSTART:20301103T060000
END:STANDARD
BEGIN:DAYLIGHT
TZOFFSETFROM:-0500
TZOFFSETTO:-0400
TZNAME:EDT
DTSTART:20310309T070000
END:DAYLIGHT
BEGIN:STANDARD
TZOFFSETFROM:-0400
TZOFFSETTO:-0500
TZNAME:EST
DTSTART:20311102T060000
END:STANDARD
END:VTIMEZONE
BEGIN:VEVENT
DTSTART;VALUE=DATE:20300513
DTEND;VALUE=DATE:20300514
DTSTAMP:20260421T042852
CREATED:20250918T234201Z
LAST-MODIFIED:20250918T234908Z
UID:10025593-1904860800-1904947199@www.aa87.org
SUMMARY:Reflexión diaria 13 mayo
DESCRIPTION:El camino más fácil y cómodo\n13 de mayo\n\nSi saltamos este vital paso\, puede ser que no superemos la bebida. \nAlcohólicos Anónimos\, p. 72 \nNo me sentía muy entusiasmado por la oportunidad de hacerle frente a la persona que yo era\, especialmente cuando los dolores de mis días de bebedor se cernían sobre mí como una nube obscura. Desde muy temprano había oído hablar en las reuniones del compañero que no quería dar el Paso Cinco y continuaba viniendo a las reuniones todo tembloroso por los horrores de volver a vivir su pasado. El camino más fácil y cómodo es dar estos Pasos hacia la liberación de nuestra fatal enfermedad y poner nuestra fe en la Comunidad y en nuestro Poder Superior. \n\n\nDel libro Reflexiones diarias\nCopyright © 1991 por Alcoholics Anonymous World Services\, Inc. Todos los derechos reservados. \nTodas las reflexiones diarias
URL:https://www.aa87.org/es/evenement/rq0513/2030-05-13/
CATEGORIES:Réflexion Quotidiennes
END:VEVENT
END:VCALENDAR