BEGIN:VCALENDAR
VERSION:2.0
PRODID:-//AA Región 87 - ECPv6.15.17//NONSGML v1.0//EN
CALSCALE:GREGORIAN
METHOD:PUBLISH
X-WR-CALNAME:AA Región 87
X-ORIGINAL-URL:https://www.aa87.org/es/
X-WR-CALDESC:Eventos para AA Región 87
REFRESH-INTERVAL;VALUE=DURATION:PT1H
X-Robots-Tag:noindex
X-PUBLISHED-TTL:PT1H
BEGIN:VTIMEZONE
TZID:America/Toronto
BEGIN:DAYLIGHT
TZOFFSETFROM:-0500
TZOFFSETTO:-0400
TZNAME:EDT
DTSTART:20280312T070000
END:DAYLIGHT
BEGIN:STANDARD
TZOFFSETFROM:-0400
TZOFFSETTO:-0500
TZNAME:EST
DTSTART:20281105T060000
END:STANDARD
BEGIN:DAYLIGHT
TZOFFSETFROM:-0500
TZOFFSETTO:-0400
TZNAME:EDT
DTSTART:20290311T070000
END:DAYLIGHT
BEGIN:STANDARD
TZOFFSETFROM:-0400
TZOFFSETTO:-0500
TZNAME:EST
DTSTART:20291104T060000
END:STANDARD
BEGIN:DAYLIGHT
TZOFFSETFROM:-0500
TZOFFSETTO:-0400
TZNAME:EDT
DTSTART:20300310T070000
END:DAYLIGHT
BEGIN:STANDARD
TZOFFSETFROM:-0400
TZOFFSETTO:-0500
TZNAME:EST
DTSTART:20301103T060000
END:STANDARD
END:VTIMEZONE
BEGIN:VEVENT
DTSTART;VALUE=DATE:20290705
DTEND;VALUE=DATE:20290706
DTSTAMP:20260419T150417
CREATED:20250705T014519Z
LAST-MODIFIED:20250707T014050Z
UID:10022605-1877904000-1877990399@www.aa87.org
SUMMARY:Reflexión diaria 5 de julio
DESCRIPTION:Uuna nueva dirección\n5 de julio\n\nNuestros recursos humanos bajo el mando de nuestra voluntad no eran suficientes\, fallaban completamente… Cada día es un día en el que tenemos que llevar la visión de la voluntad de Dios a todos nuestros actos. \nAlcohólicos Anónimos\, p. 45\, 85 \nYo oigo hablar del alcohólico “sin fuerza de voluntad”\, pero yo soy una de las personas con más fuerza de voluntad de la tierra. Ahora sé que mi increíble fuerza de voluntad no es suficiente para salvar mi vida. Mi problema no es asunto de “fuerza de voluntad” sino de dirección. Cuando yo\, sin minimizarme falsamente\, acepto mis verdaderas limitaciones y recurro a Dios para que me dé su orientación\, entonces mis peores faltas se convierten en mis mejores ventajas. Mi fuerte voluntad\, correctamente dirigida\, me hace seguir trabajando hasta que las promesas del programa se convierten en mi realidad cotidiana. \nDel libro Reflexiones diarias\nCopyright © 1991 por Alcoholics Anonymous World Services\, Inc. Todos los derechos reservados. \nTodas las reflexiones diarias \n\n\n 
URL:https://www.aa87.org/es/evenement/rq0705/2029-07-05/
CATEGORIES:Réflexion Quotidiennes
END:VEVENT
END:VCALENDAR