BEGIN:VCALENDAR
VERSION:2.0
PRODID:-//AA Región 87 - ECPv6.15.17//NONSGML v1.0//EN
CALSCALE:GREGORIAN
METHOD:PUBLISH
X-WR-CALNAME:AA Región 87
X-ORIGINAL-URL:https://www.aa87.org/es/
X-WR-CALDESC:Eventos para AA Región 87
REFRESH-INTERVAL;VALUE=DURATION:PT1H
X-Robots-Tag:noindex
X-PUBLISHED-TTL:PT1H
BEGIN:VTIMEZONE
TZID:America/Toronto
BEGIN:DAYLIGHT
TZOFFSETFROM:-0500
TZOFFSETTO:-0400
TZNAME:EDT
DTSTART:20250309T070000
END:DAYLIGHT
BEGIN:STANDARD
TZOFFSETFROM:-0400
TZOFFSETTO:-0500
TZNAME:EST
DTSTART:20251102T060000
END:STANDARD
BEGIN:DAYLIGHT
TZOFFSETFROM:-0500
TZOFFSETTO:-0400
TZNAME:EDT
DTSTART:20260308T070000
END:DAYLIGHT
BEGIN:STANDARD
TZOFFSETFROM:-0400
TZOFFSETTO:-0500
TZNAME:EST
DTSTART:20261101T060000
END:STANDARD
BEGIN:DAYLIGHT
TZOFFSETFROM:-0500
TZOFFSETTO:-0400
TZNAME:EDT
DTSTART:20270314T070000
END:DAYLIGHT
BEGIN:STANDARD
TZOFFSETFROM:-0400
TZOFFSETTO:-0500
TZNAME:EST
DTSTART:20271107T060000
END:STANDARD
END:VTIMEZONE
BEGIN:VEVENT
DTSTART;VALUE=DATE:20260714
DTEND;VALUE=DATE:20260715
DTSTAMP:20260419T130333
CREATED:20250709T143348Z
LAST-MODIFIED:20250709T143711Z
UID:10022710-1783987200-1784073599@www.aa87.org
SUMMARY:Reflexión diaria 14 de julio
DESCRIPTION:Un ingrediente nutritivo\n14 de julio\n\nSi antes la humildad había significado para nosotros la abyecta humillación\, ahora empieza a significar el ingrediente nutritivo que nos puede deparar la serenidad. \nDoce pasos y doce traditions\, p. 71 \n¿Con cuánta frecuencia me concentro en mis problemas y frustraciones? Cuando estoy pasando un “buen día”\, estos mismos problemas disminuyen de importancia y mi preocupación por ellos mengua. ¿No sería mejor si pudiera encontrar una fórmula para dar rienda suelta a la “magia” de mis “días buenos” y aplicarla a los pesares de mis “días malos”? \n¡Ya tengo la solución! En vez de tratar de huir de mis dolores y desear que se vayan mis problemas\, puedo rezar para obtener la humildad. La humildad curará el dolor. La humildad me sacará de mí mismo. La humildad\, esa fortaleza concedida para mí por ese “poder superior a mí mismo” es mía sólo con pedirla. La humildad devolverá el equilibrio a mi vida. La humildad me hace posible aceptar alegremente mi condición humana. \nDel libro Reflexiones diarias\nCopyright © 1991 por Alcoholics Anonymous World Services\, Inc. Todos los derechos reservados. \nTodas las reflexiones diarias \n\n\n 
URL:https://www.aa87.org/es/evenement/rq0714/2026-07-14/
CATEGORIES:Réflexion Quotidiennes
END:VEVENT
END:VCALENDAR