BEGIN:VCALENDAR
VERSION:2.0
PRODID:-//AA Región 87 - ECPv6.15.17//NONSGML v1.0//EN
CALSCALE:GREGORIAN
METHOD:PUBLISH
X-WR-CALNAME:AA Región 87
X-ORIGINAL-URL:https://www.aa87.org/es/
X-WR-CALDESC:Eventos para AA Región 87
REFRESH-INTERVAL;VALUE=DURATION:PT1H
X-Robots-Tag:noindex
X-PUBLISHED-TTL:PT1H
BEGIN:VTIMEZONE
TZID:America/Toronto
BEGIN:DAYLIGHT
TZOFFSETFROM:-0500
TZOFFSETTO:-0400
TZNAME:EDT
DTSTART:20250309T070000
END:DAYLIGHT
BEGIN:STANDARD
TZOFFSETFROM:-0400
TZOFFSETTO:-0500
TZNAME:EST
DTSTART:20251102T060000
END:STANDARD
BEGIN:DAYLIGHT
TZOFFSETFROM:-0500
TZOFFSETTO:-0400
TZNAME:EDT
DTSTART:20260308T070000
END:DAYLIGHT
BEGIN:STANDARD
TZOFFSETFROM:-0400
TZOFFSETTO:-0500
TZNAME:EST
DTSTART:20261101T060000
END:STANDARD
BEGIN:DAYLIGHT
TZOFFSETFROM:-0500
TZOFFSETTO:-0400
TZNAME:EDT
DTSTART:20270314T070000
END:DAYLIGHT
BEGIN:STANDARD
TZOFFSETFROM:-0400
TZOFFSETTO:-0500
TZNAME:EST
DTSTART:20271107T060000
END:STANDARD
END:VTIMEZONE
BEGIN:VEVENT
DTSTART;VALUE=DATE:20260715
DTEND;VALUE=DATE:20260716
DTSTAMP:20260421T113028
CREATED:20250709T152514Z
LAST-MODIFIED:20250709T152734Z
UID:10022725-1784073600-1784159999@www.aa87.org
SUMMARY:Reflexión diaria 15 de julio
DESCRIPTION:Orgullo\n15 de julio\n\nHace miles de años que venimos exigiendo más de lo que nos corresponde de seguridad\, de prestigio y de amor. Cuando parecía que teníamos éxito\, bebíamos para tener sueños aun más grandiosos. Cuando nos sentíamos frustrados\, aunque sólo fuera en parte\, bebíamos para olvidar. Nunca había suficiente de lo que creíamos que queríamos. \nEn todos estos empeños…\, nuestro mayor impedimento había sido la falta de humildad. Nos faltaba la perspectiva suficiente para ver que la formación de carácter y los valores espirituales tenían que anteponerse a todo\, y que las satisfacciones materiales no constituían el objetivo de la vida. \nDoce pasos y doce traditions\, p. 68 \nUna y otra vez me acercaba al Paso Siete\, sólo para retroceder y reconsiderar. Algo me faltaba y se me escapaba el impacto del Paso. ¿Qué había pasado por alto? Una simple palabra: la había leído pero la había ignorado\, la base de todos los Pasos\, en verdad de todo el programa de Alcohólicos Anónimos— esa palabra es “humildemente”. \nSabía cuáles eran mis defectos: constantemente posponía mis tareas; me enojaba fácilmente; sentía mucha autoconmiseración; y me preguntaba\, ¿por qué yo? Entonces recordé\, “el orgullo va antes de la caída”\, y eliminé el orgullo de mi vida. \n\n\nDel libro Reflexiones diarias\nCopyright © 1991 por Alcoholics Anonymous World Services\, Inc. Todos los derechos reservados. \nTodas las reflexiones diarias \n 
URL:https://www.aa87.org/es/evenement/rq0715/2026-07-15/
CATEGORIES:Réflexion Quotidiennes
END:VEVENT
END:VCALENDAR