BEGIN:VCALENDAR
VERSION:2.0
PRODID:-//AA Región 87 - ECPv6.15.17//NONSGML v1.0//EN
CALSCALE:GREGORIAN
METHOD:PUBLISH
X-WR-CALNAME:AA Región 87
X-ORIGINAL-URL:https://www.aa87.org/es/
X-WR-CALDESC:Eventos para AA Región 87
REFRESH-INTERVAL;VALUE=DURATION:PT1H
X-Robots-Tag:noindex
X-PUBLISHED-TTL:PT1H
BEGIN:VTIMEZONE
TZID:America/Toronto
BEGIN:DAYLIGHT
TZOFFSETFROM:-0500
TZOFFSETTO:-0400
TZNAME:EDT
DTSTART:20240310T070000
END:DAYLIGHT
BEGIN:STANDARD
TZOFFSETFROM:-0400
TZOFFSETTO:-0500
TZNAME:EST
DTSTART:20241103T060000
END:STANDARD
BEGIN:DAYLIGHT
TZOFFSETFROM:-0500
TZOFFSETTO:-0400
TZNAME:EDT
DTSTART:20250309T070000
END:DAYLIGHT
BEGIN:STANDARD
TZOFFSETFROM:-0400
TZOFFSETTO:-0500
TZNAME:EST
DTSTART:20251102T060000
END:STANDARD
BEGIN:DAYLIGHT
TZOFFSETFROM:-0500
TZOFFSETTO:-0400
TZNAME:EDT
DTSTART:20260308T070000
END:DAYLIGHT
BEGIN:STANDARD
TZOFFSETFROM:-0400
TZOFFSETTO:-0500
TZNAME:EST
DTSTART:20261101T060000
END:STANDARD
END:VTIMEZONE
BEGIN:VEVENT
DTSTART;VALUE=DATE:20250718
DTEND;VALUE=DATE:20250719
DTSTAMP:20260419T124951
CREATED:20250711T141700Z
LAST-MODIFIED:20250718T013748Z
UID:10022789-1752796800-1752883199@www.aa87.org
SUMMARY:Reflexión diaria 18 de julio
DESCRIPTION:Agradecido por lo que tengo\n18 de julio\n\nDurante este proceso de aprender más acerca de la humildad\, el resultado más profundo era el cambio de nuestra actitud para con Dios. \nDoce pasos y doce traditions\, p. 72 \nHoy en día mis oraciones consisten mayormente en decirle gracias a mi Poder Superior por mi sobriedad y por la maravilla de la generosidad de Dios\, pero también tengo que pedir ayuda y fortaleza para cumplir con Su voluntad para conmigo. Ya no tengo que pedir a Dios que a cada momento me rescate de situaciones en las que caigo por no hacer Su voluntad. Ahora parece que mi gratitud está directamente ligada a la humildad. Mientras yo tenga la humildad para sentirme agradecido por lo que tengo\, Dios continúa dándome lo que necesito. \nDel libro Reflexiones diarias\nCopyright © 1991 por Alcoholics Anonymous World Services\, Inc. Todos los derechos reservados. \nTodas las reflexiones diarias \n\n\n 
URL:https://www.aa87.org/es/evenement/rq0718/2025-07-18/
CATEGORIES:Réflexion Quotidiennes
END:VEVENT
END:VCALENDAR