BEGIN:VCALENDAR
VERSION:2.0
PRODID:-//AA Región 87 - ECPv6.15.17//NONSGML v1.0//EN
CALSCALE:GREGORIAN
METHOD:PUBLISH
X-WR-CALNAME:AA Región 87
X-ORIGINAL-URL:https://www.aa87.org/es/
X-WR-CALDESC:Eventos para AA Región 87
REFRESH-INTERVAL;VALUE=DURATION:PT1H
X-Robots-Tag:noindex
X-PUBLISHED-TTL:PT1H
BEGIN:VTIMEZONE
TZID:America/Toronto
BEGIN:DAYLIGHT
TZOFFSETFROM:-0500
TZOFFSETTO:-0400
TZNAME:EDT
DTSTART:20270314T070000
END:DAYLIGHT
BEGIN:STANDARD
TZOFFSETFROM:-0400
TZOFFSETTO:-0500
TZNAME:EST
DTSTART:20271107T060000
END:STANDARD
BEGIN:DAYLIGHT
TZOFFSETFROM:-0500
TZOFFSETTO:-0400
TZNAME:EDT
DTSTART:20280312T070000
END:DAYLIGHT
BEGIN:STANDARD
TZOFFSETFROM:-0400
TZOFFSETTO:-0500
TZNAME:EST
DTSTART:20281105T060000
END:STANDARD
BEGIN:DAYLIGHT
TZOFFSETFROM:-0500
TZOFFSETTO:-0400
TZNAME:EDT
DTSTART:20290311T070000
END:DAYLIGHT
BEGIN:STANDARD
TZOFFSETFROM:-0400
TZOFFSETTO:-0500
TZNAME:EST
DTSTART:20291104T060000
END:STANDARD
END:VTIMEZONE
BEGIN:VEVENT
DTSTART;VALUE=DATE:20280720
DTEND;VALUE=DATE:20280721
DTSTAMP:20260419T095627
CREATED:20250712T124006Z
LAST-MODIFIED:20250712T130155Z
UID:10022822-1847664000-1847750399@www.aa87.org
SUMMARY:Reflexión diaria 20 de julio
DESCRIPTION:Liberados de defectos\n20 de julio\n\nPero ahora las palabras “Por mí mismo nada soy\, el Padre hace las obras” empezaban a cobrar un significado muy prometedor. \nDoce pasos y doce traditions\, p. 72 \nCuando pongo el Séptimo Paso en acción debo recordar exactamente lo que dice. No dice “Humildemente le pedimos que nos ayudara o que nos diera la fortaleza o el valor para libramos de nuestros defectos”. El Paso dice simplemente que Dios me librará de mis defectos. El único trabajo que tengo que hacer es “pedir humildemente”\, lo cual\, para mí\, significa pedir con el conocimiento de que yo por mí mismo soy nada\, el Padre dentro de mí “hace las obras”. \nDel libro Reflexiones diarias\nCopyright © 1991 por Alcoholics Anonymous World Services\, Inc. Todos los derechos reservados. \nTodas las reflexiones diarias \n\n\n 
URL:https://www.aa87.org/es/evenement/rq0720-2/2028-07-20/
END:VEVENT
END:VCALENDAR