BEGIN:VCALENDAR
VERSION:2.0
PRODID:-//AA Región 87 - ECPv6.15.17//NONSGML v1.0//EN
CALSCALE:GREGORIAN
METHOD:PUBLISH
X-WR-CALNAME:AA Región 87
X-ORIGINAL-URL:https://www.aa87.org/es/
X-WR-CALDESC:Eventos para AA Región 87
REFRESH-INTERVAL;VALUE=DURATION:PT1H
X-Robots-Tag:noindex
X-PUBLISHED-TTL:PT1H
BEGIN:VTIMEZONE
TZID:America/Toronto
BEGIN:DAYLIGHT
TZOFFSETFROM:-0500
TZOFFSETTO:-0400
TZNAME:EDT
DTSTART:20240310T070000
END:DAYLIGHT
BEGIN:STANDARD
TZOFFSETFROM:-0400
TZOFFSETTO:-0500
TZNAME:EST
DTSTART:20241103T060000
END:STANDARD
BEGIN:DAYLIGHT
TZOFFSETFROM:-0500
TZOFFSETTO:-0400
TZNAME:EDT
DTSTART:20250309T070000
END:DAYLIGHT
BEGIN:STANDARD
TZOFFSETFROM:-0400
TZOFFSETTO:-0500
TZNAME:EST
DTSTART:20251102T060000
END:STANDARD
BEGIN:DAYLIGHT
TZOFFSETFROM:-0500
TZOFFSETTO:-0400
TZNAME:EDT
DTSTART:20260308T070000
END:DAYLIGHT
BEGIN:STANDARD
TZOFFSETFROM:-0400
TZOFFSETTO:-0500
TZNAME:EST
DTSTART:20261101T060000
END:STANDARD
END:VTIMEZONE
BEGIN:VEVENT
DTSTART;VALUE=DATE:20250803
DTEND;VALUE=DATE:20250804
DTSTAMP:20260422T063314
CREATED:20250718T014350Z
LAST-MODIFIED:20250801T014134Z
UID:10023107-1754179200-1754265599@www.aa87.org
SUMMARY:Reflexión diaria 3 de agosto
DESCRIPTION:…Ser serviciales\n3 de agosto\n\nNuestro verdadero propósito es ponernos en condiciones para servir al máximo a Dios y a los que nos rodean. \nAlcohólicos Anónimos\, p. 77 \nEstá claro que el plan de Dios para mí se expresa por el amor. Dios me amó lo suficiente como para sacarme de los callejones y de las cárceles para que pudiera participar útilmente en Su mundo. Mi respuesta es amar a todas Sus criaturas por medio del servicio y de mi ejemplo. Le pido a Dios que me ayude a imitar Su amor por mí por medio de mi amor por otros. \nDel libro Reflexiones diarias\nCopyright © 1991 por Alcoholics Anonymous World Services\, Inc. Todos los derechos reservados. \nTodas las reflexiones diarias \n\n\n 
URL:https://www.aa87.org/es/evenement/rq0803/2025-08-03/
CATEGORIES:Réflexion Quotidiennes
END:VEVENT
END:VCALENDAR