BEGIN:VCALENDAR
VERSION:2.0
PRODID:-//AA Región 87 - ECPv6.15.17//NONSGML v1.0//EN
CALSCALE:GREGORIAN
METHOD:PUBLISH
X-WR-CALNAME:AA Región 87
X-ORIGINAL-URL:https://www.aa87.org/es/
X-WR-CALDESC:Eventos para AA Región 87
REFRESH-INTERVAL;VALUE=DURATION:PT1H
X-Robots-Tag:noindex
X-PUBLISHED-TTL:PT1H
BEGIN:VTIMEZONE
TZID:America/Toronto
BEGIN:DAYLIGHT
TZOFFSETFROM:-0500
TZOFFSETTO:-0400
TZNAME:EDT
DTSTART:20240310T070000
END:DAYLIGHT
BEGIN:STANDARD
TZOFFSETFROM:-0400
TZOFFSETTO:-0500
TZNAME:EST
DTSTART:20241103T060000
END:STANDARD
BEGIN:DAYLIGHT
TZOFFSETFROM:-0500
TZOFFSETTO:-0400
TZNAME:EDT
DTSTART:20250309T070000
END:DAYLIGHT
BEGIN:STANDARD
TZOFFSETFROM:-0400
TZOFFSETTO:-0500
TZNAME:EST
DTSTART:20251102T060000
END:STANDARD
BEGIN:DAYLIGHT
TZOFFSETFROM:-0500
TZOFFSETTO:-0400
TZNAME:EDT
DTSTART:20260308T070000
END:DAYLIGHT
BEGIN:STANDARD
TZOFFSETFROM:-0400
TZOFFSETTO:-0500
TZNAME:EST
DTSTART:20261101T060000
END:STANDARD
END:VTIMEZONE
BEGIN:VEVENT
DTSTART;VALUE=DATE:20250813
DTEND;VALUE=DATE:20250814
DTSTAMP:20260419T082607
CREATED:20250722T191743Z
LAST-MODIFIED:20250722T192059Z
UID:10023267-1755043200-1755129599@www.aa87.org
SUMMARY:Reflexión diaria 13 de agosto
DESCRIPTION:Todo de un golpe\n13 de agosto\n\n… y tercero\, habiendo limpiado así los escombros del pasado\, y con nuestro recién adquirido conocimiento de nosotros mismos\, nos ponemos a considerar cómo trabar las mejores relaciones posibles con todos los seres humanos que conozcamos. \nDoce pasos y doce traditions\, p. 75 \nTodo lo que se requería para cumplir con éxito los siete Pasos anteriores: valor\, honestidad\, sinceridad\, disposición y minuciosidad\, se reunieron cuando le hice frente al Octavo Paso. Al principio no podía armarme del valor necesario para esta tarea\, lo cual es el porqué este Paso dice “estuvimos dispuestos…” \nTenía que desarrollar el valor para empezar\, la honestidad para ver en dónde estaba equivocado\, un sincero deseo de poner las cosas en orden\, minuciosidad al hacer la lista y disposición para tomar los riesgos necesarios para obtener una verdadera humildad. Con la ayuda de mi Poder Superior para desarrollar estas virtudes\, completé este Paso y continué moviéndome hacia adelante en mi búsqueda del desarrollo espiritual. \nDel libro Reflexiones diarias\nCopyright © 1991 por Alcoholics Anonymous World Services\, Inc. Todos los derechos reservados. \nTodas las reflexiones diarias
URL:https://www.aa87.org/es/evenement/rq0813/2025-08-13/
CATEGORIES:Réflexion Quotidiennes
END:VEVENT
END:VCALENDAR