BEGIN:VCALENDAR
VERSION:2.0
PRODID:-//AA Región 87 - ECPv6.15.17//NONSGML v1.0//EN
CALSCALE:GREGORIAN
METHOD:PUBLISH
X-WR-CALNAME:AA Región 87
X-ORIGINAL-URL:https://www.aa87.org/es/
X-WR-CALDESC:Eventos para AA Región 87
REFRESH-INTERVAL;VALUE=DURATION:PT1H
X-Robots-Tag:noindex
X-PUBLISHED-TTL:PT1H
BEGIN:VTIMEZONE
TZID:America/Toronto
BEGIN:DAYLIGHT
TZOFFSETFROM:-0500
TZOFFSETTO:-0400
TZNAME:EDT
DTSTART:20250309T070000
END:DAYLIGHT
BEGIN:STANDARD
TZOFFSETFROM:-0400
TZOFFSETTO:-0500
TZNAME:EST
DTSTART:20251102T060000
END:STANDARD
BEGIN:DAYLIGHT
TZOFFSETFROM:-0500
TZOFFSETTO:-0400
TZNAME:EDT
DTSTART:20260308T070000
END:DAYLIGHT
BEGIN:STANDARD
TZOFFSETFROM:-0400
TZOFFSETTO:-0500
TZNAME:EST
DTSTART:20261101T060000
END:STANDARD
BEGIN:DAYLIGHT
TZOFFSETFROM:-0500
TZOFFSETTO:-0400
TZNAME:EDT
DTSTART:20270314T070000
END:DAYLIGHT
BEGIN:STANDARD
TZOFFSETFROM:-0400
TZOFFSETTO:-0500
TZNAME:EST
DTSTART:20271107T060000
END:STANDARD
END:VTIMEZONE
BEGIN:VEVENT
DTSTART;VALUE=DATE:20260903
DTEND;VALUE=DATE:20260904
DTSTAMP:20260419T082759
CREATED:20250727T120301Z
LAST-MODIFIED:20250727T120928Z
UID:10024101-1788393600-1788479999@www.aa87.org
SUMMARY:Reflexión diaria 3 de septiembre
DESCRIPTION:Construir una nueva vida\n3 de septiembre\n\nCreemos que es un irreflexivo el hombre que dice que le basta con abstenerse de beber. \nAlcohólicos Anónimos\, p. 82 \nCuando hago mis reflexiones sobre el Paso Nueve\, veo que la sobriedad física debe ser suficiente para mí. Tengo que recordar la desesperanza que sentía antes de encontrar la sobriedad y lo dispuesto que estaba para hacer todo lo que fuera necesario para conseguirla. No obstante\, la sobriedad física no es suficiente para aquellos que me rodean porque tengo que procurar que el don de Dios sea usado para edificar una nueva vida para mi familia y seres queridos. De igual importancia\, tengo que estar disponible para ayudar a otros que desean la manera de vivir de A.A. \nLe pido a Dios que me ayude a compartir el don de la sobriedad para que aquellos a quienes conozco y amo puedan ver sus beneficios. \nDel libro Reflexiones diarias\nCopyright © 1991 por Alcoholics Anonymous World Services\, Inc. Todos los derechos reservados. \nTodas las reflexiones diarias
URL:https://www.aa87.org/es/evenement/rq0903/2026-09-03/
CATEGORIES:Réflexion Quotidiennes
END:VEVENT
END:VCALENDAR