BEGIN:VCALENDAR
VERSION:2.0
PRODID:-//AA Región 87 - ECPv6.15.17//NONSGML v1.0//EN
CALSCALE:GREGORIAN
METHOD:PUBLISH
X-WR-CALNAME:AA Región 87
X-ORIGINAL-URL:https://www.aa87.org/es/
X-WR-CALDESC:Eventos para AA Región 87
REFRESH-INTERVAL;VALUE=DURATION:PT1H
X-Robots-Tag:noindex
X-PUBLISHED-TTL:PT1H
BEGIN:VTIMEZONE
TZID:America/Toronto
BEGIN:DAYLIGHT
TZOFFSETFROM:-0500
TZOFFSETTO:-0400
TZNAME:EDT
DTSTART:20280312T070000
END:DAYLIGHT
BEGIN:STANDARD
TZOFFSETFROM:-0400
TZOFFSETTO:-0500
TZNAME:EST
DTSTART:20281105T060000
END:STANDARD
BEGIN:DAYLIGHT
TZOFFSETFROM:-0500
TZOFFSETTO:-0400
TZNAME:EDT
DTSTART:20290311T070000
END:DAYLIGHT
BEGIN:STANDARD
TZOFFSETFROM:-0400
TZOFFSETTO:-0500
TZNAME:EST
DTSTART:20291104T060000
END:STANDARD
BEGIN:DAYLIGHT
TZOFFSETFROM:-0500
TZOFFSETTO:-0400
TZNAME:EDT
DTSTART:20300310T070000
END:DAYLIGHT
BEGIN:STANDARD
TZOFFSETFROM:-0400
TZOFFSETTO:-0500
TZNAME:EST
DTSTART:20301103T060000
END:STANDARD
END:VTIMEZONE
BEGIN:VEVENT
DTSTART;VALUE=DATE:20290915
DTEND;VALUE=DATE:20290916
DTSTAMP:20260419T093342
CREATED:20250729T124804Z
LAST-MODIFIED:20250729T125105Z
UID:10024269-1884124800-1884211199@www.aa87.org
SUMMARY:Reflexión diaria 15 de septiembre
DESCRIPTION:Una vida nueva\n15 de septiembre\n\nSí\, hay un substituto y es mucho más que eso. Es la Comunidad de Alcohólicos Anónimos… La vida tendrá al fin un Alcohólicos Anónimos\, p. 152 \nLa vida es mejor sin alcohol. A.A. y la presencia de un Poder Superior me mantienen sobrio\, pero la gracia de Dios hace aún mucho más; trae servicio a mi vida. El contacto con el programa de A.A. me da una nueva y más amplia comprensión de lo que es Alcohólicos Anónimos y de lo que hace\, pero lo más importante\, contribuye a enseñarme quien soy yo: un alcohólico que necesita la constante experiencia del programa de Alcohólicos Anónimos para poder vivir una vida que es un don de mi Poder Superior. \nDel libro Reflexiones diarias\nCopyright © 1991 por Alcoholics Anonymous World Services\, Inc. Todos los derechos reservados. \nTodas las reflexiones diarias
URL:https://www.aa87.org/es/evenement/rq0915/2029-09-15/
CATEGORIES:Réflexion Quotidiennes
END:VEVENT
END:VCALENDAR